{"text_format":"1","workbook":"xlsx","n_sheets":7,"sheets":["说明","通讯录","场费表","进球表","助攻表","二场表","别称对照表"],"not_rendered":{"charts":0,"images":10,"macros":1,"external_links":0,"defined_names":1,"comments":0,"pivot_tables":0},"unopened":[],"bounds":{"document_bytes":16777216,"sheet_cells":100000,"rows_first":2000,"rows_last":500,"rows_between":2000,"halvings":0,"cell_chars":16384,"cell_head_chars":4096},"cells_cut":0,"cells_raw":0,"read":"whole","date_system":"1900"}

{"sheet":"说明","index":0,"n_rows":91,"n_cols":47,"rows_kept":91,"cut":false,"hidden":false,"merged":[[4,8,5,47],[17,46,17,54],[7,18,7,37],[16,46,16,54],[9,18,9,37],[11,18,11,37]]}
[]
[]
[]
[]
[null,null,null,null,null,null,null,null,"足球球队管理工具"]
[]
[]
[null,null,null,null,null,null,null,null,null,null,null,null,null,null,null,null,null,null,"v 2.0"]
[]
[null,null,null,null,null,null,null,null,null,null,null,null,null,null,null,null,null,null,"版本日期：2020-7-4"]
[]
[null,null,null,null,null,null,null,null,null,null,null,null,null,null,null,null,null,null,"授权：免费使用"]
[]
[]
[]
[]
[null,null,null,null,null,null,null,null,null,null,null,null,null,null,null,null,null,null,null,null,null,null,null,null,null,null,null,null,null,null,null,null,null,null,null,null,null,null,null,null,null,null,null,null,null,null,"作者：施心疯"]
[null,null,null,null,null,null,null,null,null,null,null,null,null,null,null,null,null,null,null,null,null,null,null,null,null,null,null,null,null,null,null,null,null,null,null,null,null,null,null,null,null,null,null,null,null,null,"@乐鱼体育"]
[]
[]
[null,"使用说明："]
[]
[null,null,"注意事项："]
[null,null,null,null,"1、请勿使用Office Excel之外的工具编辑。其他工具打开仅做查看，不要修改保存，以防破坏本工具中的宏。"]
[null,null,null,null,"2、本工具分为兼容版（xls版）和稳定版（xlsm版）。区别在于Excel版本不同，低于Excel2007只能使用兼容版。"]
[null,null,null,null,"3、本工具需要开启宏。（详见文末说明）"]
[null,null,null,null,"4、本工具做了单元格锁定，不允许添加删除行和列，不允许修改标题内容。"]
[null,null,null,null,"5、使用本工具前需要对球队名单进行初始化。"]
[null,null,null,null,"6、日常记录可以使用“场费表中”的“比赛信息录入助手”功能。"]
[null,null,null,null,"7、本工具最多可以管理92位球星的球队。有需要超过92位球星的版本，请私信我。"]
[]
[null,null,"一、球队初始化"]
[null,null,null,null,"1、在“通讯录”表中进行初始化，每行一个球星，可以修改的资料有：“球星名称”、“号码”、“电话”、“尺码”、“预交费”；"]
[null,null,null,null,"2、通讯录表除了可以修改球星资料，还带有预交费、参赛场次统计、进球数统计、助攻数统计等功能。"]
[null,null,null,null,"3、其中“预交费”数据仅在需要管理预交费时填写，没有这个需求的球队可以忽略；"]
[null,null,null,null,null,null,"3.1、各个球星的预交费单独核算，类似与会员卡机制；"]
[null,null,null,null,null,null,"3.2、一般球队在赛季前发起预交费；"]
[null,null,null,null,null,null,"3.3、在进行比赛或发起支出时，才会从参赛的球星的预交费账户实际扣除预交费；"]
[null,null,null,null,null,null,"3.4、当某位球星的预交费账户扣完时，可以单独补充预交费，方法为直接修改“预交费”金额为原预交费+新补充预交费。"]
[null,null,null,null,null,null,"举例：某球星赛季初预交400元，此时预交费填写400。"]
[null,null,null,null,null,null,null,null,null,null,"但是出勤率很高，半个赛季就扣完了400元预交费。此时预交费剩余可能仅剩10元。"]
[null,null,null,null,null,null,null,null,null,null,"所以他又单独补充了200预交费，此时只需要操作改写预交费为400+200=600元。修改后预交费剩余会有210元。"]
[null,null,null,null,"4、球星名称和号码会在后面的场费表、进球表、助攻表中出现。"]
[]
[null,null,"二、进行比赛"]
[null,null,null,null,"1、在场费表中进行比赛记录。"]
[null,null,null,null,"2、切换到场费表，左侧列出球星名单，右侧每一列表示一场已进行的比赛。每一列的前几行可以记录比赛概要信息，包括：日期、时间、对手、场地、赛果、场费。"]
[null,null,null,null,"3、有参赛的每位球星在比赛列对应的单元格填中写该场比赛的场费开销，一般业余比赛守门员免单则填写0。"]
[null,null,null,null,null,null,"注：填写0表示参赛但不需要扣场费，不填写内容表示球星未参赛。"]
[null,null,null,null,"4、可以使用左上方的“比赛信息录入助手”快捷记录比赛详细信息。"]
[null,null,null,null,null,null,"4.1、光标选中要做记录的比赛列，点击比赛信息录入助手，弹出窗口；"]
[null,null,null,null,null,null,"4.2、弹出窗口的比赛信息会自动获取该比赛已录入的概要信息；"]
[null,null,null,null,null,null,"4.3、场费下拉菜单为本场比赛的总开销。"]
[null,null,null,null,null,null,"4.4、右侧列出球星的名字，前方依次表示：是否参赛、是否已缴费、进球数和助攻数。"]
[null,null,null,null,null,null,"4.5、可以直接粘贴微信群中的报名表（或接龙表）到“根据名单自动勾选参赛人员”框中，然后点击自动识别名单。"]
[null,null,null,null,null,null,null,null,null,"本工具会根据球星名称在报名表中的出现情况自动勾选球星未已参赛。"]
[null,null,null,null,null,null,"4.6、如果大部分为预交费球星，可以使用右侧的“全部已交”来标记球星已交费。"]
[null,null,null,null,null,null,"4.7、分别记录进球数和助攻数；"]
[null,null,null,null,null,null,"4.8、如果需要均摊场费，点击“预算人数和场费”，系统会根据场费和参赛人数自动计算实际人均费用。"]
[null,null,null,null,null,null,"4.9、如果实际费用有出入，可以修改实际人均输入框。"]
[null,null,null,null,null,null,"4.10、点击“按人均记录表格”按钮可以将本窗口中记录的参赛名单、交费名单、进球数、助攻数更新场费表、进球表、助攻表。"]
[null,null,null,null,null,null,"4.11、如果产生了费用，但是球星未交费，在场费表中的场费开销会标记为黄色背景（仅做样式标记，不会对实际统计造成影响）"]
[null,null,null,null,"5、切换到进球表，显示格式类似于场费表，在参赛球星对应的比赛单元格中记录的是进球数。"]
[null,null,null,null,"6、切换到助攻表，显示格式类似于场费表，在参赛球星对应的比赛单元格中记录的是助攻数。"]
[]
[null,null,"三、数据维护"]
[null,null,null,null,"1、可以手动修改场费表、进球表、助攻表中每个球星的单场数据。"]
[null,null,null,null,"2、赛季结束后，建议把表格另存为新赛季的名称，然后清空场费表中的比赛和场费记录、进球表中的进球记录、助攻表中的助攻纪录。"]
[null,null,null,null,"3、如果上赛季有预交剩余，可以作为本赛季的预交费填入。"]
[null,null,null,null,"4、继续进行比赛的步骤，可以开启新赛季的征程。"]
[null,null,null,null,"5、别称对照表是配合比赛信息录入助手中自动识别名单使用的，每位球星可以设置5个别称，当报名表中出现球星的别称时，就会判断球星有参赛，可以帮助领队快速勾选。"]
[]
[]
[null,null,"四、关于开启宏"]
[null,null,null,null,"1、宏可以理解为基于OfficeExcel的脚本程序。本工具基于Excel的宏实现。"]
[null,null,null,null,"2、因为安全考虑，office默认关闭了Excel的宏支持，需要手动开启。"]
[null,null,null,null,"3、Excel2007以下版本开启宏的步骤："]
[null,null,null,null,null,null,"3.1、从菜单栏开始，依次进入「工具」→「宏」→「安全性」。"]
[null,null,null,null,null,null,"3.2、在安全性界面，将安全级设置为「中。您可以选择是否允许可能不安全的宏。」，并确定。"]
[null,null,null,null,null,null,"3.3、关闭Excel，打开一个含有宏的Excel，在弹出的提示框中选择「启用宏」即可。"]
[]
[null,null,null,null,"4、Excel2007或以上版本开启宏的步骤："]
[null,null,null,null,null,null,"4.1、点击的 菜单 按钮"]
[null,null,null,null,null,null,"4.2、然后选择 Excel 选项；"]
[null,null,null,null,null,null,"4.3、点击软件左边的“信任中心”"]
[null,null,null,null,null,null,"4.4、在信任中心页面点击“信任设置”"]
[null,null,null,null,null,null,"4.5、然后我们就可以看到excel2007的宏设置选项了"]
[null,null,null,null,null,null,"4.6、现在勾选“启用所有宏”最后点击“确定”就可以了"]
[]
[null,null,"五、本说明阅读完成后可以删除"]
[null,null,null,null,"在低配置的电脑上，删除本说明可以有助于少量地提升工具执行速度"]

{"sheet":"通讯录","index":1,"n_rows":96,"n_cols":9,"rows_kept":96,"cut":false,"hidden":false,"merged":[[0,0,0,8]]}
["足球球队管理工具汇总表"]
[null,null,null,"参与预交费人数",{"$f":"COUNT(E5:E55)","v":25},"活动次数",{"$f":"场费表!C2","v":"1"},"总进球","总助攻"]
[null,null,null,"剩余预交费",{"$f":"SUM(F5:F96)","v":199888.19999999998},null,null,{"$f":"进球表!C2","v":"3球"},{"$f":"助攻表!C2","v":"2球"}]
["球星名称","号码","电话","尺码","预交费","预交剩余","参加次数","进球数","助攻数"]
["施心疯","44",18648801440,"L",null,{"$f":"场费表!B9","v":"--"},{"$f":"COUNTA(场费表!D9:BK9)","v":1},{"$f":"进球表!B7","v":1},{"$f":"助攻表!B7","v":1}]
["C罗","7","13888888807","XXXL",8000,{"$f":"场费表!B10","v":7991.4},{"$f":"COUNTA(场费表!D10:BK10)","v":1},{"$f":"进球表!B8","v":1},{"$f":"助攻表!B8","v":0}]
["梅西","10","13888888810","L",8000,{"$f":"场费表!B11","v":7991.4},{"$f":"COUNTA(场费表!D11:BK11)","v":1},{"$f":"进球表!B9","v":0},{"$f":"助攻表!B9","v":1}]
["范尼","9","13888888809","XXXXL",8000,{"$f":"场费表!B12","v":7991.4},{"$f":"COUNTA(场费表!D12:BK12)","v":1},{"$f":"进球表!B10","v":1},{"$f":"助攻表!B10","v":0}]
["斯科尔斯","18","13888888818","L",8000,{"$f":"场费表!B13","v":7991.4},{"$f":"COUNTA(场费表!D13:BK13)","v":1},{"$f":"进球表!B11","v":0},{"$f":"助攻表!B11","v":0}]
["哈维","8","18888888808","XL",8000,{"$f":"场费表!B14","v":7991.4},{"$f":"COUNTA(场费表!D14:BK14)","v":1},{"$f":"进球表!B12","v":0},{"$f":"助攻表!B12","v":0}]
["维埃拉","4","13888888804","XXXXL",8000,{"$f":"场费表!B15","v":7991.4},{"$f":"COUNTA(场费表!D15:BK15)","v":1},{"$f":"进球表!B13","v":0},{"$f":"助攻表!B13","v":0}]
["费迪南","5","13888888805","XXXXL",8000,{"$f":"场费表!B16","v":7991.4},{"$f":"COUNTA(场费表!D16:BK16)","v":1},{"$f":"进球表!B14","v":0},{"$f":"助攻表!B14","v":0}]
["特里","6","13888888806","XXXL",8000,{"$f":"场费表!B17","v":8000},{"$f":"COUNTA(场费表!D17:BK17)","v":0},{"$f":"进球表!B15","v":0},{"$f":"助攻表!B15","v":0}]
["卡纳瓦罗","17","13888888817","XXL",8000,{"$f":"场费表!B18","v":7991.4},{"$f":"COUNTA(场费表!D18:BK18)","v":1},{"$f":"进球表!B16","v":0},{"$f":"助攻表!B16","v":0}]
["范德萨","1","13888888801","XXXXXL",8000,{"$f":"场费表!B19","v":8000},{"$f":"COUNTA(场费表!D19:BK19)","v":0},{"$f":"进球表!B17","v":0},{"$f":"助攻表!B17","v":0}]
["索尔斯卡亚","20","13888888820",null,8000,{"$f":"场费表!B20","v":8000},{"$f":"COUNTA(场费表!D20:BK20)","v":0},{"$f":"进球表!B18","v":0},{"$f":"助攻表!B18","v":0}]
["德赫亚",null,"13",null,8000,{"$f":"场费表!B21","v":7991.4},{"$f":"COUNTA(场费表!D21:BK21)","v":1},{"$f":"进球表!B19","v":0},{"$f":"助攻表!B19","v":0}]
["加里内维尔",null,null,null,8000,{"$f":"场费表!B22","v":8000},{"$f":"COUNTA(场费表!D22:BK22)","v":0},{"$f":"进球表!B20","v":0},{"$f":"助攻表!B20","v":0}]
["埃弗拉",null,null,null,8000,{"$f":"场费表!B23","v":7991.4},{"$f":"COUNTA(场费表!D23:BK23)","v":1},{"$f":"进球表!B21","v":0},{"$f":"助攻表!B21","v":0}]
["维迪奇",null,null,null,8000,{"$f":"场费表!B24","v":8000},{"$f":"COUNTA(场费表!D24:BK24)","v":0},{"$f":"进球表!B22","v":0},{"$f":"助攻表!B22","v":0}]
["斯塔姆",null,null,null,8000,{"$f":"场费表!B25","v":7991.4},{"$f":"COUNTA(场费表!D25:BK25)","v":1},{"$f":"进球表!B23","v":0},{"$f":"助攻表!B23","v":0}]
["贝克汉姆",null,null,null,8000,{"$f":"场费表!B26","v":7991.4},{"$f":"COUNTA(场费表!D26:BK26)","v":1},{"$f":"进球表!B24","v":0},{"$f":"助攻表!B24","v":0}]
["吉格斯",null,null,null,8000,{"$f":"场费表!B27","v":8000},{"$f":"COUNTA(场费表!D27:BK27)","v":0},{"$f":"进球表!B25","v":0},{"$f":"助攻表!B25","v":0}]
["朴三肺",null,null,null,8000,{"$f":"场费表!B28","v":8000},{"$f":"COUNTA(场费表!D28:BK28)","v":0},{"$f":"进球表!B26","v":0},{"$f":"助攻表!B26","v":0}]
["特维斯",null,null,null,8000,{"$f":"场费表!B29","v":7991.4},{"$f":"COUNTA(场费表!D29:BK29)","v":1},{"$f":"进球表!B27","v":0},{"$f":"助攻表!B27","v":0}]
["里奥",null,null,null,8000,{"$f":"场费表!B30","v":8000},{"$f":"COUNTA(场费表!D30:BK30)","v":0},{"$f":"进球表!B28","v":0},{"$f":"助攻表!B28","v":0}]
["斯塔姆",null,null,null,8000,{"$f":"场费表!B31","v":8000},{"$f":"COUNTA(场费表!D31:BK31)","v":0},{"$f":"进球表!B29","v":0},{"$f":"助攻表!B29","v":0}]
["海因策",null,null,null,8000,{"$f":"场费表!B32","v":8000},{"$f":"COUNTA(场费表!D32:BK32)","v":0},{"$f":"进球表!B30","v":0},{"$f":"助攻表!B30","v":0}]
["埃尔文",null,null,null,8000,{"$f":"场费表!B33","v":8000},{"$f":"COUNTA(场费表!D33:BK33)","v":0},{"$f":"进球表!B31","v":0},{"$f":"助攻表!B31","v":0}]
["保罗因斯",null,null,null,8000,{"$f":"场费表!B34","v":8000},{"$f":"COUNTA(场费表!D34:BK34)","v":0},{"$f":"进球表!B32","v":0},{"$f":"助攻表!B32","v":0}]
[null,null,null,null,null,{"$f":"场费表!B35","v":"--"},{"$f":"COUNTA(场费表!D35:BK35)","v":0},{"$f":"进球表!B33","v":0},{"$f":"助攻表!B33","v":0}]
[null,null,null,null,null,{"$f":"场费表!B36","v":"--"},{"$f":"COUNTA(场费表!D36:BK36)","v":0},{"$f":"进球表!B34","v":0},{"$f":"助攻表!B34","v":0}]
[null,null,null,null,null,{"$f":"场费表!B37","v":"--"},{"$f":"COUNTA(场费表!D37:BK37)","v":0},{"$f":"进球表!B35","v":0},{"$f":"助攻表!B35","v":0}]
[null,null,null,null,null,{"$f":"场费表!B38","v":"--"},{"$f":"COUNTA(场费表!D38:BK38)","v":0},{"$f":"进球表!B36","v":0},{"$f":"助攻表!B36","v":0}]
[null,null,null,null,null,{"$f":"场费表!B39","v":"--"},{"$f":"COUNTA(场费表!D39:BK39)","v":0},{"$f":"进球表!B37","v":0},{"$f":"助攻表!B37","v":0}]
[null,null,null,null,null,{"$f":"场费表!B40","v":"--"},{"$f":"COUNTA(场费表!D40:BK40)","v":0},{"$f":"进球表!B38","v":0},{"$f":"助攻表!B38","v":0}]
[null,null,null,null,null,{"$f":"场费表!B41","v":"--"},{"$f":"COUNTA(场费表!D41:BK41)","v":0},{"$f":"进球表!B39","v":0},{"$f":"助攻表!B39","v":0}]
[null,null,null,null,null,{"$f":"场费表!B42","v":"--"},{"$f":"COUNTA(场费表!D42:BK42)","v":0},{"$f":"进球表!B40","v":0},{"$f":"助攻表!B40","v":0}]
[null,null,null,null,null,{"$f":"场费表!B43","v":"--"},{"$f":"COUNTA(场费表!D43:BK43)","v":0},{"$f":"进球表!B41","v":0},{"$f":"助攻表!B41","v":0}]
[null,null,null,null,null,{"$f":"场费表!B44","v":"--"},{"$f":"COUNTA(场费表!D44:BK44)","v":0},{"$f":"进球表!B42","v":0},{"$f":"助攻表!B42","v":0}]
[null,null,null,null,null,{"$f":"场费表!B45","v":"--"},{"$f":"COUNTA(场费表!D45:BK45)","v":0},{"$f":"进球表!B43","v":0},{"$f":"助攻表!B43","v":0}]
[null,null,null,null,null,{"$f":"场费表!B46","v":"--"},{"$f":"COUNTA(场费表!D46:BK46)","v":0},{"$f":"进球表!B44","v":0},{"$f":"助攻表!B44","v":0}]
[null,null,null,null,null,{"$f":"场费表!B47","v":"--"},{"$f":"COUNTA(场费表!D47:BK47)","v":0},{"$f":"进球表!B45","v":0},{"$f":"助攻表!B45","v":0}]
[null,null,null,null,null,{"$f":"场费表!B48","v":"--"},{"$f":"COUNTA(场费表!D48:BK48)","v":0},{"$f":"进球表!B46","v":0},{"$f":"助攻表!B46","v":0}]
[null,null,null,null,null,{"$f":"场费表!B49","v":"--"},{"$f":"COUNTA(场费表!D49:BK49)","v":0},{"$f":"进球表!B47","v":0},{"$f":"助攻表!B47","v":0}]
[null,null,null,null,null,{"$f":"场费表!B50","v":"--"},{"$f":"COUNTA(场费表!D50:BK50)","v":0},{"$f":"进球表!B48","v":0},{"$f":"助攻表!B48","v":0}]
[null,null,null,null,null,{"$f":"场费表!B51","v":"--"},{"$f":"COUNTA(场费表!D51:BK51)","v":0},{"$f":"进球表!B49","v":0},{"$f":"助攻表!B49","v":0}]
[null,null,null,null,null,{"$f":"场费表!B52","v":"--"},{"$f":"COUNTA(场费表!D52:BK52)","v":0},{"$f":"进球表!B50","v":0},{"$f":"助攻表!B50","v":0}]
[null,null,null,null,null,{"$f":"场费表!B53","v":"--"},{"$f":"COUNTA(场费表!D53:BK53)","v":0},{"$f":"进球表!B51","v":0},{"$f":"助攻表!B51","v":0}]
[null,null,null,null,null,{"$f":"场费表!B54","v":"--"},{"$f":"COUNTA(场费表!D54:BK54)","v":0},{"$f":"进球表!B52","v":0},{"$f":"助攻表!B52","v":0}]
[null,null,null,null,null,{"$f":"场费表!B55","v":"--"},{"$f":"COUNTA(场费表!D55:BK55)","v":0},{"$f":"进球表!B53","v":0},{"$f":"助攻表!B53","v":0}]
[null,null,null,null,null,{"$f":"场费表!B56","v":"--"},{"$f":"COUNTA(场费表!D56:BK56)","v":0},{"$f":"进球表!B54","v":0},{"$f":"助攻表!B54","v":0}]
[null,null,null,null,null,{"$f":"场费表!B57","v":"--"},{"$f":"COUNTA(场费表!D57:BK57)","v":0},{"$f":"进球表!B55","v":0},{"$f":"助攻表!B55","v":0}]
[null,null,null,null,null,{"$f":"场费表!B58","v":"--"},{"$f":"COUNTA(场费表!D58:BK58)","v":0},{"$f":"进球表!B56","v":0},{"$f":"助攻表!B56","v":0}]
[null,null,null,null,null,{"$f":"场费表!B59","v":"--"},{"$f":"COUNTA(场费表!D59:BK59)","v":0},{"$f":"进球表!B57","v":0},{"$f":"助攻表!B57","v":0}]
[null,null,null,null,null,{"$f":"场费表!B60","v":"--"},{"$f":"COUNTA(场费表!D60:BK60)","v":0},{"$f":"进球表!B58","v":0},{"$f":"助攻表!B58","v":0}]
[null,null,null,null,null,{"$f":"场费表!B61","v":"--"},{"$f":"COUNTA(场费表!D61:BK61)","v":0},{"$f":"进球表!B59","v":0},{"$f":"助攻表!B59","v":0}]
[null,null,null,null,null,{"$f":"场费表!B62","v":"--"},{"$f":"COUNTA(场费表!D62:BK62)","v":0},{"$f":"进球表!B60","v":0},{"$f":"助攻表!B60","v":0}]
[null,null,null,null,null,{"$f":"场费表!B63","v":"--"},{"$f":"COUNTA(场费表!D63:BK63)","v":0},{"$f":"进球表!B61","v":0},{"$f":"助攻表!B61","v":0}]
[null,null,null,null,null,{"$f":"场费表!B64","v":"--"},{"$f":"COUNTA(场费表!D64:BK64)","v":0},{"$f":"进球表!B62","v":0},{"$f":"助攻表!B62","v":0}]
[null,null,null,null,null,{"$f":"场费表!B65","v":"--"},{"$f":"COUNTA(场费表!D65:BK65)","v":0},{"$f":"进球表!B63","v":0},{"$f":"助攻表!B63","v":0}]
[null,null,null,null,null,{"$f":"场费表!B66","v":"--"},{"$f":"COUNTA(场费表!D66:BK66)","v":0},{"$f":"进球表!B64","v":0},{"$f":"助攻表!B64","v":0}]
[null,null,null,null,null,{"$f":"场费表!B67","v":"--"},{"$f":"COUNTA(场费表!D67:BK67)","v":0},{"$f":"进球表!B65","v":0},{"$f":"助攻表!B65","v":0}]
[null,null,null,null,null,{"$f":"场费表!B68","v":"--"},{"$f":"COUNTA(场费表!D68:BK68)","v":0},{"$f":"进球表!B66","v":0},{"$f":"助攻表!B66","v":0}]
[null,null,null,null,null,{"$f":"场费表!B69","v":"--"},{"$f":"COUNTA(场费表!D69:BK69)","v":0},{"$f":"进球表!B67","v":0},{"$f":"助攻表!B67","v":0}]
[null,null,null,null,null,{"$f":"场费表!B70","v":"--"},{"$f":"COUNTA(场费表!D70:BK70)","v":0},{"$f":"进球表!B68","v":0},{"$f":"助攻表!B68","v":0}]
[null,null,null,null,null,{"$f":"场费表!B71","v":"--"},{"$f":"COUNTA(场费表!D71:BK71)","v":0},{"$f":"进球表!B69","v":0},{"$f":"助攻表!B69","v":0}]
[null,null,null,null,null,{"$f":"场费表!B72","v":"--"},{"$f":"COUNTA(场费表!D72:BK72)","v":0},{"$f":"进球表!B70","v":0},{"$f":"助攻表!B70","v":0}]
[null,null,null,null,null,{"$f":"场费表!B73","v":"--"},{"$f":"COUNTA(场费表!D73:BK73)","v":0},{"$f":"进球表!B71","v":0},{"$f":"助攻表!B71","v":0}]
[null,null,null,null,null,{"$f":"场费表!B74","v":"--"},{"$f":"COUNTA(场费表!D74:BK74)","v":0},{"$f":"进球表!B72","v":0},{"$f":"助攻表!B72","v":0}]
[null,null,null,null,null,{"$f":"场费表!B75","v":"--"},{"$f":"COUNTA(场费表!D75:BK75)","v":0},{"$f":"进球表!B73","v":0},{"$f":"助攻表!B73","v":0}]
[null,null,null,null,null,{"$f":"场费表!B76","v":"--"},{"$f":"COUNTA(场费表!D76:BK76)","v":0},{"$f":"进球表!B74","v":0},{"$f":"助攻表!B74","v":0}]
[null,null,null,null,null,{"$f":"场费表!B77","v":"--"},{"$f":"COUNTA(场费表!D77:BK77)","v":0},{"$f":"进球表!B75","v":0},{"$f":"助攻表!B75","v":0}]
[null,null,null,null,null,{"$f":"场费表!B78","v":"--"},{"$f":"COUNTA(场费表!D78:BK78)","v":0},{"$f":"进球表!B76","v":0},{"$f":"助攻表!B76","v":0}]
[null,null,null,null,null,{"$f":"场费表!B79","v":"--"},{"$f":"COUNTA(场费表!D79:BK79)","v":0},{"$f":"进球表!B77","v":0},{"$f":"助攻表!B77","v":0}]
[null,null,null,null,null,{"$f":"场费表!B80","v":"--"},{"$f":"COUNTA(场费表!D80:BK80)","v":0},{"$f":"进球表!B78","v":0},{"$f":"助攻表!B78","v":0}]
[null,null,null,null,null,{"$f":"场费表!B81","v":"--"},{"$f":"COUNTA(场费表!D81:BK81)","v":0},{"$f":"进球表!B79","v":0},{"$f":"助攻表!B79","v":0}]
[null,null,null,null,null,{"$f":"场费表!B82","v":"--"},{"$f":"COUNTA(场费表!D82:BK82)","v":0},{"$f":"进球表!B80","v":0},{"$f":"助攻表!B80","v":0}]
[null,null,null,null,null,{"$f":"场费表!B83","v":"--"},{"$f":"COUNTA(场费表!D83:BK83)","v":0},{"$f":"进球表!B81","v":0},{"$f":"助攻表!B81","v":0}]
[null,null,null,null,null,{"$f":"场费表!B84","v":"--"},{"$f":"COUNTA(场费表!D84:BK84)","v":0},{"$f":"进球表!B82","v":0},{"$f":"助攻表!B82","v":0}]
[null,null,null,null,null,{"$f":"场费表!B85","v":"--"},{"$f":"COUNTA(场费表!D85:BK85)","v":0},{"$f":"进球表!B83","v":0},{"$f":"助攻表!B83","v":0}]
[null,null,null,null,null,{"$f":"场费表!B86","v":"--"},{"$f":"COUNTA(场费表!D86:BK86)","v":0},{"$f":"进球表!B84","v":0},{"$f":"助攻表!B84","v":0}]
[null,null,null,null,null,{"$f":"场费表!B87","v":"--"},{"$f":"COUNTA(场费表!D87:BK87)","v":0},{"$f":"进球表!B85","v":0},{"$f":"助攻表!B85","v":0}]
[null,null,null,null,null,{"$f":"场费表!B88","v":"--"},{"$f":"COUNTA(场费表!D88:BK88)","v":0},{"$f":"进球表!B86","v":0},{"$f":"助攻表!B86","v":0}]
[null,null,null,null,null,{"$f":"场费表!B89","v":"--"},{"$f":"COUNTA(场费表!D89:BK89)","v":0},{"$f":"进球表!B87","v":0},{"$f":"助攻表!B87","v":0}]
[null,null,null,null,null,{"$f":"场费表!B90","v":"--"},{"$f":"COUNTA(场费表!D90:BK90)","v":0},{"$f":"进球表!B88","v":0},{"$f":"助攻表!B88","v":0}]
[null,null,null,null,null,{"$f":"场费表!B91","v":"--"},{"$f":"COUNTA(场费表!D91:BK91)","v":0},{"$f":"进球表!B89","v":0},{"$f":"助攻表!B89","v":0}]
[null,null,null,null,null,{"$f":"场费表!B92","v":"--"},{"$f":"COUNTA(场费表!D92:BK92)","v":0},{"$f":"进球表!B90","v":0},{"$f":"助攻表!B90","v":0}]
[null,null,null,null,null,{"$f":"场费表!B93","v":"--"},{"$f":"COUNTA(场费表!D93:BK93)","v":0},{"$f":"进球表!B91","v":0},{"$f":"助攻表!B91","v":0}]
[null,null,null,null,null,{"$f":"场费表!B94","v":"--"},{"$f":"COUNTA(场费表!D94:BK94)","v":0},{"$f":"进球表!B92","v":0},{"$f":"助攻表!B92","v":0}]
[null,null,null,null,null,{"$f":"场费表!B95","v":"--"},{"$f":"COUNTA(场费表!D95:BK95)","v":0},{"$f":"进球表!B93","v":0},{"$f":"助攻表!B93","v":0}]
[null,null,null,null,null,{"$f":"场费表!B96","v":"--"},{"$f":"COUNTA(场费表!D96:BK96)","v":0},{"$f":"进球表!B94","v":0},{"$f":"助攻表!B94","v":0}]
[null,null,null,null,null,{"$f":"场费表!B97","v":"--"},{"$f":"COUNTA(场费表!D97:BK97)","v":0},{"$f":"进球表!B95","v":0},{"$f":"助攻表!B95","v":0}]
[null,null,null,null,null,{"$f":"场费表!B98","v":"--"},{"$f":"COUNTA(场费表!D98:BK98)","v":0},{"$f":"进球表!B96","v":0},{"$f":"助攻表!B96","v":0}]
[null,null,null,null,null,{"$f":"场费表!B99","v":"--"},{"$f":"COUNTA(场费表!D99:BK99)","v":0},{"$f":"进球表!B97","v":0},{"$f":"助攻表!B97","v":0}]
[null,null,null,null,null,{"$f":"场费表!B100","v":"--"},{"$f":"COUNTA(场费表!D100:BK100)","v":0},{"$f":"进球表!B98","v":0},{"$f":"助攻表!B98","v":0}]

{"sheet":"场费表","index":2,"n_rows":100,"n_cols":4,"rows_kept":100,"cut":false,"hidden":false,"merged":[[0,0,0,62],[2,0,7,0],[2,1,7,1]]}
["足球球队管理工具 - 场费表"]
[null,"活动次数",{"$f":"CONCATENATE(COUNTA(D8:BK8))","v":"1"}]
["报名者\n备注：有数字就表示参赛\n守门员填0","账户剩余\n\n按填写的场费扣余额","日期","2020-07-04"]
[null,null,"时间","20:30:00"]
[null,null,"对手","未知"]
[null,null,"场地","邕江郡2号"]
[null,null,"赛果","3:1"]
[null,null,"场费",120]
[{"$f":"IF(LEN(通讯录!A5)>0,CONCATENATE(\"[\",IF(LEN(通讯录!B5)=0,\"--\",通讯录!B5),\"]\",通讯录!A5),\"\")","v":"[44]施心疯"},{"$f":"IF(通讯录!E5>0,通讯录!E5-(SUM(D9:BK9)),\"--\")","v":"--"},{"$f":"CONCATENATE(\"参加\",COUNTA(D9:BK9),\"次\")","v":"参加1次"},8.6]
[{"$f":"IF(LEN(通讯录!A6)>0,CONCATENATE(\"[\",IF(LEN(通讯录!B6)=0,\"--\",通讯录!B6),\"]\",通讯录!A6),\"\")","v":"[7]C罗"},{"$f":"IF(通讯录!E6>0,通讯录!E6-(SUM(D10:BK10)),\"--\")","v":7991.4},{"$f":"CONCATENATE(\"参加\",COUNTA(D10:BK10),\"次\")","v":"参加1次"},8.6]
[{"$f":"IF(LEN(通讯录!A7)>0,CONCATENATE(\"[\",IF(LEN(通讯录!B7)=0,\"--\",通讯录!B7),\"]\",通讯录!A7),\"\")","v":"[10]梅西"},{"$f":"IF(通讯录!E7>0,通讯录!E7-(SUM(D11:BK11)),\"--\")","v":7991.4},"参加1次",8.6]
[{"$f":"IF(LEN(通讯录!A8)>0,CONCATENATE(\"[\",IF(LEN(通讯录!B8)=0,\"--\",通讯录!B8),\"]\",通讯录!A8),\"\")","v":"[9]范尼"},{"$f":"IF(通讯录!E8>0,通讯录!E8-(SUM(D12:BK12)),\"--\")","v":7991.4},"参加1次",8.6]
[{"$f":"IF(LEN(通讯录!A9)>0,CONCATENATE(\"[\",IF(LEN(通讯录!B9)=0,\"--\",通讯录!B9),\"]\",通讯录!A9),\"\")","v":"[18]斯科尔斯"},{"$f":"IF(通讯录!E9>0,通讯录!E9-(SUM(D13:BK13)),\"--\")","v":7991.4},"参加1次",8.6]
[{"$f":"IF(LEN(通讯录!A10)>0,CONCATENATE(\"[\",IF(LEN(通讯录!B10)=0,\"--\",通讯录!B10),\"]\",通讯录!A10),\"\")","v":"[8]哈维"},{"$f":"IF(通讯录!E10>0,通讯录!E10-(SUM(D14:BK14)),\"--\")","v":7991.4},"参加1次",8.6]
[{"$f":"IF(LEN(通讯录!A11)>0,CONCATENATE(\"[\",IF(LEN(通讯录!B11)=0,\"--\",通讯录!B11),\"]\",通讯录!A11),\"\")","v":"[4]维埃拉"},{"$f":"IF(通讯录!E11>0,通讯录!E11-(SUM(D15:BK15)),\"--\")","v":7991.4},"参加1次",8.6]
[{"$f":"IF(LEN(通讯录!A12)>0,CONCATENATE(\"[\",IF(LEN(通讯录!B12)=0,\"--\",通讯录!B12),\"]\",通讯录!A12),\"\")","v":"[5]费迪南"},{"$f":"IF(通讯录!E12>0,通讯录!E12-(SUM(D16:BK16)),\"--\")","v":7991.4},"参加1次",8.6]
[{"$f":"IF(LEN(通讯录!A13)>0,CONCATENATE(\"[\",IF(LEN(通讯录!B13)=0,\"--\",通讯录!B13),\"]\",通讯录!A13),\"\")","v":"[6]特里"},{"$f":"IF(通讯录!E13>0,通讯录!E13-(SUM(D17:BK17)),\"--\")","v":8000},"参加0次"]
[{"$f":"IF(LEN(通讯录!A14)>0,CONCATENATE(\"[\",IF(LEN(通讯录!B14)=0,\"--\",通讯录!B14),\"]\",通讯录!A14),\"\")","v":"[17]卡纳瓦罗"},{"$f":"IF(通讯录!E14>0,通讯录!E14-(SUM(D18:BK18)),\"--\")","v":7991.4},"参加1次",8.6]
[{"$f":"IF(LEN(通讯录!A15)>0,CONCATENATE(\"[\",IF(LEN(通讯录!B15)=0,\"--\",通讯录!B15),\"]\",通讯录!A15),\"\")","v":"[1]范德萨"},{"$f":"IF(通讯录!E15>0,通讯录!E15-(SUM(D19:BK19)),\"--\")","v":8000},"参加0次"]
[{"$f":"IF(LEN(通讯录!A16)>0,CONCATENATE(\"[\",IF(LEN(通讯录!B16)=0,\"--\",通讯录!B16),\"]\",通讯录!A16),\"\")","v":"[20]索尔斯卡亚"},{"$f":"IF(通讯录!E16>0,通讯录!E16-(SUM(D20:BK20)),\"--\")","v":8000},"参加0次"]
[{"$f":"IF(LEN(通讯录!A17)>0,CONCATENATE(\"[\",IF(LEN(通讯录!B17)=0,\"--\",通讯录!B17),\"]\",通讯录!A17),\"\")","v":"[--]德赫亚"},{"$f":"IF(通讯录!E17>0,通讯录!E17-(SUM(D21:BK21)),\"--\")","v":7991.4},"参加1次",8.6]
[{"$f":"IF(LEN(通讯录!A18)>0,CONCATENATE(\"[\",IF(LEN(通讯录!B18)=0,\"--\",通讯录!B18),\"]\",通讯录!A18),\"\")","v":"[--]加里内维尔"},{"$f":"IF(通讯录!E18>0,通讯录!E18-(SUM(D22:BK22)),\"--\")","v":8000},"参加0次"]
[{"$f":"IF(LEN(通讯录!A19)>0,CONCATENATE(\"[\",IF(LEN(通讯录!B19)=0,\"--\",通讯录!B19),\"]\",通讯录!A19),\"\")","v":"[--]埃弗拉"},{"$f":"IF(通讯录!E19>0,通讯录!E19-(SUM(D23:BK23)),\"--\")","v":7991.4},"参加1次",8.6]
[{"$f":"IF(LEN(通讯录!A20)>0,CONCATENATE(\"[\",IF(LEN(通讯录!B20)=0,\"--\",通讯录!B20),\"]\",通讯录!A20),\"\")","v":"[--]维迪奇"},{"$f":"IF(通讯录!E20>0,通讯录!E20-(SUM(D24:BK24)),\"--\")","v":8000},"参加0次"]
[{"$f":"IF(LEN(通讯录!A21)>0,CONCATENATE(\"[\",IF(LEN(通讯录!B21)=0,\"--\",通讯录!B21),\"]\",通讯录!A21),\"\")","v":"[--]斯塔姆"},{"$f":"IF(通讯录!E21>0,通讯录!E21-(SUM(D25:BK25)),\"--\")","v":7991.4},"参加1次",8.6]
[{"$f":"IF(LEN(通讯录!A22)>0,CONCATENATE(\"[\",IF(LEN(通讯录!B22)=0,\"--\",通讯录!B22),\"]\",通讯录!A22),\"\")","v":"[--]贝克汉姆"},{"$f":"IF(通讯录!E22>0,通讯录!E22-(SUM(D26:BK26)),\"--\")","v":7991.4},"参加1次",8.6]
[{"$f":"IF(LEN(通讯录!A23)>0,CONCATENATE(\"[\",IF(LEN(通讯录!B23)=0,\"--\",通讯录!B23),\"]\",通讯录!A23),\"\")","v":"[--]吉格斯"},{"$f":"IF(通讯录!E23>0,通讯录!E23-(SUM(D27:BK27)),\"--\")","v":8000},"参加0次"]
[{"$f":"IF(LEN(通讯录!A24)>0,CONCATENATE(\"[\",IF(LEN(通讯录!B24)=0,\"--\",通讯录!B24),\"]\",通讯录!A24),\"\")","v":"[--]朴三肺"},{"$f":"IF(通讯录!E24>0,通讯录!E24-(SUM(D28:BK28)),\"--\")","v":8000},"参加0次"]
[{"$f":"IF(LEN(通讯录!A25)>0,CONCATENATE(\"[\",IF(LEN(通讯录!B25)=0,\"--\",通讯录!B25),\"]\",通讯录!A25),\"\")","v":"[--]特维斯"},{"$f":"IF(通讯录!E25>0,通讯录!E25-(SUM(D29:BK29)),\"--\")","v":7991.4},"参加1次",8.6]
[{"$f":"IF(LEN(通讯录!A26)>0,CONCATENATE(\"[\",IF(LEN(通讯录!B26)=0,\"--\",通讯录!B26),\"]\",通讯录!A26),\"\")","v":"[--]里奥"},{"$f":"IF(通讯录!E26>0,通讯录!E26-(SUM(D30:BK30)),\"--\")","v":8000},"参加0次"]
[{"$f":"IF(LEN(通讯录!A27)>0,CONCATENATE(\"[\",IF(LEN(通讯录!B27)=0,\"--\",通讯录!B27),\"]\",通讯录!A27),\"\")","v":"[--]斯塔姆"},{"$f":"IF(通讯录!E27>0,通讯录!E27-(SUM(D31:BK31)),\"--\")","v":8000},"参加0次"]
[{"$f":"IF(LEN(通讯录!A28)>0,CONCATENATE(\"[\",IF(LEN(通讯录!B28)=0,\"--\",通讯录!B28),\"]\",通讯录!A28),\"\")","v":"[--]海因策"},{"$f":"IF(通讯录!E28>0,通讯录!E28-(SUM(D32:BK32)),\"--\")","v":8000},"参加0次"]
[{"$f":"IF(LEN(通讯录!A29)>0,CONCATENATE(\"[\",IF(LEN(通讯录!B29)=0,\"--\",通讯录!B29),\"]\",通讯录!A29),\"\")","v":"[--]埃尔文"},{"$f":"IF(通讯录!E29>0,通讯录!E29-(SUM(D33:BK33)),\"--\")","v":8000},"参加0次"]
[{"$f":"IF(LEN(通讯录!A30)>0,CONCATENATE(\"[\",IF(LEN(通讯录!B30)=0,\"--\",通讯录!B30),\"]\",通讯录!A30),\"\")","v":"[--]保罗因斯"},{"$f":"IF(通讯录!E30>0,通讯录!E30-(SUM(D34:BK34)),\"--\")","v":8000},"参加0次"]
[{"$f":"IF(LEN(通讯录!A31)>0,CONCATENATE(\"[\",IF(LEN(通讯录!B31)=0,\"--\",通讯录!B31),\"]\",通讯录!A31),\"\")","v":""},{"$f":"IF(通讯录!E31>0,通讯录!E31-(SUM(D35:BK35)),\"--\")","v":"--"},"参加0次"]
[{"$f":"IF(LEN(通讯录!A32)>0,CONCATENATE(\"[\",IF(LEN(通讯录!B32)=0,\"--\",通讯录!B32),\"]\",通讯录!A32),\"\")","v":""},{"$f":"IF(通讯录!E32>0,通讯录!E32-(SUM(D36:BK36)),\"--\")","v":"--"},"参加0次"]
[{"$f":"IF(LEN(通讯录!A33)>0,CONCATENATE(\"[\",IF(LEN(通讯录!B33)=0,\"--\",通讯录!B33),\"]\",通讯录!A33),\"\")","v":""},{"$f":"IF(通讯录!E33>0,通讯录!E33-(SUM(D37:BK37)),\"--\")","v":"--"},"参加0次"]
[{"$f":"IF(LEN(通讯录!A34)>0,CONCATENATE(\"[\",IF(LEN(通讯录!B34)=0,\"--\",通讯录!B34),\"]\",通讯录!A34),\"\")","v":""},{"$f":"IF(通讯录!E34>0,通讯录!E34-(SUM(D38:BK38)),\"--\")","v":"--"},"参加0次"]
[{"$f":"IF(LEN(通讯录!A35)>0,CONCATENATE(\"[\",IF(LEN(通讯录!B35)=0,\"--\",通讯录!B35),\"]\",通讯录!A35),\"\")","v":""},{"$f":"IF(通讯录!E35>0,通讯录!E35-(SUM(D39:BK39)),\"--\")","v":"--"},"参加0次"]
[{"$f":"IF(LEN(通讯录!A36)>0,CONCATENATE(\"[\",IF(LEN(通讯录!B36)=0,\"--\",通讯录!B36),\"]\",通讯录!A36),\"\")","v":""},{"$f":"IF(通讯录!E36>0,通讯录!E36-(SUM(D40:BK40)),\"--\")","v":"--"},"参加0次"]
[{"$f":"IF(LEN(通讯录!A37)>0,CONCATENATE(\"[\",IF(LEN(通讯录!B37)=0,\"--\",通讯录!B37),\"]\",通讯录!A37),\"\")","v":""},{"$f":"IF(通讯录!E37>0,通讯录!E37-(SUM(D41:BK41)),\"--\")","v":"--"},"参加0次"]
[{"$f":"IF(LEN(通讯录!A38)>0,CONCATENATE(\"[\",IF(LEN(通讯录!B38)=0,\"--\",通讯录!B38),\"]\",通讯录!A38),\"\")","v":""},{"$f":"IF(通讯录!E38>0,通讯录!E38-(SUM(D42:BK42)),\"--\")","v":"--"},"参加0次"]
[{"$f":"IF(LEN(通讯录!A39)>0,CONCATENATE(\"[\",IF(LEN(通讯录!B39)=0,\"--\",通讯录!B39),\"]\",通讯录!A39),\"\")","v":""},{"$f":"IF(通讯录!E39>0,通讯录!E39-(SUM(D43:BK43)),\"--\")","v":"--"},"参加0次"]
[{"$f":"IF(LEN(通讯录!A40)>0,CONCATENATE(\"[\",IF(LEN(通讯录!B40)=0,\"--\",通讯录!B40),\"]\",通讯录!A40),\"\")","v":""},{"$f":"IF(通讯录!E40>0,通讯录!E40-(SUM(D44:BK44)),\"--\")","v":"--"},"参加0次"]
[{"$f":"IF(LEN(通讯录!A41)>0,CONCATENATE(\"[\",IF(LEN(通讯录!B41)=0,\"--\",通讯录!B41),\"]\",通讯录!A41),\"\")","v":""},{"$f":"IF(通讯录!E41>0,通讯录!E41-(SUM(D45:BK45)),\"--\")","v":"--"},"参加0次"]
[{"$f":"IF(LEN(通讯录!A42)>0,CONCATENATE(\"[\",IF(LEN(通讯录!B42)=0,\"--\",通讯录!B42),\"]\",通讯录!A42),\"\")","v":""},{"$f":"IF(通讯录!E42>0,通讯录!E42-(SUM(D46:BK46)),\"--\")","v":"--"},"参加0次"]
[{"$f":"IF(LEN(通讯录!A43)>0,CONCATENATE(\"[\",IF(LEN(通讯录!B43)=0,\"--\",通讯录!B43),\"]\",通讯录!A43),\"\")","v":""},{"$f":"IF(通讯录!E43>0,通讯录!E43-(SUM(D47:BK47)),\"--\")","v":"--"},"参加0次"]
[{"$f":"IF(LEN(通讯录!A44)>0,CONCATENATE(\"[\",IF(LEN(通讯录!B44)=0,\"--\",通讯录!B44),\"]\",通讯录!A44),\"\")","v":""},{"$f":"IF(通讯录!E44>0,通讯录!E44-(SUM(D48:BK48)),\"--\")","v":"--"},"参加0次"]
[{"$f":"IF(LEN(通讯录!A45)>0,CONCATENATE(\"[\",IF(LEN(通讯录!B45)=0,\"--\",通讯录!B45),\"]\",通讯录!A45),\"\")","v":""},{"$f":"IF(通讯录!E45>0,通讯录!E45-(SUM(D49:BK49)),\"--\")","v":"--"},"参加0次"]
[{"$f":"IF(LEN(通讯录!A46)>0,CONCATENATE(\"[\",IF(LEN(通讯录!B46)=0,\"--\",通讯录!B46),\"]\",通讯录!A46),\"\")","v":""},{"$f":"IF(通讯录!E46>0,通讯录!E46-(SUM(D50:BK50)),\"--\")","v":"--"},"参加0次"]
[{"$f":"IF(LEN(通讯录!A47)>0,CONCATENATE(\"[\",IF(LEN(通讯录!B47)=0,\"--\",通讯录!B47),\"]\",通讯录!A47),\"\")","v":""},{"$f":"IF(通讯录!E47>0,通讯录!E47-(SUM(D51:BK51)),\"--\")","v":"--"},"参加0次"]
[{"$f":"IF(LEN(通讯录!A48)>0,CONCATENATE(\"[\",IF(LEN(通讯录!B48)=0,\"--\",通讯录!B48),\"]\",通讯录!A48),\"\")","v":""},{"$f":"IF(通讯录!E48>0,通讯录!E48-(SUM(D52:BK52)),\"--\")","v":"--"},"参加0次"]
[{"$f":"IF(LEN(通讯录!A49)>0,CONCATENATE(\"[\",IF(LEN(通讯录!B49)=0,\"--\",通讯录!B49),\"]\",通讯录!A49),\"\")","v":""},{"$f":"IF(通讯录!E49>0,通讯录!E49-(SUM(D53:BK53)),\"--\")","v":"--"},"参加0次"]
[{"$f":"IF(LEN(通讯录!A50)>0,CONCATENATE(\"[\",IF(LEN(通讯录!B50)=0,\"--\",通讯录!B50),\"]\",通讯录!A50),\"\")","v":""},{"$f":"IF(通讯录!E50>0,通讯录!E50-(SUM(D54:BK54)),\"--\")","v":"--"},"参加0次"]
[{"$f":"IF(LEN(通讯录!A51)>0,CONCATENATE(\"[\",IF(LEN(通讯录!B51)=0,\"--\",通讯录!B51),\"]\",通讯录!A51),\"\")","v":""},{"$f":"IF(通讯录!E51>0,通讯录!E51-(SUM(D55:BK55)),\"--\")","v":"--"},"参加0次"]
[{"$f":"IF(LEN(通讯录!A52)>0,CONCATENATE(\"[\",IF(LEN(通讯录!B52)=0,\"--\",通讯录!B52),\"]\",通讯录!A52),\"\")","v":""},{"$f":"IF(通讯录!E52>0,通讯录!E52-(SUM(D56:BK56)),\"--\")","v":"--"},"参加0次"]
[{"$f":"IF(LEN(通讯录!A53)>0,CONCATENATE(\"[\",IF(LEN(通讯录!B53)=0,\"--\",通讯录!B53),\"]\",通讯录!A53),\"\")","v":""},{"$f":"IF(通讯录!E53>0,通讯录!E53-(SUM(D57:BK57)),\"--\")","v":"--"},"参加0次"]
[{"$f":"IF(LEN(通讯录!A54)>0,CONCATENATE(\"[\",IF(LEN(通讯录!B54)=0,\"--\",通讯录!B54),\"]\",通讯录!A54),\"\")","v":""},{"$f":"IF(通讯录!E54>0,通讯录!E54-(SUM(D58:BK58)),\"--\")","v":"--"},"参加0次"]
[{"$f":"IF(LEN(通讯录!A55)>0,CONCATENATE(\"[\",IF(LEN(通讯录!B55)=0,\"--\",通讯录!B55),\"]\",通讯录!A55),\"\")","v":""},{"$f":"IF(通讯录!E55>0,通讯录!E55-(SUM(D59:BK59)),\"--\")","v":"--"},"参加0次"]
[{"$f":"IF(LEN(通讯录!A56)>0,CONCATENATE(\"[\",IF(LEN(通讯录!B56)=0,\"--\",通讯录!B56),\"]\",通讯录!A56),\"\")","v":""},{"$f":"IF(通讯录!E56>0,通讯录!E56-(SUM(D60:BK60)),\"--\")","v":"--"},"参加0次"]
[{"$f":"IF(LEN(通讯录!A57)>0,CONCATENATE(\"[\",IF(LEN(通讯录!B57)=0,\"--\",通讯录!B57),\"]\",通讯录!A57),\"\")","v":""},{"$f":"IF(通讯录!E57>0,通讯录!E57-(SUM(D61:BK61)),\"--\")","v":"--"},"参加0次"]
[{"$f":"IF(LEN(通讯录!A58)>0,CONCATENATE(\"[\",IF(LEN(通讯录!B58)=0,\"--\",通讯录!B58),\"]\",通讯录!A58),\"\")","v":""},{"$f":"IF(通讯录!E58>0,通讯录!E58-(SUM(D62:BK62)),\"--\")","v":"--"},"参加0次"]
[{"$f":"IF(LEN(通讯录!A59)>0,CONCATENATE(\"[\",IF(LEN(通讯录!B59)=0,\"--\",通讯录!B59),\"]\",通讯录!A59),\"\")","v":""},{"$f":"IF(通讯录!E59>0,通讯录!E59-(SUM(D63:BK63)),\"--\")","v":"--"},"参加0次"]
[{"$f":"IF(LEN(通讯录!A60)>0,CONCATENATE(\"[\",IF(LEN(通讯录!B60)=0,\"--\",通讯录!B60),\"]\",通讯录!A60),\"\")","v":""},{"$f":"IF(通讯录!E60>0,通讯录!E60-(SUM(D64:BK64)),\"--\")","v":"--"},"参加0次"]
[{"$f":"IF(LEN(通讯录!A61)>0,CONCATENATE(\"[\",IF(LEN(通讯录!B61)=0,\"--\",通讯录!B61),\"]\",通讯录!A61),\"\")","v":""},{"$f":"IF(通讯录!E61>0,通讯录!E61-(SUM(D65:BK65)),\"--\")","v":"--"},"参加0次"]
[{"$f":"IF(LEN(通讯录!A62)>0,CONCATENATE(\"[\",IF(LEN(通讯录!B62)=0,\"--\",通讯录!B62),\"]\",通讯录!A62),\"\")","v":""},{"$f":"IF(通讯录!E62>0,通讯录!E62-(SUM(D66:BK66)),\"--\")","v":"--"},"参加0次"]
[{"$f":"IF(LEN(通讯录!A63)>0,CONCATENATE(\"[\",IF(LEN(通讯录!B63)=0,\"--\",通讯录!B63),\"]\",通讯录!A63),\"\")","v":""},{"$f":"IF(通讯录!E63>0,通讯录!E63-(SUM(D67:BK67)),\"--\")","v":"--"},"参加0次"]
[{"$f":"IF(LEN(通讯录!A64)>0,CONCATENATE(\"[\",IF(LEN(通讯录!B64)=0,\"--\",通讯录!B64),\"]\",通讯录!A64),\"\")","v":""},{"$f":"IF(通讯录!E64>0,通讯录!E64-(SUM(D68:BK68)),\"--\")","v":"--"},"参加0次"]
[{"$f":"IF(LEN(通讯录!A65)>0,CONCATENATE(\"[\",IF(LEN(通讯录!B65)=0,\"--\",通讯录!B65),\"]\",通讯录!A65),\"\")","v":""},{"$f":"IF(通讯录!E65>0,通讯录!E65-(SUM(D69:BK69)),\"--\")","v":"--"},"参加0次"]
[{"$f":"IF(LEN(通讯录!A66)>0,CONCATENATE(\"[\",IF(LEN(通讯录!B66)=0,\"--\",通讯录!B66),\"]\",通讯录!A66),\"\")","v":""},{"$f":"IF(通讯录!E66>0,通讯录!E66-(SUM(D70:BK70)),\"--\")","v":"--"},"参加0次"]
[{"$f":"IF(LEN(通讯录!A67)>0,CONCATENATE(\"[\",IF(LEN(通讯录!B67)=0,\"--\",通讯录!B67),\"]\",通讯录!A67),\"\")","v":""},{"$f":"IF(通讯录!E67>0,通讯录!E67-(SUM(D71:BK71)),\"--\")","v":"--"},"参加0次"]
[{"$f":"IF(LEN(通讯录!A68)>0,CONCATENATE(\"[\",IF(LEN(通讯录!B68)=0,\"--\",通讯录!B68),\"]\",通讯录!A68),\"\")","v":""},{"$f":"IF(通讯录!E68>0,通讯录!E68-(SUM(D72:BK72)),\"--\")","v":"--"},"参加0次"]
[{"$f":"IF(LEN(通讯录!A69)>0,CONCATENATE(\"[\",IF(LEN(通讯录!B69)=0,\"--\",通讯录!B69),\"]\",通讯录!A69),\"\")","v":""},{"$f":"IF(通讯录!E69>0,通讯录!E69-(SUM(D73:BK73)),\"--\")","v":"--"},"参加0次"]
[{"$f":"IF(LEN(通讯录!A70)>0,CONCATENATE(\"[\",IF(LEN(通讯录!B70)=0,\"--\",通讯录!B70),\"]\",通讯录!A70),\"\")","v":""},{"$f":"IF(通讯录!E70>0,通讯录!E70-(SUM(D74:BK74)),\"--\")","v":"--"},{"$f":"CONCATENATE(\"参加\",COUNTA(D74:BK74),\"次\")","v":"参加0次"}]
[{"$f":"IF(LEN(通讯录!A71)>0,CONCATENATE(\"[\",IF(LEN(通讯录!B71)=0,\"--\",通讯录!B71),\"]\",通讯录!A71),\"\")","v":""},{"$f":"IF(通讯录!E71>0,通讯录!E71-(SUM(D75:BK75)),\"--\")","v":"--"},"参加0次"]
[{"$f":"IF(LEN(通讯录!A72)>0,CONCATENATE(\"[\",IF(LEN(通讯录!B72)=0,\"--\",通讯录!B72),\"]\",通讯录!A72),\"\")","v":""},{"$f":"IF(通讯录!E72>0,通讯录!E72-(SUM(D76:BK76)),\"--\")","v":"--"},"参加0次"]
[{"$f":"IF(LEN(通讯录!A73)>0,CONCATENATE(\"[\",IF(LEN(通讯录!B73)=0,\"--\",通讯录!B73),\"]\",通讯录!A73),\"\")","v":""},{"$f":"IF(通讯录!E73>0,通讯录!E73-(SUM(D77:BK77)),\"--\")","v":"--"},"参加0次"]
[{"$f":"IF(LEN(通讯录!A74)>0,CONCATENATE(\"[\",IF(LEN(通讯录!B74)=0,\"--\",通讯录!B74),\"]\",通讯录!A74),\"\")","v":""},{"$f":"IF(通讯录!E74>0,通讯录!E74-(SUM(D78:BK78)),\"--\")","v":"--"},"参加0次"]
[{"$f":"IF(LEN(通讯录!A75)>0,CONCATENATE(\"[\",IF(LEN(通讯录!B75)=0,\"--\",通讯录!B75),\"]\",通讯录!A75),\"\")","v":""},{"$f":"IF(通讯录!E75>0,通讯录!E75-(SUM(D79:BK79)),\"--\")","v":"--"},"参加0次"]
[{"$f":"IF(LEN(通讯录!A76)>0,CONCATENATE(\"[\",IF(LEN(通讯录!B76)=0,\"--\",通讯录!B76),\"]\",通讯录!A76),\"\")","v":""},{"$f":"IF(通讯录!E76>0,通讯录!E76-(SUM(D80:BK80)),\"--\")","v":"--"},"参加0次"]
[{"$f":"IF(LEN(通讯录!A77)>0,CONCATENATE(\"[\",IF(LEN(通讯录!B77)=0,\"--\",通讯录!B77),\"]\",通讯录!A77),\"\")","v":""},{"$f":"IF(通讯录!E77>0,通讯录!E77-(SUM(D81:BK81)),\"--\")","v":"--"},"参加0次"]
[{"$f":"IF(LEN(通讯录!A78)>0,CONCATENATE(\"[\",IF(LEN(通讯录!B78)=0,\"--\",通讯录!B78),\"]\",通讯录!A78),\"\")","v":""},{"$f":"IF(通讯录!E78>0,通讯录!E78-(SUM(D82:BK82)),\"--\")","v":"--"},"参加0次"]
[{"$f":"IF(LEN(通讯录!A79)>0,CONCATENATE(\"[\",IF(LEN(通讯录!B79)=0,\"--\",通讯录!B79),\"]\",通讯录!A79),\"\")","v":""},{"$f":"IF(通讯录!E79>0,通讯录!E79-(SUM(D83:BK83)),\"--\")","v":"--"},"参加0次"]
[{"$f":"IF(LEN(通讯录!A80)>0,CONCATENATE(\"[\",IF(LEN(通讯录!B80)=0,\"--\",通讯录!B80),\"]\",通讯录!A80),\"\")","v":""},{"$f":"IF(通讯录!E80>0,通讯录!E80-(SUM(D84:BK84)),\"--\")","v":"--"},"参加0次"]
[{"$f":"IF(LEN(通讯录!A81)>0,CONCATENATE(\"[\",IF(LEN(通讯录!B81)=0,\"--\",通讯录!B81),\"]\",通讯录!A81),\"\")","v":""},{"$f":"IF(通讯录!E81>0,通讯录!E81-(SUM(D85:BK85)),\"--\")","v":"--"},"参加0次"]
[{"$f":"IF(LEN(通讯录!A82)>0,CONCATENATE(\"[\",IF(LEN(通讯录!B82)=0,\"--\",通讯录!B82),\"]\",通讯录!A82),\"\")","v":""},{"$f":"IF(通讯录!E82>0,通讯录!E82-(SUM(D86:BK86)),\"--\")","v":"--"},"参加0次"]
[{"$f":"IF(LEN(通讯录!A83)>0,CONCATENATE(\"[\",IF(LEN(通讯录!B83)=0,\"--\",通讯录!B83),\"]\",通讯录!A83),\"\")","v":""},{"$f":"IF(通讯录!E83>0,通讯录!E83-(SUM(D87:BK87)),\"--\")","v":"--"},"参加0次"]
[{"$f":"IF(LEN(通讯录!A84)>0,CONCATENATE(\"[\",IF(LEN(通讯录!B84)=0,\"--\",通讯录!B84),\"]\",通讯录!A84),\"\")","v":""},{"$f":"IF(通讯录!E84>0,通讯录!E84-(SUM(D88:BK88)),\"--\")","v":"--"},"参加0次"]
[{"$f":"IF(LEN(通讯录!A85)>0,CONCATENATE(\"[\",IF(LEN(通讯录!B85)=0,\"--\",通讯录!B85),\"]\",通讯录!A85),\"\")","v":""},{"$f":"IF(通讯录!E85>0,通讯录!E85-(SUM(D89:BK89)),\"--\")","v":"--"},"参加0次"]
[{"$f":"IF(LEN(通讯录!A86)>0,CONCATENATE(\"[\",IF(LEN(通讯录!B86)=0,\"--\",通讯录!B86),\"]\",通讯录!A86),\"\")","v":""},{"$f":"IF(通讯录!E86>0,通讯录!E86-(SUM(D90:BK90)),\"--\")","v":"--"},"参加0次"]
[{"$f":"IF(LEN(通讯录!A87)>0,CONCATENATE(\"[\",IF(LEN(通讯录!B87)=0,\"--\",通讯录!B87),\"]\",通讯录!A87),\"\")","v":""},{"$f":"IF(通讯录!E87>0,通讯录!E87-(SUM(D91:BK91)),\"--\")","v":"--"},"参加0次"]
[{"$f":"IF(LEN(通讯录!A88)>0,CONCATENATE(\"[\",IF(LEN(通讯录!B88)=0,\"--\",通讯录!B88),\"]\",通讯录!A88),\"\")","v":""},{"$f":"IF(通讯录!E88>0,通讯录!E88-(SUM(D92:BK92)),\"--\")","v":"--"},"参加0次"]
[{"$f":"IF(LEN(通讯录!A89)>0,CONCATENATE(\"[\",IF(LEN(通讯录!B89)=0,\"--\",通讯录!B89),\"]\",通讯录!A89),\"\")","v":""},{"$f":"IF(通讯录!E89>0,通讯录!E89-(SUM(D93:BK93)),\"--\")","v":"--"},"参加0次"]
[{"$f":"IF(LEN(通讯录!A90)>0,CONCATENATE(\"[\",IF(LEN(通讯录!B90)=0,\"--\",通讯录!B90),\"]\",通讯录!A90),\"\")","v":""},{"$f":"IF(通讯录!E90>0,通讯录!E90-(SUM(D94:BK94)),\"--\")","v":"--"},"参加0次"]
[{"$f":"IF(LEN(通讯录!A91)>0,CONCATENATE(\"[\",IF(LEN(通讯录!B91)=0,\"--\",通讯录!B91),\"]\",通讯录!A91),\"\")","v":""},{"$f":"IF(通讯录!E91>0,通讯录!E91-(SUM(D95:BK95)),\"--\")","v":"--"},"参加0次"]
[{"$f":"IF(LEN(通讯录!A92)>0,CONCATENATE(\"[\",IF(LEN(通讯录!B92)=0,\"--\",通讯录!B92),\"]\",通讯录!A92),\"\")","v":""},{"$f":"IF(通讯录!E92>0,通讯录!E92-(SUM(D96:BK96)),\"--\")","v":"--"},"参加0次"]
[{"$f":"IF(LEN(通讯录!A93)>0,CONCATENATE(\"[\",IF(LEN(通讯录!B93)=0,\"--\",通讯录!B93),\"]\",通讯录!A93),\"\")","v":""},{"$f":"IF(通讯录!E93>0,通讯录!E93-(SUM(D97:BK97)),\"--\")","v":"--"},{"$f":"CONCATENATE(\"参加\",COUNTA(D97:BK97),\"次\")","v":"参加0次"}]
[{"$f":"IF(LEN(通讯录!A94)>0,CONCATENATE(\"[\",IF(LEN(通讯录!B94)=0,\"--\",通讯录!B94),\"]\",通讯录!A94),\"\")","v":""},{"$f":"IF(通讯录!E94>0,通讯录!E94-(SUM(D98:BK98)),\"--\")","v":"--"},{"$f":"CONCATENATE(\"参加\",COUNTA(D98:BK98),\"次\")","v":"参加0次"}]
[{"$f":"IF(LEN(通讯录!A95)>0,CONCATENATE(\"[\",IF(LEN(通讯录!B95)=0,\"--\",通讯录!B95),\"]\",通讯录!A95),\"\")","v":""},{"$f":"IF(通讯录!E95>0,通讯录!E95-(SUM(D99:BK99)),\"--\")","v":"--"},{"$f":"CONCATENATE(\"参加\",COUNTA(D99:BK99),\"次\")","v":"参加0次"}]
[{"$f":"IF(LEN(通讯录!A96)>0,CONCATENATE(\"[\",IF(LEN(通讯录!B96)=0,\"--\",通讯录!B96),\"]\",通讯录!A96),\"\")","v":""},{"$f":"IF(通讯录!E96>0,通讯录!E96-(SUM(D100:BK100)),\"--\")","v":"--"},{"$f":"CONCATENATE(\"参加\",COUNTA(D100:BK100),\"次\")","v":"参加0次"}]

{"sheet":"进球表","index":3,"n_rows":98,"n_cols":64,"rows_kept":98,"cut":false,"hidden":false,"merged":[[0,0,0,63],[1,0,5,0]]}
["足球球队管理工具 - 进球表"]
["报名者","球队总得分：",{"$f":"CONCATENATE(SUM(B7:B94), \"球\")","v":"3球"},"日期",{"$f":"IF(LEN(场费表!D3)>0,场费表!D3,\"\")","v":"2020-07-04"},{"$f":"IF(LEN(场费表!E3)>0,场费表!E3,\"\")","v":""},{"$f":"IF(LEN(场费表!F3)>0,场费表!F3,\"\")","v":""},{"$f":"IF(LEN(场费表!G3)>0,场费表!G3,\"\")","v":""},{"$f":"IF(LEN(场费表!H3)>0,场费表!H3,\"\")","v":""},{"$f":"IF(LEN(场费表!I3)>0,场费表!I3,\"\")","v":""},{"$f":"IF(LEN(场费表!J3)>0,场费表!J3,\"\")","v":""},{"$f":"IF(LEN(场费表!K3)>0,场费表!K3,\"\")","v":""},{"$f":"IF(LEN(场费表!L3)>0,场费表!L3,\"\")","v":""},{"$f":"IF(LEN(场费表!M3)>0,场费表!M3,\"\")","v":""},{"$f":"IF(LEN(场费表!N3)>0,场费表!N3,\"\")","v":""},{"$f":"IF(LEN(场费表!O3)>0,场费表!O3,\"\")","v":""},{"$f":"IF(LEN(场费表!P3)>0,场费表!P3,\"\")","v":""},{"$f":"IF(LEN(场费表!Q3)>0,场费表!Q3,\"\")","v":""},{"$f":"IF(LEN(场费表!R3)>0,场费表!R3,\"\")","v":""},{"$f":"IF(LEN(场费表!S3)>0,场费表!S3,\"\")","v":""},{"$f":"IF(LEN(场费表!T3)>0,场费表!T3,\"\")","v":""},{"$f":"IF(LEN(场费表!U3)>0,场费表!U3,\"\")","v":""},{"$f":"IF(LEN(场费表!V3)>0,场费表!V3,\"\")","v":""},{"$f":"IF(LEN(场费表!W3)>0,场费表!W3,\"\")","v":""},{"$f":"IF(LEN(场费表!X3)>0,场费表!X3,\"\")","v":""},{"$f":"IF(LEN(场费表!Y3)>0,场费表!Y3,\"\")","v":""},{"$f":"IF(LEN(场费表!Z3)>0,场费表!Z3,\"\")","v":""},{"$f":"IF(LEN(场费表!AA3)>0,场费表!AA3,\"\")","v":""},{"$f":"IF(LEN(场费表!AB3)>0,场费表!AB3,\"\")","v":""},{"$f":"IF(LEN(场费表!AC3)>0,场费表!AC3,\"\")","v":""},{"$f":"IF(LEN(场费表!AD3)>0,场费表!AD3,\"\")","v":""},{"$f":"IF(LEN(场费表!AE3)>0,场费表!AE3,\"\")","v":""},{"$f":"IF(LEN(场费表!AF3)>0,场费表!AF3,\"\")","v":""},{"$f":"IF(LEN(场费表!AG3)>0,场费表!AG3,\"\")","v":""},{"$f":"IF(LEN(场费表!AH3)>0,场费表!AH3,\"\")","v":""},{"$f":"IF(LEN(场费表!AI3)>0,场费表!AI3,\"\")","v":""},{"$f":"IF(LEN(场费表!AJ3)>0,场费表!AJ3,\"\")","v":""},{"$f":"IF(LEN(场费表!AK3)>0,场费表!AK3,\"\")","v":""},{"$f":"IF(LEN(场费表!AL3)>0,场费表!AL3,\"\")","v":""},{"$f":"IF(LEN(场费表!AM3)>0,场费表!AM3,\"\")","v":""},{"$f":"IF(LEN(场费表!AN3)>0,场费表!AN3,\"\")","v":""},{"$f":"IF(LEN(场费表!AO3)>0,场费表!AO3,\"\")","v":""},{"$f":"IF(LEN(场费表!AP3)>0,场费表!AP3,\"\")","v":""},{"$f":"IF(LEN(场费表!AQ3)>0,场费表!AQ3,\"\")","v":""},{"$f":"IF(LEN(场费表!AR3)>0,场费表!AR3,\"\")","v":""},{"$f":"IF(LEN(场费表!AS3)>0,场费表!AS3,\"\")","v":""},{"$f":"IF(LEN(场费表!AT3)>0,场费表!AT3,\"\")","v":""},{"$f":"IF(LEN(场费表!AU3)>0,场费表!AU3,\"\")","v":""},{"$f":"IF(LEN(场费表!AV3)>0,场费表!AV3,\"\")","v":""},{"$f":"IF(LEN(场费表!AW3)>0,场费表!AW3,\"\")","v":""},{"$f":"IF(LEN(场费表!AX3)>0,场费表!AX3,\"\")","v":""},{"$f":"IF(LEN(场费表!AY3)>0,场费表!AY3,\"\")","v":""},{"$f":"IF(LEN(场费表!AZ3)>0,场费表!AZ3,\"\")","v":""},{"$f":"IF(LEN(场费表!BA3)>0,场费表!BA3,\"\")","v":""},{"$f":"IF(LEN(场费表!BB3)>0,场费表!BB3,\"\")","v":""},{"$f":"IF(LEN(场费表!BC3)>0,场费表!BC3,\"\")","v":""},{"$f":"IF(LEN(场费表!BD3)>0,场费表!BD3,\"\")","v":""},{"$f":"IF(LEN(场费表!BE3)>0,场费表!BE3,\"\")","v":""},{"$f":"IF(LEN(场费表!BF3)>0,场费表!BF3,\"\")","v":""},{"$f":"IF(LEN(场费表!BG3)>0,场费表!BG3,\"\")","v":""},{"$f":"IF(LEN(场费表!BH3)>0,场费表!BH3,\"\")","v":""},{"$f":"IF(LEN(场费表!BI3)>0,场费表!BI3,\"\")","v":""},{"$f":"IF(LEN(场费表!BJ3)>0,场费表!BJ3,\"\")","v":""},{"$f":"IF(LEN(场费表!BK3)>0,场费表!BK3,\"\")","v":""}]
[null,"总胜：",{"$f":"GetResultCount(E6:BL6,1)","v":1},"时间",{"$f":"IF(LEN(场费表!D4)>0,场费表!D4,\"\")","v":"20:30:00"},{"$f":"IF(LEN(场费表!E4)>0,场费表!E4,\"\")","v":""},{"$f":"IF(LEN(场费表!F4)>0,场费表!F4,\"\")","v":""},{"$f":"IF(LEN(场费表!G4)>0,场费表!G4,\"\")","v":""},{"$f":"IF(LEN(场费表!H4)>0,场费表!H4,\"\")","v":""},{"$f":"IF(LEN(场费表!I4)>0,场费表!I4,\"\")","v":""},{"$f":"IF(LEN(场费表!J4)>0,场费表!J4,\"\")","v":""},{"$f":"IF(LEN(场费表!K4)>0,场费表!K4,\"\")","v":""},{"$f":"IF(LEN(场费表!L4)>0,场费表!L4,\"\")","v":""},{"$f":"IF(LEN(场费表!M4)>0,场费表!M4,\"\")","v":""},{"$f":"IF(LEN(场费表!N4)>0,场费表!N4,\"\")","v":""},{"$f":"IF(LEN(场费表!O4)>0,场费表!O4,\"\")","v":""},{"$f":"IF(LEN(场费表!P4)>0,场费表!P4,\"\")","v":""},{"$f":"IF(LEN(场费表!Q4)>0,场费表!Q4,\"\")","v":""},{"$f":"IF(LEN(场费表!R4)>0,场费表!R4,\"\")","v":""},{"$f":"IF(LEN(场费表!S4)>0,场费表!S4,\"\")","v":""},{"$f":"IF(LEN(场费表!T4)>0,场费表!T4,\"\")","v":""},{"$f":"IF(LEN(场费表!U4)>0,场费表!U4,\"\")","v":""},{"$f":"IF(LEN(场费表!V4)>0,场费表!V4,\"\")","v":""},{"$f":"IF(LEN(场费表!W4)>0,场费表!W4,\"\")","v":""},{"$f":"IF(LEN(场费表!X4)>0,场费表!X4,\"\")","v":""},{"$f":"IF(LEN(场费表!Y4)>0,场费表!Y4,\"\")","v":""},{"$f":"IF(LEN(场费表!Z4)>0,场费表!Z4,\"\")","v":""},{"$f":"IF(LEN(场费表!AA4)>0,场费表!AA4,\"\")","v":""},{"$f":"IF(LEN(场费表!AB4)>0,场费表!AB4,\"\")","v":""},{"$f":"IF(LEN(场费表!AC4)>0,场费表!AC4,\"\")","v":""},{"$f":"IF(LEN(场费表!AD4)>0,场费表!AD4,\"\")","v":""},{"$f":"IF(LEN(场费表!AE4)>0,场费表!AE4,\"\")","v":""},{"$f":"IF(LEN(场费表!AF4)>0,场费表!AF4,\"\")","v":""},{"$f":"IF(LEN(场费表!AG4)>0,场费表!AG4,\"\")","v":""},{"$f":"IF(LEN(场费表!AH4)>0,场费表!AH4,\"\")","v":""},{"$f":"IF(LEN(场费表!AI4)>0,场费表!AI4,\"\")","v":""},{"$f":"IF(LEN(场费表!AJ4)>0,场费表!AJ4,\"\")","v":""},{"$f":"IF(LEN(场费表!AK4)>0,场费表!AK4,\"\")","v":""},{"$f":"IF(LEN(场费表!AL4)>0,场费表!AL4,\"\")","v":""},{"$f":"IF(LEN(场费表!AM4)>0,场费表!AM4,\"\")","v":""},{"$f":"IF(LEN(场费表!AN4)>0,场费表!AN4,\"\")","v":""},{"$f":"IF(LEN(场费表!AO4)>0,场费表!AO4,\"\")","v":""},{"$f":"IF(LEN(场费表!AP4)>0,场费表!AP4,\"\")","v":""},{"$f":"IF(LEN(场费表!AQ4)>0,场费表!AQ4,\"\")","v":""},{"$f":"IF(LEN(场费表!AR4)>0,场费表!AR4,\"\")","v":""},{"$f":"IF(LEN(场费表!AS4)>0,场费表!AS4,\"\")","v":""},{"$f":"IF(LEN(场费表!AT4)>0,场费表!AT4,\"\")","v":""},{"$f":"IF(LEN(场费表!AU4)>0,场费表!AU4,\"\")","v":""},{"$f":"IF(LEN(场费表!AV4)>0,场费表!AV4,\"\")","v":""},{"$f":"IF(LEN(场费表!AW4)>0,场费表!AW4,\"\")","v":""},{"$f":"IF(LEN(场费表!AX4)>0,场费表!AX4,\"\")","v":""},{"$f":"IF(LEN(场费表!AY4)>0,场费表!AY4,\"\")","v":""},{"$f":"IF(LEN(场费表!AZ4)>0,场费表!AZ4,\"\")","v":""},{"$f":"IF(LEN(场费表!BA4)>0,场费表!BA4,\"\")","v":""},{"$f":"IF(LEN(场费表!BB4)>0,场费表!BB4,\"\")","v":""},{"$f":"IF(LEN(场费表!BC4)>0,场费表!BC4,\"\")","v":""},{"$f":"IF(LEN(场费表!BD4)>0,场费表!BD4,\"\")","v":""},{"$f":"IF(LEN(场费表!BE4)>0,场费表!BE4,\"\")","v":""},{"$f":"IF(LEN(场费表!BF4)>0,场费表!BF4,\"\")","v":""},{"$f":"IF(LEN(场费表!BG4)>0,场费表!BG4,\"\")","v":""},{"$f":"IF(LEN(场费表!BH4)>0,场费表!BH4,\"\")","v":""},{"$f":"IF(LEN(场费表!BI4)>0,场费表!BI4,\"\")","v":""},{"$f":"IF(LEN(场费表!BJ4)>0,场费表!BJ4,\"\")","v":""},{"$f":"IF(LEN(场费表!BK4)>0,场费表!BK4,\"\")","v":""}]
[null,"总平：",{"$f":"GetResultCount(E6:BL6,0)","v":0},"对手",{"$f":"IF(LEN(场费表!D5)>0,场费表!D5,\"\")","v":"未知"},{"$f":"IF(LEN(场费表!E5)>0,场费表!E5,\"\")","v":""},{"$f":"IF(LEN(场费表!F5)>0,场费表!F5,\"\")","v":""},{"$f":"IF(LEN(场费表!G5)>0,场费表!G5,\"\")","v":""},{"$f":"IF(LEN(场费表!H5)>0,场费表!H5,\"\")","v":""},{"$f":"IF(LEN(场费表!I5)>0,场费表!I5,\"\")","v":""},{"$f":"IF(LEN(场费表!J5)>0,场费表!J5,\"\")","v":""},{"$f":"IF(LEN(场费表!K5)>0,场费表!K5,\"\")","v":""},{"$f":"IF(LEN(场费表!L5)>0,场费表!L5,\"\")","v":""},{"$f":"IF(LEN(场费表!M5)>0,场费表!M5,\"\")","v":""},{"$f":"IF(LEN(场费表!N5)>0,场费表!N5,\"\")","v":""},{"$f":"IF(LEN(场费表!O5)>0,场费表!O5,\"\")","v":""},{"$f":"IF(LEN(场费表!P5)>0,场费表!P5,\"\")","v":""},{"$f":"IF(LEN(场费表!Q5)>0,场费表!Q5,\"\")","v":""},{"$f":"IF(LEN(场费表!R5)>0,场费表!R5,\"\")","v":""},{"$f":"IF(LEN(场费表!S5)>0,场费表!S5,\"\")","v":""},{"$f":"IF(LEN(场费表!T5)>0,场费表!T5,\"\")","v":""},{"$f":"IF(LEN(场费表!U5)>0,场费表!U5,\"\")","v":""},{"$f":"IF(LEN(场费表!V5)>0,场费表!V5,\"\")","v":""},{"$f":"IF(LEN(场费表!W5)>0,场费表!W5,\"\")","v":""},{"$f":"IF(LEN(场费表!X5)>0,场费表!X5,\"\")","v":""},{"$f":"IF(LEN(场费表!Y5)>0,场费表!Y5,\"\")","v":""},{"$f":"IF(LEN(场费表!Z5)>0,场费表!Z5,\"\")","v":""},{"$f":"IF(LEN(场费表!AA5)>0,场费表!AA5,\"\")","v":""},{"$f":"IF(LEN(场费表!AB5)>0,场费表!AB5,\"\")","v":""},{"$f":"IF(LEN(场费表!AC5)>0,场费表!AC5,\"\")","v":""},{"$f":"IF(LEN(场费表!AD5)>0,场费表!AD5,\"\")","v":""},{"$f":"IF(LEN(场费表!AE5)>0,场费表!AE5,\"\")","v":""},{"$f":"IF(LEN(场费表!AF5)>0,场费表!AF5,\"\")","v":""},{"$f":"IF(LEN(场费表!AG5)>0,场费表!AG5,\"\")","v":""},{"$f":"IF(LEN(场费表!AH5)>0,场费表!AH5,\"\")","v":""},{"$f":"IF(LEN(场费表!AI5)>0,场费表!AI5,\"\")","v":""},{"$f":"IF(LEN(场费表!AJ5)>0,场费表!AJ5,\"\")","v":""},{"$f":"IF(LEN(场费表!AK5)>0,场费表!AK5,\"\")","v":""},{"$f":"IF(LEN(场费表!AL5)>0,场费表!AL5,\"\")","v":""},{"$f":"IF(LEN(场费表!AM5)>0,场费表!AM5,\"\")","v":""},{"$f":"IF(LEN(场费表!AN5)>0,场费表!AN5,\"\")","v":""},{"$f":"IF(LEN(场费表!AO5)>0,场费表!AO5,\"\")","v":""},{"$f":"IF(LEN(场费表!AP5)>0,场费表!AP5,\"\")","v":""},{"$f":"IF(LEN(场费表!AQ5)>0,场费表!AQ5,\"\")","v":""},{"$f":"IF(LEN(场费表!AR5)>0,场费表!AR5,\"\")","v":""},{"$f":"IF(LEN(场费表!AS5)>0,场费表!AS5,\"\")","v":""},{"$f":"IF(LEN(场费表!AT5)>0,场费表!AT5,\"\")","v":""},{"$f":"IF(LEN(场费表!AU5)>0,场费表!AU5,\"\")","v":""},{"$f":"IF(LEN(场费表!AV5)>0,场费表!AV5,\"\")","v":""},{"$f":"IF(LEN(场费表!AW5)>0,场费表!AW5,\"\")","v":""},{"$f":"IF(LEN(场费表!AX5)>0,场费表!AX5,\"\")","v":""},{"$f":"IF(LEN(场费表!AY5)>0,场费表!AY5,\"\")","v":""},{"$f":"IF(LEN(场费表!AZ5)>0,场费表!AZ5,\"\")","v":""},{"$f":"IF(LEN(场费表!BA5)>0,场费表!BA5,\"\")","v":""},{"$f":"IF(LEN(场费表!BB5)>0,场费表!BB5,\"\")","v":""},{"$f":"IF(LEN(场费表!BC5)>0,场费表!BC5,\"\")","v":""},{"$f":"IF(LEN(场费表!BD5)>0,场费表!BD5,\"\")","v":""},{"$f":"IF(LEN(场费表!BE5)>0,场费表!BE5,\"\")","v":""},{"$f":"IF(LEN(场费表!BF5)>0,场费表!BF5,\"\")","v":""},{"$f":"IF(LEN(场费表!BG5)>0,场费表!BG5,\"\")","v":""},{"$f":"IF(LEN(场费表!BH5)>0,场费表!BH5,\"\")","v":""},{"$f":"IF(LEN(场费表!BI5)>0,场费表!BI5,\"\")","v":""},{"$f":"IF(LEN(场费表!BJ5)>0,场费表!BJ5,\"\")","v":""},{"$f":"IF(LEN(场费表!BK5)>0,场费表!BK5,\"\")","v":""}]
[null,"总负：",{"$f":"GetResultCount(E6:BL6,-1)","v":0},"场地",{"$f":"IF(LEN(场费表!D6)>0,场费表!D6,\"\")","v":"邕江郡2号"},{"$f":"IF(LEN(场费表!E6)>0,场费表!E6,\"\")","v":""},{"$f":"IF(LEN(场费表!F6)>0,场费表!F6,\"\")","v":""},{"$f":"IF(LEN(场费表!G6)>0,场费表!G6,\"\")","v":""},{"$f":"IF(LEN(场费表!H6)>0,场费表!H6,\"\")","v":""},{"$f":"IF(LEN(场费表!I6)>0,场费表!I6,\"\")","v":""},{"$f":"IF(LEN(场费表!J6)>0,场费表!J6,\"\")","v":""},{"$f":"IF(LEN(场费表!K6)>0,场费表!K6,\"\")","v":""},{"$f":"IF(LEN(场费表!L6)>0,场费表!L6,\"\")","v":""},{"$f":"IF(LEN(场费表!M6)>0,场费表!M6,\"\")","v":""},{"$f":"IF(LEN(场费表!N6)>0,场费表!N6,\"\")","v":""},{"$f":"IF(LEN(场费表!O6)>0,场费表!O6,\"\")","v":""},{"$f":"IF(LEN(场费表!P6)>0,场费表!P6,\"\")","v":""},{"$f":"IF(LEN(场费表!Q6)>0,场费表!Q6,\"\")","v":""},{"$f":"IF(LEN(场费表!R6)>0,场费表!R6,\"\")","v":""},{"$f":"IF(LEN(场费表!S6)>0,场费表!S6,\"\")","v":""},{"$f":"IF(LEN(场费表!T6)>0,场费表!T6,\"\")","v":""},{"$f":"IF(LEN(场费表!U6)>0,场费表!U6,\"\")","v":""},{"$f":"IF(LEN(场费表!V6)>0,场费表!V6,\"\")","v":""},{"$f":"IF(LEN(场费表!W6)>0,场费表!W6,\"\")","v":""},{"$f":"IF(LEN(场费表!X6)>0,场费表!X6,\"\")","v":""},{"$f":"IF(LEN(场费表!Y6)>0,场费表!Y6,\"\")","v":""},{"$f":"IF(LEN(场费表!Z6)>0,场费表!Z6,\"\")","v":""},{"$f":"IF(LEN(场费表!AA6)>0,场费表!AA6,\"\")","v":""},{"$f":"IF(LEN(场费表!AB6)>0,场费表!AB6,\"\")","v":""},{"$f":"IF(LEN(场费表!AC6)>0,场费表!AC6,\"\")","v":""},{"$f":"IF(LEN(场费表!AD6)>0,场费表!AD6,\"\")","v":""},{"$f":"IF(LEN(场费表!AE6)>0,场费表!AE6,\"\")","v":""},{"$f":"IF(LEN(场费表!AF6)>0,场费表!AF6,\"\")","v":""},{"$f":"IF(LEN(场费表!AG6)>0,场费表!AG6,\"\")","v":""},{"$f":"IF(LEN(场费表!AH6)>0,场费表!AH6,\"\")","v":""},{"$f":"IF(LEN(场费表!AI6)>0,场费表!AI6,\"\")","v":""},{"$f":"IF(LEN(场费表!AJ6)>0,场费表!AJ6,\"\")","v":""},{"$f":"IF(LEN(场费表!AK6)>0,场费表!AK6,\"\")","v":""},{"$f":"IF(LEN(场费表!AL6)>0,场费表!AL6,\"\")","v":""},{"$f":"IF(LEN(场费表!AM6)>0,场费表!AM6,\"\")","v":""},{"$f":"IF(LEN(场费表!AN6)>0,场费表!AN6,\"\")","v":""},{"$f":"IF(LEN(场费表!AO6)>0,场费表!AO6,\"\")","v":""},{"$f":"IF(LEN(场费表!AP6)>0,场费表!AP6,\"\")","v":""},{"$f":"IF(LEN(场费表!AQ6)>0,场费表!AQ6,\"\")","v":""},{"$f":"IF(LEN(场费表!AR6)>0,场费表!AR6,\"\")","v":""},{"$f":"IF(LEN(场费表!AS6)>0,场费表!AS6,\"\")","v":""},{"$f":"IF(LEN(场费表!AT6)>0,场费表!AT6,\"\")","v":""},{"$f":"IF(LEN(场费表!AU6)>0,场费表!AU6,\"\")","v":""},{"$f":"IF(LEN(场费表!AV6)>0,场费表!AV6,\"\")","v":""},{"$f":"IF(LEN(场费表!AW6)>0,场费表!AW6,\"\")","v":""},{"$f":"IF(LEN(场费表!AX6)>0,场费表!AX6,\"\")","v":""},{"$f":"IF(LEN(场费表!AY6)>0,场费表!AY6,\"\")","v":""},{"$f":"IF(LEN(场费表!AZ6)>0,场费表!AZ6,\"\")","v":""},{"$f":"IF(LEN(场费表!BA6)>0,场费表!BA6,\"\")","v":""},{"$f":"IF(LEN(场费表!BB6)>0,场费表!BB6,\"\")","v":""},{"$f":"IF(LEN(场费表!BC6)>0,场费表!BC6,\"\")","v":""},{"$f":"IF(LEN(场费表!BD6)>0,场费表!BD6,\"\")","v":""},{"$f":"IF(LEN(场费表!BE6)>0,场费表!BE6,\"\")","v":""},{"$f":"IF(LEN(场费表!BF6)>0,场费表!BF6,\"\")","v":""},{"$f":"IF(LEN(场费表!BG6)>0,场费表!BG6,\"\")","v":""},{"$f":"IF(LEN(场费表!BH6)>0,场费表!BH6,\"\")","v":""},{"$f":"IF(LEN(场费表!BI6)>0,场费表!BI6,\"\")","v":""},{"$f":"IF(LEN(场费表!BJ6)>0,场费表!BJ6,\"\")","v":""},{"$f":"IF(LEN(场费表!BK6)>0,场费表!BK6,\"\")","v":""}]
[null,"进球总数","场均进球","赛果",{"$f":"IF(LEN(场费表!D7)>0,场费表!D7,\"\")","v":"3:1"},{"$f":"IF(LEN(场费表!E7)>0,场费表!E7,\"\")","v":""},{"$f":"IF(LEN(场费表!F7)>0,场费表!F7,\"\")","v":""},{"$f":"IF(LEN(场费表!G7)>0,场费表!G7,\"\")","v":""},{"$f":"IF(LEN(场费表!H7)>0,场费表!H7,\"\")","v":""},{"$f":"IF(LEN(场费表!I7)>0,场费表!I7,\"\")","v":""},{"$f":"IF(LEN(场费表!J7)>0,场费表!J7,\"\")","v":""},{"$f":"IF(LEN(场费表!K7)>0,场费表!K7,\"\")","v":""},{"$f":"IF(LEN(场费表!L7)>0,场费表!L7,\"\")","v":""},{"$f":"IF(LEN(场费表!M7)>0,场费表!M7,\"\")","v":""},{"$f":"IF(LEN(场费表!N7)>0,场费表!N7,\"\")","v":""},{"$f":"IF(LEN(场费表!O7)>0,场费表!O7,\"\")","v":""},{"$f":"IF(LEN(场费表!P7)>0,场费表!P7,\"\")","v":""},{"$f":"IF(LEN(场费表!Q7)>0,场费表!Q7,\"\")","v":""},{"$f":"IF(LEN(场费表!R7)>0,场费表!R7,\"\")","v":""},{"$f":"IF(LEN(场费表!S7)>0,场费表!S7,\"\")","v":""},{"$f":"IF(LEN(场费表!T7)>0,场费表!T7,\"\")","v":""},{"$f":"IF(LEN(场费表!U7)>0,场费表!U7,\"\")","v":""},{"$f":"IF(LEN(场费表!V7)>0,场费表!V7,\"\")","v":""},{"$f":"IF(LEN(场费表!W7)>0,场费表!W7,\"\")","v":""},{"$f":"IF(LEN(场费表!X7)>0,场费表!X7,\"\")","v":""},{"$f":"IF(LEN(场费表!Y7)>0,场费表!Y7,\"\")","v":""},{"$f":"IF(LEN(场费表!Z7)>0,场费表!Z7,\"\")","v":""},{"$f":"IF(LEN(场费表!AA7)>0,场费表!AA7,\"\")","v":""},{"$f":"IF(LEN(场费表!AB7)>0,场费表!AB7,\"\")","v":""},{"$f":"IF(LEN(场费表!AC7)>0,场费表!AC7,\"\")","v":""},{"$f":"IF(LEN(场费表!AD7)>0,场费表!AD7,\"\")","v":""},{"$f":"IF(LEN(场费表!AE7)>0,场费表!AE7,\"\")","v":""},{"$f":"IF(LEN(场费表!AF7)>0,场费表!AF7,\"\")","v":""},{"$f":"IF(LEN(场费表!AG7)>0,场费表!AG7,\"\")","v":""},{"$f":"IF(LEN(场费表!AH7)>0,场费表!AH7,\"\")","v":""},{"$f":"IF(LEN(场费表!AI7)>0,场费表!AI7,\"\")","v":""},{"$f":"IF(LEN(场费表!AJ7)>0,场费表!AJ7,\"\")","v":""},{"$f":"IF(LEN(场费表!AK7)>0,场费表!AK7,\"\")","v":""},{"$f":"IF(LEN(场费表!AL7)>0,场费表!AL7,\"\")","v":""},{"$f":"IF(LEN(场费表!AM7)>0,场费表!AM7,\"\")","v":""},{"$f":"IF(LEN(场费表!AN7)>0,场费表!AN7,\"\")","v":""},{"$f":"IF(LEN(场费表!AO7)>0,场费表!AO7,\"\")","v":""},{"$f":"IF(LEN(场费表!AP7)>0,场费表!AP7,\"\")","v":""},{"$f":"IF(LEN(场费表!AQ7)>0,场费表!AQ7,\"\")","v":""},{"$f":"IF(LEN(场费表!AR7)>0,场费表!AR7,\"\")","v":""},{"$f":"IF(LEN(场费表!AS7)>0,场费表!AS7,\"\")","v":""},{"$f":"IF(LEN(场费表!AT7)>0,场费表!AT7,\"\")","v":""},{"$f":"IF(LEN(场费表!AU7)>0,场费表!AU7,\"\")","v":""},{"$f":"IF(LEN(场费表!AV7)>0,场费表!AV7,\"\")","v":""},{"$f":"IF(LEN(场费表!AW7)>0,场费表!AW7,\"\")","v":""},{"$f":"IF(LEN(场费表!AX7)>0,场费表!AX7,\"\")","v":""},{"$f":"IF(LEN(场费表!AY7)>0,场费表!AY7,\"\")","v":""},{"$f":"IF(LEN(场费表!AZ7)>0,场费表!AZ7,\"\")","v":""},{"$f":"IF(LEN(场费表!BA7)>0,场费表!BA7,\"\")","v":""},{"$f":"IF(LEN(场费表!BB7)>0,场费表!BB7,\"\")","v":""},{"$f":"IF(LEN(场费表!BC7)>0,场费表!BC7,\"\")","v":""},{"$f":"IF(LEN(场费表!BD7)>0,场费表!BD7,\"\")","v":""},{"$f":"IF(LEN(场费表!BE7)>0,场费表!BE7,\"\")","v":""},{"$f":"IF(LEN(场费表!BF7)>0,场费表!BF7,\"\")","v":""},{"$f":"IF(LEN(场费表!BG7)>0,场费表!BG7,\"\")","v":""},{"$f":"IF(LEN(场费表!BH7)>0,场费表!BH7,\"\")","v":""},{"$f":"IF(LEN(场费表!BI7)>0,场费表!BI7,\"\")","v":""},{"$f":"IF(LEN(场费表!BJ7)>0,场费表!BJ7,\"\")","v":""},{"$f":"IF(LEN(场费表!BK7)>0,场费表!BK7,\"\")","v":""}]
[{"$f":"IF(LEN(场费表!A9)>0,场费表!A9,\"\")","v":"[44]施心疯"},{"$f":"SUM(E7:BL7)","v":1},{"$f":"IF(COUNTA(E7:BL7)>0,B7/COUNTA(场费表!D9:BK9),0)","v":1},{"$f":"CONCATENATE( 场费表!C9,\",出勤率\",ROUND(COUNTA(场费表!D9:'场费表'!BK9)/IF(场费表!C2>0,场费表!C2,1), 3)*100,\"%\")","v":"参加1次,出勤率100%"},1]
[{"$f":"IF(LEN(场费表!A10)>0,场费表!A10,\"\")","v":"[7]C罗"},1,{"$f":"IF(COUNTA(E8:BL8)>0,B8/COUNTA(场费表!D10:BK10),0)","v":1},{"$f":"CONCATENATE( 场费表!C10,\",出勤率\",ROUND(COUNTA(场费表!D10:'场费表'!BK10)/IF(场费表!C2>0,场费表!C2,1), 3)*100,\"%\")","v":"参加1次,出勤率100%"},1]
[{"$f":"IF(LEN(场费表!A11)>0,场费表!A11,\"\")","v":"[10]梅西"},0,{"$f":"IF(COUNTA(E9:BL9)>0,B9/COUNTA(场费表!D11:BK11),0)","v":0},{"$f":"CONCATENATE( 场费表!C11,\",出勤率\",ROUND(COUNTA(场费表!D11:'场费表'!BK11)/IF(场费表!C2>0,场费表!C2,1), 3)*100,\"%\")","v":"参加1次,出勤率100%"}]
[{"$f":"IF(LEN(场费表!A12)>0,场费表!A12,\"\")","v":"[9]范尼"},1,{"$f":"IF(COUNTA(E10:BL10)>0,B10/COUNTA(场费表!D12:BK12),0)","v":1},{"$f":"CONCATENATE( 场费表!C12,\",出勤率\",ROUND(COUNTA(场费表!D12:'场费表'!BK12)/IF(场费表!C2>0,场费表!C2,1), 3)*100,\"%\")","v":"参加1次,出勤率100%"},1]
[{"$f":"IF(LEN(场费表!A13)>0,场费表!A13,\"\")","v":"[18]斯科尔斯"},0,{"$f":"IF(COUNTA(E11:BL11)>0,B11/COUNTA(场费表!D13:BK13),0)","v":0},{"$f":"CONCATENATE( 场费表!C13,\",出勤率\",ROUND(COUNTA(场费表!D13:'场费表'!BK13)/IF(场费表!C2>0,场费表!C2,1), 3)*100,\"%\")","v":"参加1次,出勤率100%"}]
[{"$f":"IF(LEN(场费表!A14)>0,场费表!A14,\"\")","v":"[8]哈维"},0,{"$f":"IF(COUNTA(E12:BL12)>0,B12/COUNTA(场费表!D14:BK14),0)","v":0},{"$f":"CONCATENATE( 场费表!C14,\",出勤率\",ROUND(COUNTA(场费表!D14:'场费表'!BK14)/IF(场费表!C2>0,场费表!C2,1), 3)*100,\"%\")","v":"参加1次,出勤率100%"}]
[{"$f":"IF(LEN(场费表!A15)>0,场费表!A15,\"\")","v":"[4]维埃拉"},0,{"$f":"IF(COUNTA(E13:BL13)>0,B13/COUNTA(场费表!D15:BK15),0)","v":0},{"$f":"CONCATENATE( 场费表!C15,\",出勤率\",ROUND(COUNTA(场费表!D15:'场费表'!BK15)/IF(场费表!C2>0,场费表!C2,1), 3)*100,\"%\")","v":"参加1次,出勤率100%"}]
[{"$f":"IF(LEN(场费表!A16)>0,场费表!A16,\"\")","v":"[5]费迪南"},0,{"$f":"IF(COUNTA(E14:BL14)>0,B14/COUNTA(场费表!D16:BK16),0)","v":0},{"$f":"CONCATENATE( 场费表!C16,\",出勤率\",ROUND(COUNTA(场费表!D16:'场费表'!BK16)/IF(场费表!C2>0,场费表!C2,1), 3)*100,\"%\")","v":"参加1次,出勤率100%"}]
[{"$f":"IF(LEN(场费表!A17)>0,场费表!A17,\"\")","v":"[6]特里"},0,{"$f":"IF(COUNTA(E15:BL15)>0,B15/COUNTA(场费表!D17:BK17),0)","v":0},{"$f":"CONCATENATE( 场费表!C17,\",出勤率\",ROUND(COUNTA(场费表!D17:'场费表'!BK17)/IF(场费表!C2>0,场费表!C2,1), 3)*100,\"%\")","v":"参加0次,出勤率0%"}]
[{"$f":"IF(LEN(场费表!A18)>0,场费表!A18,\"\")","v":"[17]卡纳瓦罗"},0,{"$f":"IF(COUNTA(E16:BL16)>0,B16/COUNTA(场费表!D18:BK18),0)","v":0},{"$f":"CONCATENATE( 场费表!C18,\",出勤率\",ROUND(COUNTA(场费表!D18:'场费表'!BK18)/IF(场费表!C2>0,场费表!C2,1), 3)*100,\"%\")","v":"参加1次,出勤率100%"}]
[{"$f":"IF(LEN(场费表!A19)>0,场费表!A19,\"\")","v":"[1]范德萨"},0,{"$f":"IF(COUNTA(E17:BL17)>0,B17/COUNTA(场费表!D19:BK19),0)","v":0},{"$f":"CONCATENATE( 场费表!C19,\",出勤率\",ROUND(COUNTA(场费表!D19:'场费表'!BK19)/IF(场费表!C2>0,场费表!C2,1), 3)*100,\"%\")","v":"参加0次,出勤率0%"}]
[{"$f":"IF(LEN(场费表!A20)>0,场费表!A20,\"\")","v":"[20]索尔斯卡亚"},0,{"$f":"IF(COUNTA(E18:BL18)>0,B18/COUNTA(场费表!D20:BK20),0)","v":0},{"$f":"CONCATENATE( 场费表!C20,\",出勤率\",ROUND(COUNTA(场费表!D20:'场费表'!BK20)/IF(场费表!C2>0,场费表!C2,1), 3)*100,\"%\")","v":"参加0次,出勤率0%"}]
[{"$f":"IF(LEN(场费表!A21)>0,场费表!A21,\"\")","v":"[--]德赫亚"},0,{"$f":"IF(COUNTA(E19:BL19)>0,B19/COUNTA(场费表!D21:BK21),0)","v":0},{"$f":"CONCATENATE( 场费表!C21,\",出勤率\",ROUND(COUNTA(场费表!D21:'场费表'!BK21)/IF(场费表!C2>0,场费表!C2,1), 3)*100,\"%\")","v":"参加1次,出勤率100%"}]
[{"$f":"IF(LEN(场费表!A22)>0,场费表!A22,\"\")","v":"[--]加里内维尔"},0,{"$f":"IF(COUNTA(E20:BL20)>0,B20/COUNTA(场费表!D22:BK22),0)","v":0},{"$f":"CONCATENATE( 场费表!C22,\",出勤率\",ROUND(COUNTA(场费表!D22:'场费表'!BK22)/IF(场费表!C2>0,场费表!C2,1), 3)*100,\"%\")","v":"参加0次,出勤率0%"}]
[{"$f":"IF(LEN(场费表!A23)>0,场费表!A23,\"\")","v":"[--]埃弗拉"},0,{"$f":"IF(COUNTA(E21:BL21)>0,B21/COUNTA(场费表!D23:BK23),0)","v":0},{"$f":"CONCATENATE( 场费表!C23,\",出勤率\",ROUND(COUNTA(场费表!D23:'场费表'!BK23)/IF(场费表!C2>0,场费表!C2,1), 3)*100,\"%\")","v":"参加1次,出勤率100%"}]
[{"$f":"IF(LEN(场费表!A24)>0,场费表!A24,\"\")","v":"[--]维迪奇"},0,{"$f":"IF(COUNTA(E22:BL22)>0,B22/COUNTA(场费表!D24:BK24),0)","v":0},{"$f":"CONCATENATE( 场费表!C24,\",出勤率\",ROUND(COUNTA(场费表!D24:'场费表'!BK24)/IF(场费表!C2>0,场费表!C2,1), 3)*100,\"%\")","v":"参加0次,出勤率0%"}]
[{"$f":"IF(LEN(场费表!A25)>0,场费表!A25,\"\")","v":"[--]斯塔姆"},0,{"$f":"IF(COUNTA(E23:BL23)>0,B23/COUNTA(场费表!D25:BK25),0)","v":0},{"$f":"CONCATENATE( 场费表!C25,\",出勤率\",ROUND(COUNTA(场费表!D25:'场费表'!BK25)/IF(场费表!C2>0,场费表!C2,1), 3)*100,\"%\")","v":"参加1次,出勤率100%"}]
[{"$f":"IF(LEN(场费表!A26)>0,场费表!A26,\"\")","v":"[--]贝克汉姆"},0,{"$f":"IF(COUNTA(E24:BL24)>0,B24/COUNTA(场费表!D26:BK26),0)","v":0},{"$f":"CONCATENATE( 场费表!C26,\",出勤率\",ROUND(COUNTA(场费表!D26:'场费表'!BK26)/IF(场费表!C2>0,场费表!C2,1), 3)*100,\"%\")","v":"参加1次,出勤率100%"}]
[{"$f":"IF(LEN(场费表!A27)>0,场费表!A27,\"\")","v":"[--]吉格斯"},0,{"$f":"IF(COUNTA(E25:BL25)>0,B25/COUNTA(场费表!D27:BK27),0)","v":0},{"$f":"CONCATENATE( 场费表!C27,\",出勤率\",ROUND(COUNTA(场费表!D27:'场费表'!BK27)/IF(场费表!C2>0,场费表!C2,1), 3)*100,\"%\")","v":"参加0次,出勤率0%"}]
[{"$f":"IF(LEN(场费表!A28)>0,场费表!A28,\"\")","v":"[--]朴三肺"},0,{"$f":"IF(COUNTA(E26:BL26)>0,B26/COUNTA(场费表!D28:BK28),0)","v":0},{"$f":"CONCATENATE( 场费表!C28,\",出勤率\",ROUND(COUNTA(场费表!D28:'场费表'!BK28)/IF(场费表!C2>0,场费表!C2,1), 3)*100,\"%\")","v":"参加0次,出勤率0%"}]
[{"$f":"IF(LEN(场费表!A29)>0,场费表!A29,\"\")","v":"[--]特维斯"},0,{"$f":"IF(COUNTA(E27:BL27)>0,B27/COUNTA(场费表!D29:BK29),0)","v":0},{"$f":"CONCATENATE( 场费表!C29,\",出勤率\",ROUND(COUNTA(场费表!D29:'场费表'!BK29)/IF(场费表!C2>0,场费表!C2,1), 3)*100,\"%\")","v":"参加1次,出勤率100%"}]
[{"$f":"IF(LEN(场费表!A30)>0,场费表!A30,\"\")","v":"[--]里奥"},0,{"$f":"IF(COUNTA(E28:BL28)>0,B28/COUNTA(场费表!D30:BK30),0)","v":0},{"$f":"CONCATENATE( 场费表!C30,\",出勤率\",ROUND(COUNTA(场费表!D30:'场费表'!BK30)/IF(场费表!C2>0,场费表!C2,1), 3)*100,\"%\")","v":"参加0次,出勤率0%"}]
[{"$f":"IF(LEN(场费表!A31)>0,场费表!A31,\"\")","v":"[--]斯塔姆"},0,{"$f":"IF(COUNTA(E29:BL29)>0,B29/COUNTA(场费表!D31:BK31),0)","v":0},{"$f":"CONCATENATE( 场费表!C31,\",出勤率\",ROUND(COUNTA(场费表!D31:'场费表'!BK31)/IF(场费表!C2>0,场费表!C2,1), 3)*100,\"%\")","v":"参加0次,出勤率0%"}]
[{"$f":"IF(LEN(场费表!A32)>0,场费表!A32,\"\")","v":"[--]海因策"},0,{"$f":"IF(COUNTA(E30:BL30)>0,B30/COUNTA(场费表!D32:BK32),0)","v":0},{"$f":"CONCATENATE( 场费表!C32,\",出勤率\",ROUND(COUNTA(场费表!D32:'场费表'!BK32)/IF(场费表!C2>0,场费表!C2,1), 3)*100,\"%\")","v":"参加0次,出勤率0%"}]
[{"$f":"IF(LEN(场费表!A33)>0,场费表!A33,\"\")","v":"[--]埃尔文"},0,{"$f":"IF(COUNTA(E31:BL31)>0,B31/COUNTA(场费表!D33:BK33),0)","v":0},{"$f":"CONCATENATE( 场费表!C33,\",出勤率\",ROUND(COUNTA(场费表!D33:'场费表'!BK33)/IF(场费表!C2>0,场费表!C2,1), 3)*100,\"%\")","v":"参加0次,出勤率0%"}]
[{"$f":"IF(LEN(场费表!A34)>0,场费表!A34,\"\")","v":"[--]保罗因斯"},0,{"$f":"IF(COUNTA(E32:BL32)>0,B32/COUNTA(场费表!D34:BK34),0)","v":0},{"$f":"CONCATENATE( 场费表!C34,\",出勤率\",ROUND(COUNTA(场费表!D34:'场费表'!BK34)/IF(场费表!C2>0,场费表!C2,1), 3)*100,\"%\")","v":"参加0次,出勤率0%"}]
[{"$f":"IF(LEN(场费表!A35)>0,场费表!A35,\"\")","v":""},0,{"$f":"IF(COUNTA(E33:BL33)>0,B33/COUNTA(场费表!D35:BK35),0)","v":0},{"$f":"CONCATENATE( 场费表!C35,\",出勤率\",ROUND(COUNTA(场费表!D35:'场费表'!BK35)/IF(场费表!C2>0,场费表!C2,1), 3)*100,\"%\")","v":"参加0次,出勤率0%"}]
[{"$f":"IF(LEN(场费表!A36)>0,场费表!A36,\"\")","v":""},0,{"$f":"IF(COUNTA(E34:BL34)>0,B34/COUNTA(场费表!D36:BK36),0)","v":0},{"$f":"CONCATENATE( 场费表!C36,\",出勤率\",ROUND(COUNTA(场费表!D36:'场费表'!BK36)/IF(场费表!C2>0,场费表!C2,1), 3)*100,\"%\")","v":"参加0次,出勤率0%"}]
[{"$f":"IF(LEN(场费表!A37)>0,场费表!A37,\"\")","v":""},0,{"$f":"IF(COUNTA(E35:BL35)>0,B35/COUNTA(场费表!D37:BK37),0)","v":0},{"$f":"CONCATENATE( 场费表!C37,\",出勤率\",ROUND(COUNTA(场费表!D37:'场费表'!BK37)/IF(场费表!C2>0,场费表!C2,1), 3)*100,\"%\")","v":"参加0次,出勤率0%"}]
[{"$f":"IF(LEN(场费表!A38)>0,场费表!A38,\"\")","v":""},0,{"$f":"IF(COUNTA(E36:BL36)>0,B36/COUNTA(场费表!D38:BK38),0)","v":0},{"$f":"CONCATENATE( 场费表!C38,\",出勤率\",ROUND(COUNTA(场费表!D38:'场费表'!BK38)/IF(场费表!C2>0,场费表!C2,1), 3)*100,\"%\")","v":"参加0次,出勤率0%"}]
[{"$f":"IF(LEN(场费表!A39)>0,场费表!A39,\"\")","v":""},{"$f":"SUM(E37:BL37)","v":0},{"$f":"IF(COUNTA(E37:BL37)>0,B37/COUNTA(场费表!D39:BK39),0)","v":0},{"$f":"CONCATENATE( 场费表!C39,\",出勤率\",ROUND(COUNTA(场费表!D39:'场费表'!BK39)/IF(场费表!C2>0,场费表!C2,1), 3)*100,\"%\")","v":"参加0次,出勤率0%"}]
[{"$f":"IF(LEN(场费表!A40)>0,场费表!A40,\"\")","v":""},0,{"$f":"IF(COUNTA(E38:BL38)>0,B38/COUNTA(场费表!D40:BK40),0)","v":0},{"$f":"CONCATENATE( 场费表!C40,\",出勤率\",ROUND(COUNTA(场费表!D40:'场费表'!BK40)/IF(场费表!C2>0,场费表!C2,1), 3)*100,\"%\")","v":"参加0次,出勤率0%"}]
[{"$f":"IF(LEN(场费表!A41)>0,场费表!A41,\"\")","v":""},0,{"$f":"IF(COUNTA(E39:BL39)>0,B39/COUNTA(场费表!D41:BK41),0)","v":0},{"$f":"CONCATENATE( 场费表!C41,\",出勤率\",ROUND(COUNTA(场费表!D41:'场费表'!BK41)/IF(场费表!C2>0,场费表!C2,1), 3)*100,\"%\")","v":"参加0次,出勤率0%"}]
[{"$f":"IF(LEN(场费表!A42)>0,场费表!A42,\"\")","v":""},0,{"$f":"IF(COUNTA(E40:BL40)>0,B40/COUNTA(场费表!D42:BK42),0)","v":0},{"$f":"CONCATENATE( 场费表!C42,\",出勤率\",ROUND(COUNTA(场费表!D42:'场费表'!BK42)/IF(场费表!C2>0,场费表!C2,1), 3)*100,\"%\")","v":"参加0次,出勤率0%"}]
[{"$f":"IF(LEN(场费表!A43)>0,场费表!A43,\"\")","v":""},0,{"$f":"IF(COUNTA(E41:BL41)>0,B41/COUNTA(场费表!D43:BK43),0)","v":0},{"$f":"CONCATENATE( 场费表!C43,\",出勤率\",ROUND(COUNTA(场费表!D43:'场费表'!BK43)/IF(场费表!C2>0,场费表!C2,1), 3)*100,\"%\")","v":"参加0次,出勤率0%"}]
[{"$f":"IF(LEN(场费表!A44)>0,场费表!A44,\"\")","v":""},0,{"$f":"IF(COUNTA(E42:BL42)>0,B42/COUNTA(场费表!D44:BK44),0)","v":0},{"$f":"CONCATENATE( 场费表!C44,\",出勤率\",ROUND(COUNTA(场费表!D44:'场费表'!BK44)/IF(场费表!C2>0,场费表!C2,1), 3)*100,\"%\")","v":"参加0次,出勤率0%"}]
[{"$f":"IF(LEN(场费表!A45)>0,场费表!A45,\"\")","v":""},0,{"$f":"IF(COUNTA(E43:BL43)>0,B43/COUNTA(场费表!D45:BK45),0)","v":0},{"$f":"CONCATENATE( 场费表!C45,\",出勤率\",ROUND(COUNTA(场费表!D45:'场费表'!BK45)/IF(场费表!C2>0,场费表!C2,1), 3)*100,\"%\")","v":"参加0次,出勤率0%"}]
[{"$f":"IF(LEN(场费表!A46)>0,场费表!A46,\"\")","v":""},0,{"$f":"IF(COUNTA(E44:BL44)>0,B44/COUNTA(场费表!D46:BK46),0)","v":0},{"$f":"CONCATENATE( 场费表!C46,\",出勤率\",ROUND(COUNTA(场费表!D46:'场费表'!BK46)/IF(场费表!C2>0,场费表!C2,1), 3)*100,\"%\")","v":"参加0次,出勤率0%"}]
[{"$f":"IF(LEN(场费表!A47)>0,场费表!A47,\"\")","v":""},0,{"$f":"IF(COUNTA(E45:BL45)>0,B45/COUNTA(场费表!D47:BK47),0)","v":0},{"$f":"CONCATENATE( 场费表!C47,\",出勤率\",ROUND(COUNTA(场费表!D47:'场费表'!BK47)/IF(场费表!C2>0,场费表!C2,1), 3)*100,\"%\")","v":"参加0次,出勤率0%"}]
[{"$f":"IF(LEN(场费表!A48)>0,场费表!A48,\"\")","v":""},0,{"$f":"IF(COUNTA(E46:BL46)>0,B46/COUNTA(场费表!D48:BK48),0)","v":0},{"$f":"CONCATENATE( 场费表!C48,\",出勤率\",ROUND(COUNTA(场费表!D48:'场费表'!BK48)/IF(场费表!C2>0,场费表!C2,1), 3)*100,\"%\")","v":"参加0次,出勤率0%"}]
[{"$f":"IF(LEN(场费表!A49)>0,场费表!A49,\"\")","v":""},0,{"$f":"IF(COUNTA(E47:BL47)>0,B47/COUNTA(场费表!D49:BK49),0)","v":0},{"$f":"CONCATENATE( 场费表!C49,\",出勤率\",ROUND(COUNTA(场费表!D49:'场费表'!BK49)/IF(场费表!C2>0,场费表!C2,1), 3)*100,\"%\")","v":"参加0次,出勤率0%"}]
[{"$f":"IF(LEN(场费表!A50)>0,场费表!A50,\"\")","v":""},0,{"$f":"IF(COUNTA(E48:BL48)>0,B48/COUNTA(场费表!D50:BK50),0)","v":0},{"$f":"CONCATENATE( 场费表!C50,\",出勤率\",ROUND(COUNTA(场费表!D50:'场费表'!BK50)/IF(场费表!C2>0,场费表!C2,1), 3)*100,\"%\")","v":"参加0次,出勤率0%"}]
[{"$f":"IF(LEN(场费表!A51)>0,场费表!A51,\"\")","v":""},0,{"$f":"IF(COUNTA(E49:BL49)>0,B49/COUNTA(场费表!D51:BK51),0)","v":0},{"$f":"CONCATENATE( 场费表!C51,\",出勤率\",ROUND(COUNTA(场费表!D51:'场费表'!BK51)/IF(场费表!C2>0,场费表!C2,1), 3)*100,\"%\")","v":"参加0次,出勤率0%"}]
[{"$f":"IF(LEN(场费表!A52)>0,场费表!A52,\"\")","v":""},0,{"$f":"IF(COUNTA(E50:BL50)>0,B50/COUNTA(场费表!D52:BK52),0)","v":0},{"$f":"CONCATENATE( 场费表!C52,\",出勤率\",ROUND(COUNTA(场费表!D52:'场费表'!BK52)/IF(场费表!C2>0,场费表!C2,1), 3)*100,\"%\")","v":"参加0次,出勤率0%"}]
[{"$f":"IF(LEN(场费表!A53)>0,场费表!A53,\"\")","v":""},0,{"$f":"IF(COUNTA(E51:BL51)>0,B51/COUNTA(场费表!D53:BK53),0)","v":0},{"$f":"CONCATENATE( 场费表!C53,\",出勤率\",ROUND(COUNTA(场费表!D53:'场费表'!BK53)/IF(场费表!C2>0,场费表!C2,1), 3)*100,\"%\")","v":"参加0次,出勤率0%"}]
[{"$f":"IF(LEN(场费表!A54)>0,场费表!A54,\"\")","v":""},0,{"$f":"IF(COUNTA(E52:BL52)>0,B52/COUNTA(场费表!D54:BK54),0)","v":0},{"$f":"CONCATENATE( 场费表!C54,\",出勤率\",ROUND(COUNTA(场费表!D54:'场费表'!BK54)/IF(场费表!C2>0,场费表!C2,1), 3)*100,\"%\")","v":"参加0次,出勤率0%"}]
[{"$f":"IF(LEN(场费表!A55)>0,场费表!A55,\"\")","v":""},0,{"$f":"IF(COUNTA(E53:BL53)>0,B53/COUNTA(场费表!D55:BK55),0)","v":0},{"$f":"CONCATENATE( 场费表!C55,\",出勤率\",ROUND(COUNTA(场费表!D55:'场费表'!BK55)/IF(场费表!C2>0,场费表!C2,1), 3)*100,\"%\")","v":"参加0次,出勤率0%"}]
[{"$f":"IF(LEN(场费表!A56)>0,场费表!A56,\"\")","v":""},0,{"$f":"IF(COUNTA(E54:BL54)>0,B54/COUNTA(场费表!D56:BK56),0)","v":0},{"$f":"CONCATENATE( 场费表!C56,\",出勤率\",ROUND(COUNTA(场费表!D56:'场费表'!BK56)/IF(场费表!C2>0,场费表!C2,1), 3)*100,\"%\")","v":"参加0次,出勤率0%"}]
[{"$f":"IF(LEN(场费表!A57)>0,场费表!A57,\"\")","v":""},0,{"$f":"IF(COUNTA(E55:BL55)>0,B55/COUNTA(场费表!D57:BK57),0)","v":0},{"$f":"CONCATENATE( 场费表!C57,\",出勤率\",ROUND(COUNTA(场费表!D57:'场费表'!BK57)/IF(场费表!C2>0,场费表!C2,1), 3)*100,\"%\")","v":"参加0次,出勤率0%"}]
[{"$f":"IF(LEN(场费表!A58)>0,场费表!A58,\"\")","v":""},0,{"$f":"IF(COUNTA(E56:BL56)>0,B56/COUNTA(场费表!D58:BK58),0)","v":0},{"$f":"CONCATENATE( 场费表!C58,\",出勤率\",ROUND(COUNTA(场费表!D58:'场费表'!BK58)/IF(场费表!C2>0,场费表!C2,1), 3)*100,\"%\")","v":"参加0次,出勤率0%"}]
[{"$f":"IF(LEN(场费表!A59)>0,场费表!A59,\"\")","v":""},0,{"$f":"IF(COUNTA(E57:BL57)>0,B57/COUNTA(场费表!D59:BK59),0)","v":0},{"$f":"CONCATENATE( 场费表!C59,\",出勤率\",ROUND(COUNTA(场费表!D59:'场费表'!BK59)/IF(场费表!C2>0,场费表!C2,1), 3)*100,\"%\")","v":"参加0次,出勤率0%"}]
[{"$f":"IF(LEN(场费表!A60)>0,场费表!A60,\"\")","v":""},0,{"$f":"IF(COUNTA(E58:BL58)>0,B58/COUNTA(场费表!D60:BK60),0)","v":0},{"$f":"CONCATENATE( 场费表!C60,\",出勤率\",ROUND(COUNTA(场费表!D60:'场费表'!BK60)/IF(场费表!C2>0,场费表!C2,1), 3)*100,\"%\")","v":"参加0次,出勤率0%"}]
[{"$f":"IF(LEN(场费表!A61)>0,场费表!A61,\"\")","v":""},0,{"$f":"IF(COUNTA(E59:BL59)>0,B59/COUNTA(场费表!D61:BK61),0)","v":0},{"$f":"CONCATENATE( 场费表!C61,\",出勤率\",ROUND(COUNTA(场费表!D61:'场费表'!BK61)/IF(场费表!C2>0,场费表!C2,1), 3)*100,\"%\")","v":"参加0次,出勤率0%"}]
[{"$f":"IF(LEN(场费表!A62)>0,场费表!A62,\"\")","v":""},0,{"$f":"IF(COUNTA(E60:BL60)>0,B60/COUNTA(场费表!D62:BK62),0)","v":0},{"$f":"CONCATENATE( 场费表!C62,\",出勤率\",ROUND(COUNTA(场费表!D62:'场费表'!BK62)/IF(场费表!C2>0,场费表!C2,1), 3)*100,\"%\")","v":"参加0次,出勤率0%"}]
[{"$f":"IF(LEN(场费表!A63)>0,场费表!A63,\"\")","v":""},0,{"$f":"IF(COUNTA(E61:BL61)>0,B61/COUNTA(场费表!D63:BK63),0)","v":0},{"$f":"CONCATENATE( 场费表!C63,\",出勤率\",ROUND(COUNTA(场费表!D63:'场费表'!BK63)/IF(场费表!C2>0,场费表!C2,1), 3)*100,\"%\")","v":"参加0次,出勤率0%"}]
[{"$f":"IF(LEN(场费表!A64)>0,场费表!A64,\"\")","v":""},0,{"$f":"IF(COUNTA(E62:BL62)>0,B62/COUNTA(场费表!D64:BK64),0)","v":0},{"$f":"CONCATENATE( 场费表!C64,\",出勤率\",ROUND(COUNTA(场费表!D64:'场费表'!BK64)/IF(场费表!C2>0,场费表!C2,1), 3)*100,\"%\")","v":"参加0次,出勤率0%"}]
[{"$f":"IF(LEN(场费表!A65)>0,场费表!A65,\"\")","v":""},0,{"$f":"IF(COUNTA(E63:BL63)>0,B63/COUNTA(场费表!D65:BK65),0)","v":0},{"$f":"CONCATENATE( 场费表!C65,\",出勤率\",ROUND(COUNTA(场费表!D65:'场费表'!BK65)/IF(场费表!C2>0,场费表!C2,1), 3)*100,\"%\")","v":"参加0次,出勤率0%"}]
[{"$f":"IF(LEN(场费表!A66)>0,场费表!A66,\"\")","v":""},0,{"$f":"IF(COUNTA(E64:BL64)>0,B64/COUNTA(场费表!D66:BK66),0)","v":0},{"$f":"CONCATENATE( 场费表!C66,\",出勤率\",ROUND(COUNTA(场费表!D66:'场费表'!BK66)/IF(场费表!C2>0,场费表!C2,1), 3)*100,\"%\")","v":"参加0次,出勤率0%"}]
[{"$f":"IF(LEN(场费表!A67)>0,场费表!A67,\"\")","v":""},0,{"$f":"IF(COUNTA(E65:BL65)>0,B65/COUNTA(场费表!D67:BK67),0)","v":0},{"$f":"CONCATENATE( 场费表!C67,\",出勤率\",ROUND(COUNTA(场费表!D67:'场费表'!BK67)/IF(场费表!C2>0,场费表!C2,1), 3)*100,\"%\")","v":"参加0次,出勤率0%"}]
[{"$f":"IF(LEN(场费表!A68)>0,场费表!A68,\"\")","v":""},{"$f":"SUM(E66:BL66)","v":0},{"$f":"IF(COUNTA(E66:BL66)>0,B66/COUNTA(场费表!D68:BK68),0)","v":0},{"$f":"CONCATENATE( 场费表!C68,\",出勤率\",ROUND(COUNTA(场费表!D68:'场费表'!BK68)/IF(场费表!C2>0,场费表!C2,1), 3)*100,\"%\")","v":"参加0次,出勤率0%"}]
[{"$f":"IF(LEN(场费表!A69)>0,场费表!A69,\"\")","v":""},0,{"$f":"IF(COUNTA(E67:BL67)>0,B67/COUNTA(场费表!D69:BK69),0)","v":0},{"$f":"CONCATENATE( 场费表!C69,\",出勤率\",ROUND(COUNTA(场费表!D69:'场费表'!BK69)/IF(场费表!C2>0,场费表!C2,1), 3)*100,\"%\")","v":"参加0次,出勤率0%"}]
[{"$f":"IF(LEN(场费表!A70)>0,场费表!A70,\"\")","v":""},0,{"$f":"IF(COUNTA(E68:BL68)>0,B68/COUNTA(场费表!D70:BK70),0)","v":0},{"$f":"CONCATENATE( 场费表!C70,\",出勤率\",ROUND(COUNTA(场费表!D70:'场费表'!BK70)/IF(场费表!C2>0,场费表!C2,1), 3)*100,\"%\")","v":"参加0次,出勤率0%"}]
[{"$f":"IF(LEN(场费表!A71)>0,场费表!A71,\"\")","v":""},0,{"$f":"IF(COUNTA(E69:BL69)>0,B69/COUNTA(场费表!D71:BK71),0)","v":0},{"$f":"CONCATENATE( 场费表!C71,\",出勤率\",ROUND(COUNTA(场费表!D71:'场费表'!BK71)/IF(场费表!C2>0,场费表!C2,1), 3)*100,\"%\")","v":"参加0次,出勤率0%"}]
[{"$f":"IF(LEN(场费表!A72)>0,场费表!A72,\"\")","v":""},0,{"$f":"IF(COUNTA(E70:BL70)>0,B70/COUNTA(场费表!D72:BK72),0)","v":0},{"$f":"CONCATENATE( 场费表!C72,\",出勤率\",ROUND(COUNTA(场费表!D72:'场费表'!BK72)/IF(场费表!C2>0,场费表!C2,1), 3)*100,\"%\")","v":"参加0次,出勤率0%"}]
[{"$f":"IF(LEN(场费表!A73)>0,场费表!A73,\"\")","v":""},0,{"$f":"IF(COUNTA(E71:BL71)>0,B71/COUNTA(场费表!D73:BK73),0)","v":0},{"$f":"CONCATENATE( 场费表!C73,\",出勤率\",ROUND(COUNTA(场费表!D73:'场费表'!BK73)/IF(场费表!C2>0,场费表!C2,1), 3)*100,\"%\")","v":"参加0次,出勤率0%"}]
[{"$f":"IF(LEN(场费表!A74)>0,场费表!A74,\"\")","v":""},0,{"$f":"IF(COUNTA(E72:BL72)>0,B72/COUNTA(场费表!D74:BK74),0)","v":0},{"$f":"CONCATENATE( 场费表!C74,\",出勤率\",ROUND(COUNTA(场费表!D74:'场费表'!BK74)/IF(场费表!C2>0,场费表!C2,1), 3)*100,\"%\")","v":"参加0次,出勤率0%"}]
[{"$f":"IF(LEN(场费表!A75)>0,场费表!A75,\"\")","v":""},0,{"$f":"IF(COUNTA(E73:BL73)>0,B73/COUNTA(场费表!D75:BK75),0)","v":0},{"$f":"CONCATENATE( 场费表!C75,\",出勤率\",ROUND(COUNTA(场费表!D75:'场费表'!BK75)/IF(场费表!C2>0,场费表!C2,1), 3)*100,\"%\")","v":"参加0次,出勤率0%"}]
[{"$f":"IF(LEN(场费表!A76)>0,场费表!A76,\"\")","v":""},0,{"$f":"IF(COUNTA(E74:BL74)>0,B74/COUNTA(场费表!D76:BK76),0)","v":0},{"$f":"CONCATENATE( 场费表!C76,\",出勤率\",ROUND(COUNTA(场费表!D76:'场费表'!BK76)/IF(场费表!C2>0,场费表!C2,1), 3)*100,\"%\")","v":"参加0次,出勤率0%"}]
[{"$f":"IF(LEN(场费表!A77)>0,场费表!A77,\"\")","v":""},0,{"$f":"IF(COUNTA(E75:BL75)>0,B75/COUNTA(场费表!D77:BK77),0)","v":0},{"$f":"CONCATENATE( 场费表!C77,\",出勤率\",ROUND(COUNTA(场费表!D77:'场费表'!BK77)/IF(场费表!C2>0,场费表!C2,1), 3)*100,\"%\")","v":"参加0次,出勤率0%"}]
[{"$f":"IF(LEN(场费表!A78)>0,场费表!A78,\"\")","v":""},0,{"$f":"IF(COUNTA(E76:BL76)>0,B76/COUNTA(场费表!D78:BK78),0)","v":0},{"$f":"CONCATENATE( 场费表!C78,\",出勤率\",ROUND(COUNTA(场费表!D78:'场费表'!BK78)/IF(场费表!C2>0,场费表!C2,1), 3)*100,\"%\")","v":"参加0次,出勤率0%"}]
[{"$f":"IF(LEN(场费表!A79)>0,场费表!A79,\"\")","v":""},0,{"$f":"IF(COUNTA(E77:BL77)>0,B77/COUNTA(场费表!D79:BK79),0)","v":0},{"$f":"CONCATENATE( 场费表!C79,\",出勤率\",ROUND(COUNTA(场费表!D79:'场费表'!BK79)/IF(场费表!C2>0,场费表!C2,1), 3)*100,\"%\")","v":"参加0次,出勤率0%"}]
[{"$f":"IF(LEN(场费表!A80)>0,场费表!A80,\"\")","v":""},0,{"$f":"IF(COUNTA(E78:BL78)>0,B78/COUNTA(场费表!D80:BK80),0)","v":0},{"$f":"CONCATENATE( 场费表!C80,\",出勤率\",ROUND(COUNTA(场费表!D80:'场费表'!BK80)/IF(场费表!C2>0,场费表!C2,1), 3)*100,\"%\")","v":"参加0次,出勤率0%"}]
[{"$f":"IF(LEN(场费表!A81)>0,场费表!A81,\"\")","v":""},0,{"$f":"IF(COUNTA(E79:BL79)>0,B79/COUNTA(场费表!D81:BK81),0)","v":0},{"$f":"CONCATENATE( 场费表!C81,\",出勤率\",ROUND(COUNTA(场费表!D81:'场费表'!BK81)/IF(场费表!C2>0,场费表!C2,1), 3)*100,\"%\")","v":"参加0次,出勤率0%"}]
[{"$f":"IF(LEN(场费表!A82)>0,场费表!A82,\"\")","v":""},0,{"$f":"IF(COUNTA(E80:BL80)>0,B80/COUNTA(场费表!D82:BK82),0)","v":0},{"$f":"CONCATENATE( 场费表!C82,\",出勤率\",ROUND(COUNTA(场费表!D82:'场费表'!BK82)/IF(场费表!C2>0,场费表!C2,1), 3)*100,\"%\")","v":"参加0次,出勤率0%"}]
[{"$f":"IF(LEN(场费表!A83)>0,场费表!A83,\"\")","v":""},0,{"$f":"IF(COUNTA(E81:BL81)>0,B81/COUNTA(场费表!D83:BK83),0)","v":0},{"$f":"CONCATENATE( 场费表!C83,\",出勤率\",ROUND(COUNTA(场费表!D83:'场费表'!BK83)/IF(场费表!C2>0,场费表!C2,1), 3)*100,\"%\")","v":"参加0次,出勤率0%"}]
[{"$f":"IF(LEN(场费表!A84)>0,场费表!A84,\"\")","v":""},0,{"$f":"IF(COUNTA(E82:BL82)>0,B82/COUNTA(场费表!D84:BK84),0)","v":0},{"$f":"CONCATENATE( 场费表!C84,\",出勤率\",ROUND(COUNTA(场费表!D84:'场费表'!BK84)/IF(场费表!C2>0,场费表!C2,1), 3)*100,\"%\")","v":"参加0次,出勤率0%"}]
[{"$f":"IF(LEN(场费表!A85)>0,场费表!A85,\"\")","v":""},0,{"$f":"IF(COUNTA(E83:BL83)>0,B83/COUNTA(场费表!D85:BK85),0)","v":0},{"$f":"CONCATENATE( 场费表!C85,\",出勤率\",ROUND(COUNTA(场费表!D85:'场费表'!BK85)/IF(场费表!C2>0,场费表!C2,1), 3)*100,\"%\")","v":"参加0次,出勤率0%"}]
[{"$f":"IF(LEN(场费表!A86)>0,场费表!A86,\"\")","v":""},0,{"$f":"IF(COUNTA(E84:BL84)>0,B84/COUNTA(场费表!D86:BK86),0)","v":0},{"$f":"CONCATENATE( 场费表!C86,\",出勤率\",ROUND(COUNTA(场费表!D86:'场费表'!BK86)/IF(场费表!C2>0,场费表!C2,1), 3)*100,\"%\")","v":"参加0次,出勤率0%"}]
[{"$f":"IF(LEN(场费表!A87)>0,场费表!A87,\"\")","v":""},0,{"$f":"IF(COUNTA(E85:BL85)>0,B85/COUNTA(场费表!D87:BK87),0)","v":0},{"$f":"CONCATENATE( 场费表!C87,\",出勤率\",ROUND(COUNTA(场费表!D87:'场费表'!BK87)/IF(场费表!C2>0,场费表!C2,1), 3)*100,\"%\")","v":"参加0次,出勤率0%"}]
[{"$f":"IF(LEN(场费表!A88)>0,场费表!A88,\"\")","v":""},0,{"$f":"IF(COUNTA(E86:BL86)>0,B86/COUNTA(场费表!D88:BK88),0)","v":0},{"$f":"CONCATENATE( 场费表!C88,\",出勤率\",ROUND(COUNTA(场费表!D88:'场费表'!BK88)/IF(场费表!C2>0,场费表!C2,1), 3)*100,\"%\")","v":"参加0次,出勤率0%"}]
[{"$f":"IF(LEN(场费表!A89)>0,场费表!A89,\"\")","v":""},0,{"$f":"IF(COUNTA(E87:BL87)>0,B87/COUNTA(场费表!D89:BK89),0)","v":0},{"$f":"CONCATENATE( 场费表!C89,\",出勤率\",ROUND(COUNTA(场费表!D89:'场费表'!BK89)/IF(场费表!C2>0,场费表!C2,1), 3)*100,\"%\")","v":"参加0次,出勤率0%"}]
[{"$f":"IF(LEN(场费表!A90)>0,场费表!A90,\"\")","v":""},0,{"$f":"IF(COUNTA(E88:BL88)>0,B88/COUNTA(场费表!D90:BK90),0)","v":0},{"$f":"CONCATENATE( 场费表!C90,\",出勤率\",ROUND(COUNTA(场费表!D90:'场费表'!BK90)/IF(场费表!C2>0,场费表!C2,1), 3)*100,\"%\")","v":"参加0次,出勤率0%"}]
[{"$f":"IF(LEN(场费表!A91)>0,场费表!A91,\"\")","v":""},0,{"$f":"IF(COUNTA(E89:BL89)>0,B89/COUNTA(场费表!D91:BK91),0)","v":0},{"$f":"CONCATENATE( 场费表!C91,\",出勤率\",ROUND(COUNTA(场费表!D91:'场费表'!BK91)/IF(场费表!C2>0,场费表!C2,1), 3)*100,\"%\")","v":"参加0次,出勤率0%"}]
[{"$f":"IF(LEN(场费表!A92)>0,场费表!A92,\"\")","v":""},0,{"$f":"IF(COUNTA(E90:BL90)>0,B90/COUNTA(场费表!D92:BK92),0)","v":0},{"$f":"CONCATENATE( 场费表!C92,\",出勤率\",ROUND(COUNTA(场费表!D92:'场费表'!BK92)/IF(场费表!C2>0,场费表!C2,1), 3)*100,\"%\")","v":"参加0次,出勤率0%"}]
[{"$f":"IF(LEN(场费表!A93)>0,场费表!A93,\"\")","v":""},0,{"$f":"IF(COUNTA(E91:BL91)>0,B91/COUNTA(场费表!D93:BK93),0)","v":0},{"$f":"CONCATENATE( 场费表!C93,\",出勤率\",ROUND(COUNTA(场费表!D93:'场费表'!BK93)/IF(场费表!C2>0,场费表!C2,1), 3)*100,\"%\")","v":"参加0次,出勤率0%"}]
[{"$f":"IF(LEN(场费表!A94)>0,场费表!A94,\"\")","v":""},0,{"$f":"IF(COUNTA(E92:BL92)>0,B92/COUNTA(场费表!D94:BK94),0)","v":0},{"$f":"CONCATENATE( 场费表!C94,\",出勤率\",ROUND(COUNTA(场费表!D94:'场费表'!BK94)/IF(场费表!C2>0,场费表!C2,1), 3)*100,\"%\")","v":"参加0次,出勤率0%"}]
[{"$f":"IF(LEN(场费表!A95)>0,场费表!A95,\"\")","v":""},0,{"$f":"IF(COUNTA(E93:BL93)>0,B93/COUNTA(场费表!D95:BK95),0)","v":0},{"$f":"CONCATENATE( 场费表!C95,\",出勤率\",ROUND(COUNTA(场费表!D95:'场费表'!BK95)/IF(场费表!C2>0,场费表!C2,1), 3)*100,\"%\")","v":"参加0次,出勤率0%"}]
[{"$f":"IF(LEN(场费表!A96)>0,场费表!A96,\"\")","v":""},0,{"$f":"IF(COUNTA(E94:BL94)>0,B94/COUNTA(场费表!D96:BK96),0)","v":0},{"$f":"CONCATENATE( 场费表!C96,\",出勤率\",ROUND(COUNTA(场费表!D96:'场费表'!BK96)/IF(场费表!C2>0,场费表!C2,1), 3)*100,\"%\")","v":"参加0次,出勤率0%"}]
[{"$f":"IF(LEN(场费表!A97)>0,场费表!A97,\"\")","v":""},{"$f":"SUM(E95:BL95)","v":0},{"$f":"IF(COUNTA(E95:BL95)>0,B95/COUNTA(场费表!D97:BK97),0)","v":0},{"$f":"CONCATENATE( 场费表!C97,\",出勤率\",ROUND(COUNTA(场费表!D97:'场费表'!BK97)/IF(场费表!C2>0,场费表!C2,1), 3)*100,\"%\")","v":"参加0次,出勤率0%"}]
[{"$f":"IF(LEN(场费表!A98)>0,场费表!A98,\"\")","v":""},{"$f":"SUM(E96:BL96)","v":0},{"$f":"IF(COUNTA(E96:BL96)>0,B96/COUNTA(场费表!D98:BK98),0)","v":0},{"$f":"CONCATENATE( 场费表!C98,\",出勤率\",ROUND(COUNTA(场费表!D98:'场费表'!BK98)/IF(场费表!C2>0,场费表!C2,1), 3)*100,\"%\")","v":"参加0次,出勤率0%"}]
[{"$f":"IF(LEN(场费表!A99)>0,场费表!A99,\"\")","v":""},{"$f":"SUM(E97:BL97)","v":0},{"$f":"IF(COUNTA(E97:BL97)>0,B97/COUNTA(场费表!D99:BK99),0)","v":0},{"$f":"CONCATENATE( 场费表!C99,\",出勤率\",ROUND(COUNTA(场费表!D99:'场费表'!BK99)/IF(场费表!C2>0,场费表!C2,1), 3)*100,\"%\")","v":"参加0次,出勤率0%"}]
[{"$f":"IF(LEN(场费表!A100)>0,场费表!A100,\"\")","v":""},{"$f":"SUM(E98:BL98)","v":0},{"$f":"IF(COUNTA(E98:BL98)>0,B98/COUNTA(场费表!D100:BK100),0)","v":0},{"$f":"CONCATENATE( 场费表!C100,\",出勤率\",ROUND(COUNTA(场费表!D100:'场费表'!BK100)/IF(场费表!C2>0,场费表!C2,1), 3)*100,\"%\")","v":"参加0次,出勤率0%"}]

{"sheet":"助攻表","index":4,"n_rows":98,"n_cols":64,"rows_kept":98,"cut":false,"hidden":false,"merged":[[0,0,0,63],[1,0,5,0]]}
["足球球队管理工具 - 助攻表"]
["报名者","球队总助攻：",{"$f":"CONCATENATE(SUM(B7:B94), \"球\")","v":"2球"},"日期",{"$f":"IF(LEN(场费表!D3)>0,场费表!D3,\"\")","v":"2020-07-04"},{"$f":"IF(LEN(场费表!E3)>0,场费表!E3,\"\")","v":""},{"$f":"IF(LEN(场费表!F3)>0,场费表!F3,\"\")","v":""},{"$f":"IF(LEN(场费表!G3)>0,场费表!G3,\"\")","v":""},{"$f":"IF(LEN(场费表!H3)>0,场费表!H3,\"\")","v":""},{"$f":"IF(LEN(场费表!I3)>0,场费表!I3,\"\")","v":""},{"$f":"IF(LEN(场费表!J3)>0,场费表!J3,\"\")","v":""},{"$f":"IF(LEN(场费表!K3)>0,场费表!K3,\"\")","v":""},{"$f":"IF(LEN(场费表!L3)>0,场费表!L3,\"\")","v":""},{"$f":"IF(LEN(场费表!M3)>0,场费表!M3,\"\")","v":""},{"$f":"IF(LEN(场费表!N3)>0,场费表!N3,\"\")","v":""},{"$f":"IF(LEN(场费表!O3)>0,场费表!O3,\"\")","v":""},{"$f":"IF(LEN(场费表!P3)>0,场费表!P3,\"\")","v":""},{"$f":"IF(LEN(场费表!Q3)>0,场费表!Q3,\"\")","v":""},{"$f":"IF(LEN(场费表!R3)>0,场费表!R3,\"\")","v":""},{"$f":"IF(LEN(场费表!S3)>0,场费表!S3,\"\")","v":""},{"$f":"IF(LEN(场费表!T3)>0,场费表!T3,\"\")","v":""},{"$f":"IF(LEN(场费表!U3)>0,场费表!U3,\"\")","v":""},{"$f":"IF(LEN(场费表!V3)>0,场费表!V3,\"\")","v":""},{"$f":"IF(LEN(场费表!W3)>0,场费表!W3,\"\")","v":""},{"$f":"IF(LEN(场费表!X3)>0,场费表!X3,\"\")","v":""},{"$f":"IF(LEN(场费表!Y3)>0,场费表!Y3,\"\")","v":""},{"$f":"IF(LEN(场费表!Z3)>0,场费表!Z3,\"\")","v":""},{"$f":"IF(LEN(场费表!AA3)>0,场费表!AA3,\"\")","v":""},{"$f":"IF(LEN(场费表!AB3)>0,场费表!AB3,\"\")","v":""},{"$f":"IF(LEN(场费表!AC3)>0,场费表!AC3,\"\")","v":""},{"$f":"IF(LEN(场费表!AD3)>0,场费表!AD3,\"\")","v":""},{"$f":"IF(LEN(场费表!AE3)>0,场费表!AE3,\"\")","v":""},{"$f":"IF(LEN(场费表!AF3)>0,场费表!AF3,\"\")","v":""},{"$f":"IF(LEN(场费表!AG3)>0,场费表!AG3,\"\")","v":""},{"$f":"IF(LEN(场费表!AH3)>0,场费表!AH3,\"\")","v":""},{"$f":"IF(LEN(场费表!AI3)>0,场费表!AI3,\"\")","v":""},{"$f":"IF(LEN(场费表!AJ3)>0,场费表!AJ3,\"\")","v":""},{"$f":"IF(LEN(场费表!AK3)>0,场费表!AK3,\"\")","v":""},{"$f":"IF(LEN(场费表!AL3)>0,场费表!AL3,\"\")","v":""},{"$f":"IF(LEN(场费表!AM3)>0,场费表!AM3,\"\")","v":""},{"$f":"IF(LEN(场费表!AN3)>0,场费表!AN3,\"\")","v":""},{"$f":"IF(LEN(场费表!AO3)>0,场费表!AO3,\"\")","v":""},{"$f":"IF(LEN(场费表!AP3)>0,场费表!AP3,\"\")","v":""},{"$f":"IF(LEN(场费表!AQ3)>0,场费表!AQ3,\"\")","v":""},{"$f":"IF(LEN(场费表!AR3)>0,场费表!AR3,\"\")","v":""},{"$f":"IF(LEN(场费表!AS3)>0,场费表!AS3,\"\")","v":""},{"$f":"IF(LEN(场费表!AT3)>0,场费表!AT3,\"\")","v":""},{"$f":"IF(LEN(场费表!AU3)>0,场费表!AU3,\"\")","v":""},{"$f":"IF(LEN(场费表!AV3)>0,场费表!AV3,\"\")","v":""},{"$f":"IF(LEN(场费表!AW3)>0,场费表!AW3,\"\")","v":""},{"$f":"IF(LEN(场费表!AX3)>0,场费表!AX3,\"\")","v":""},{"$f":"IF(LEN(场费表!AY3)>0,场费表!AY3,\"\")","v":""},{"$f":"IF(LEN(场费表!AZ3)>0,场费表!AZ3,\"\")","v":""},{"$f":"IF(LEN(场费表!BA3)>0,场费表!BA3,\"\")","v":""},{"$f":"IF(LEN(场费表!BB3)>0,场费表!BB3,\"\")","v":""},{"$f":"IF(LEN(场费表!BC3)>0,场费表!BC3,\"\")","v":""},{"$f":"IF(LEN(场费表!BD3)>0,场费表!BD3,\"\")","v":""},{"$f":"IF(LEN(场费表!BE3)>0,场费表!BE3,\"\")","v":""},{"$f":"IF(LEN(场费表!BF3)>0,场费表!BF3,\"\")","v":""},{"$f":"IF(LEN(场费表!BG3)>0,场费表!BG3,\"\")","v":""},{"$f":"IF(LEN(场费表!BH3)>0,场费表!BH3,\"\")","v":""},{"$f":"IF(LEN(场费表!BI3)>0,场费表!BI3,\"\")","v":""},{"$f":"IF(LEN(场费表!BJ3)>0,场费表!BJ3,\"\")","v":""},{"$f":"IF(LEN(场费表!BK3)>0,场费表!BK3,\"\")","v":""}]
[null,"总胜：",{"$f":"GetResultCount(E6:BL6,1)","v":1},"时间",{"$f":"IF(LEN(场费表!D4)>0,场费表!D4,\"\")","v":"20:30:00"},{"$f":"IF(LEN(场费表!E4)>0,场费表!E4,\"\")","v":""},{"$f":"IF(LEN(场费表!F4)>0,场费表!F4,\"\")","v":""},{"$f":"IF(LEN(场费表!G4)>0,场费表!G4,\"\")","v":""},{"$f":"IF(LEN(场费表!H4)>0,场费表!H4,\"\")","v":""},{"$f":"IF(LEN(场费表!I4)>0,场费表!I4,\"\")","v":""},{"$f":"IF(LEN(场费表!J4)>0,场费表!J4,\"\")","v":""},{"$f":"IF(LEN(场费表!K4)>0,场费表!K4,\"\")","v":""},{"$f":"IF(LEN(场费表!L4)>0,场费表!L4,\"\")","v":""},{"$f":"IF(LEN(场费表!M4)>0,场费表!M4,\"\")","v":""},{"$f":"IF(LEN(场费表!N4)>0,场费表!N4,\"\")","v":""},{"$f":"IF(LEN(场费表!O4)>0,场费表!O4,\"\")","v":""},{"$f":"IF(LEN(场费表!P4)>0,场费表!P4,\"\")","v":""},{"$f":"IF(LEN(场费表!Q4)>0,场费表!Q4,\"\")","v":""},{"$f":"IF(LEN(场费表!R4)>0,场费表!R4,\"\")","v":""},{"$f":"IF(LEN(场费表!S4)>0,场费表!S4,\"\")","v":""},{"$f":"IF(LEN(场费表!T4)>0,场费表!T4,\"\")","v":""},{"$f":"IF(LEN(场费表!U4)>0,场费表!U4,\"\")","v":""},{"$f":"IF(LEN(场费表!V4)>0,场费表!V4,\"\")","v":""},{"$f":"IF(LEN(场费表!W4)>0,场费表!W4,\"\")","v":""},{"$f":"IF(LEN(场费表!X4)>0,场费表!X4,\"\")","v":""},{"$f":"IF(LEN(场费表!Y4)>0,场费表!Y4,\"\")","v":""},{"$f":"IF(LEN(场费表!Z4)>0,场费表!Z4,\"\")","v":""},{"$f":"IF(LEN(场费表!AA4)>0,场费表!AA4,\"\")","v":""},{"$f":"IF(LEN(场费表!AB4)>0,场费表!AB4,\"\")","v":""},{"$f":"IF(LEN(场费表!AC4)>0,场费表!AC4,\"\")","v":""},{"$f":"IF(LEN(场费表!AD4)>0,场费表!AD4,\"\")","v":""},{"$f":"IF(LEN(场费表!AE4)>0,场费表!AE4,\"\")","v":""},{"$f":"IF(LEN(场费表!AF4)>0,场费表!AF4,\"\")","v":""},{"$f":"IF(LEN(场费表!AG4)>0,场费表!AG4,\"\")","v":""},{"$f":"IF(LEN(场费表!AH4)>0,场费表!AH4,\"\")","v":""},{"$f":"IF(LEN(场费表!AI4)>0,场费表!AI4,\"\")","v":""},{"$f":"IF(LEN(场费表!AJ4)>0,场费表!AJ4,\"\")","v":""},{"$f":"IF(LEN(场费表!AK4)>0,场费表!AK4,\"\")","v":""},{"$f":"IF(LEN(场费表!AL4)>0,场费表!AL4,\"\")","v":""},{"$f":"IF(LEN(场费表!AM4)>0,场费表!AM4,\"\")","v":""},{"$f":"IF(LEN(场费表!AN4)>0,场费表!AN4,\"\")","v":""},{"$f":"IF(LEN(场费表!AO4)>0,场费表!AO4,\"\")","v":""},{"$f":"IF(LEN(场费表!AP4)>0,场费表!AP4,\"\")","v":""},{"$f":"IF(LEN(场费表!AQ4)>0,场费表!AQ4,\"\")","v":""},{"$f":"IF(LEN(场费表!AR4)>0,场费表!AR4,\"\")","v":""},{"$f":"IF(LEN(场费表!AS4)>0,场费表!AS4,\"\")","v":""},{"$f":"IF(LEN(场费表!AT4)>0,场费表!AT4,\"\")","v":""},{"$f":"IF(LEN(场费表!AU4)>0,场费表!AU4,\"\")","v":""},{"$f":"IF(LEN(场费表!AV4)>0,场费表!AV4,\"\")","v":""},{"$f":"IF(LEN(场费表!AW4)>0,场费表!AW4,\"\")","v":""},{"$f":"IF(LEN(场费表!AX4)>0,场费表!AX4,\"\")","v":""},{"$f":"IF(LEN(场费表!AY4)>0,场费表!AY4,\"\")","v":""},{"$f":"IF(LEN(场费表!AZ4)>0,场费表!AZ4,\"\")","v":""},{"$f":"IF(LEN(场费表!BA4)>0,场费表!BA4,\"\")","v":""},{"$f":"IF(LEN(场费表!BB4)>0,场费表!BB4,\"\")","v":""},{"$f":"IF(LEN(场费表!BC4)>0,场费表!BC4,\"\")","v":""},{"$f":"IF(LEN(场费表!BD4)>0,场费表!BD4,\"\")","v":""},{"$f":"IF(LEN(场费表!BE4)>0,场费表!BE4,\"\")","v":""},{"$f":"IF(LEN(场费表!BF4)>0,场费表!BF4,\"\")","v":""},{"$f":"IF(LEN(场费表!BG4)>0,场费表!BG4,\"\")","v":""},{"$f":"IF(LEN(场费表!BH4)>0,场费表!BH4,\"\")","v":""},{"$f":"IF(LEN(场费表!BI4)>0,场费表!BI4,\"\")","v":""},{"$f":"IF(LEN(场费表!BJ4)>0,场费表!BJ4,\"\")","v":""},{"$f":"IF(LEN(场费表!BK4)>0,场费表!BK4,\"\")","v":""}]
[null,"总平：",{"$f":"GetResultCount(E6:BL6,0)","v":0},"对手",{"$f":"IF(LEN(场费表!D5)>0,场费表!D5,\"\")","v":"未知"},{"$f":"IF(LEN(场费表!E5)>0,场费表!E5,\"\")","v":""},{"$f":"IF(LEN(场费表!F5)>0,场费表!F5,\"\")","v":""},{"$f":"IF(LEN(场费表!G5)>0,场费表!G5,\"\")","v":""},{"$f":"IF(LEN(场费表!H5)>0,场费表!H5,\"\")","v":""},{"$f":"IF(LEN(场费表!I5)>0,场费表!I5,\"\")","v":""},{"$f":"IF(LEN(场费表!J5)>0,场费表!J5,\"\")","v":""},{"$f":"IF(LEN(场费表!K5)>0,场费表!K5,\"\")","v":""},{"$f":"IF(LEN(场费表!L5)>0,场费表!L5,\"\")","v":""},{"$f":"IF(LEN(场费表!M5)>0,场费表!M5,\"\")","v":""},{"$f":"IF(LEN(场费表!N5)>0,场费表!N5,\"\")","v":""},{"$f":"IF(LEN(场费表!O5)>0,场费表!O5,\"\")","v":""},{"$f":"IF(LEN(场费表!P5)>0,场费表!P5,\"\")","v":""},{"$f":"IF(LEN(场费表!Q5)>0,场费表!Q5,\"\")","v":""},{"$f":"IF(LEN(场费表!R5)>0,场费表!R5,\"\")","v":""},{"$f":"IF(LEN(场费表!S5)>0,场费表!S5,\"\")","v":""},{"$f":"IF(LEN(场费表!T5)>0,场费表!T5,\"\")","v":""},{"$f":"IF(LEN(场费表!U5)>0,场费表!U5,\"\")","v":""},{"$f":"IF(LEN(场费表!V5)>0,场费表!V5,\"\")","v":""},{"$f":"IF(LEN(场费表!W5)>0,场费表!W5,\"\")","v":""},{"$f":"IF(LEN(场费表!X5)>0,场费表!X5,\"\")","v":""},{"$f":"IF(LEN(场费表!Y5)>0,场费表!Y5,\"\")","v":""},{"$f":"IF(LEN(场费表!Z5)>0,场费表!Z5,\"\")","v":""},{"$f":"IF(LEN(场费表!AA5)>0,场费表!AA5,\"\")","v":""},{"$f":"IF(LEN(场费表!AB5)>0,场费表!AB5,\"\")","v":""},{"$f":"IF(LEN(场费表!AC5)>0,场费表!AC5,\"\")","v":""},{"$f":"IF(LEN(场费表!AD5)>0,场费表!AD5,\"\")","v":""},{"$f":"IF(LEN(场费表!AE5)>0,场费表!AE5,\"\")","v":""},{"$f":"IF(LEN(场费表!AF5)>0,场费表!AF5,\"\")","v":""},{"$f":"IF(LEN(场费表!AG5)>0,场费表!AG5,\"\")","v":""},{"$f":"IF(LEN(场费表!AH5)>0,场费表!AH5,\"\")","v":""},{"$f":"IF(LEN(场费表!AI5)>0,场费表!AI5,\"\")","v":""},{"$f":"IF(LEN(场费表!AJ5)>0,场费表!AJ5,\"\")","v":""},{"$f":"IF(LEN(场费表!AK5)>0,场费表!AK5,\"\")","v":""},{"$f":"IF(LEN(场费表!AL5)>0,场费表!AL5,\"\")","v":""},{"$f":"IF(LEN(场费表!AM5)>0,场费表!AM5,\"\")","v":""},{"$f":"IF(LEN(场费表!AN5)>0,场费表!AN5,\"\")","v":""},{"$f":"IF(LEN(场费表!AO5)>0,场费表!AO5,\"\")","v":""},{"$f":"IF(LEN(场费表!AP5)>0,场费表!AP5,\"\")","v":""},{"$f":"IF(LEN(场费表!AQ5)>0,场费表!AQ5,\"\")","v":""},{"$f":"IF(LEN(场费表!AR5)>0,场费表!AR5,\"\")","v":""},{"$f":"IF(LEN(场费表!AS5)>0,场费表!AS5,\"\")","v":""},{"$f":"IF(LEN(场费表!AT5)>0,场费表!AT5,\"\")","v":""},{"$f":"IF(LEN(场费表!AU5)>0,场费表!AU5,\"\")","v":""},{"$f":"IF(LEN(场费表!AV5)>0,场费表!AV5,\"\")","v":""},{"$f":"IF(LEN(场费表!AW5)>0,场费表!AW5,\"\")","v":""},{"$f":"IF(LEN(场费表!AX5)>0,场费表!AX5,\"\")","v":""},{"$f":"IF(LEN(场费表!AY5)>0,场费表!AY5,\"\")","v":""},{"$f":"IF(LEN(场费表!AZ5)>0,场费表!AZ5,\"\")","v":""},{"$f":"IF(LEN(场费表!BA5)>0,场费表!BA5,\"\")","v":""},{"$f":"IF(LEN(场费表!BB5)>0,场费表!BB5,\"\")","v":""},{"$f":"IF(LEN(场费表!BC5)>0,场费表!BC5,\"\")","v":""},{"$f":"IF(LEN(场费表!BD5)>0,场费表!BD5,\"\")","v":""},{"$f":"IF(LEN(场费表!BE5)>0,场费表!BE5,\"\")","v":""},{"$f":"IF(LEN(场费表!BF5)>0,场费表!BF5,\"\")","v":""},{"$f":"IF(LEN(场费表!BG5)>0,场费表!BG5,\"\")","v":""},{"$f":"IF(LEN(场费表!BH5)>0,场费表!BH5,\"\")","v":""},{"$f":"IF(LEN(场费表!BI5)>0,场费表!BI5,\"\")","v":""},{"$f":"IF(LEN(场费表!BJ5)>0,场费表!BJ5,\"\")","v":""},{"$f":"IF(LEN(场费表!BK5)>0,场费表!BK5,\"\")","v":""}]
[null,"总负：",{"$f":"GetResultCount(E6:BL6,-1)","v":0},"场地",{"$f":"IF(LEN(场费表!D6)>0,场费表!D6,\"\")","v":"邕江郡2号"},{"$f":"IF(LEN(场费表!E6)>0,场费表!E6,\"\")","v":""},{"$f":"IF(LEN(场费表!F6)>0,场费表!F6,\"\")","v":""},{"$f":"IF(LEN(场费表!G6)>0,场费表!G6,\"\")","v":""},{"$f":"IF(LEN(场费表!H6)>0,场费表!H6,\"\")","v":""},{"$f":"IF(LEN(场费表!I6)>0,场费表!I6,\"\")","v":""},{"$f":"IF(LEN(场费表!J6)>0,场费表!J6,\"\")","v":""},{"$f":"IF(LEN(场费表!K6)>0,场费表!K6,\"\")","v":""},{"$f":"IF(LEN(场费表!L6)>0,场费表!L6,\"\")","v":""},{"$f":"IF(LEN(场费表!M6)>0,场费表!M6,\"\")","v":""},{"$f":"IF(LEN(场费表!N6)>0,场费表!N6,\"\")","v":""},{"$f":"IF(LEN(场费表!O6)>0,场费表!O6,\"\")","v":""},{"$f":"IF(LEN(场费表!P6)>0,场费表!P6,\"\")","v":""},{"$f":"IF(LEN(场费表!Q6)>0,场费表!Q6,\"\")","v":""},{"$f":"IF(LEN(场费表!R6)>0,场费表!R6,\"\")","v":""},{"$f":"IF(LEN(场费表!S6)>0,场费表!S6,\"\")","v":""},{"$f":"IF(LEN(场费表!T6)>0,场费表!T6,\"\")","v":""},{"$f":"IF(LEN(场费表!U6)>0,场费表!U6,\"\")","v":""},{"$f":"IF(LEN(场费表!V6)>0,场费表!V6,\"\")","v":""},{"$f":"IF(LEN(场费表!W6)>0,场费表!W6,\"\")","v":""},{"$f":"IF(LEN(场费表!X6)>0,场费表!X6,\"\")","v":""},{"$f":"IF(LEN(场费表!Y6)>0,场费表!Y6,\"\")","v":""},{"$f":"IF(LEN(场费表!Z6)>0,场费表!Z6,\"\")","v":""},{"$f":"IF(LEN(场费表!AA6)>0,场费表!AA6,\"\")","v":""},{"$f":"IF(LEN(场费表!AB6)>0,场费表!AB6,\"\")","v":""},{"$f":"IF(LEN(场费表!AC6)>0,场费表!AC6,\"\")","v":""},{"$f":"IF(LEN(场费表!AD6)>0,场费表!AD6,\"\")","v":""},{"$f":"IF(LEN(场费表!AE6)>0,场费表!AE6,\"\")","v":""},{"$f":"IF(LEN(场费表!AF6)>0,场费表!AF6,\"\")","v":""},{"$f":"IF(LEN(场费表!AG6)>0,场费表!AG6,\"\")","v":""},{"$f":"IF(LEN(场费表!AH6)>0,场费表!AH6,\"\")","v":""},{"$f":"IF(LEN(场费表!AI6)>0,场费表!AI6,\"\")","v":""},{"$f":"IF(LEN(场费表!AJ6)>0,场费表!AJ6,\"\")","v":""},{"$f":"IF(LEN(场费表!AK6)>0,场费表!AK6,\"\")","v":""},{"$f":"IF(LEN(场费表!AL6)>0,场费表!AL6,\"\")","v":""},{"$f":"IF(LEN(场费表!AM6)>0,场费表!AM6,\"\")","v":""},{"$f":"IF(LEN(场费表!AN6)>0,场费表!AN6,\"\")","v":""},{"$f":"IF(LEN(场费表!AO6)>0,场费表!AO6,\"\")","v":""},{"$f":"IF(LEN(场费表!AP6)>0,场费表!AP6,\"\")","v":""},{"$f":"IF(LEN(场费表!AQ6)>0,场费表!AQ6,\"\")","v":""},{"$f":"IF(LEN(场费表!AR6)>0,场费表!AR6,\"\")","v":""},{"$f":"IF(LEN(场费表!AS6)>0,场费表!AS6,\"\")","v":""},{"$f":"IF(LEN(场费表!AT6)>0,场费表!AT6,\"\")","v":""},{"$f":"IF(LEN(场费表!AU6)>0,场费表!AU6,\"\")","v":""},{"$f":"IF(LEN(场费表!AV6)>0,场费表!AV6,\"\")","v":""},{"$f":"IF(LEN(场费表!AW6)>0,场费表!AW6,\"\")","v":""},{"$f":"IF(LEN(场费表!AX6)>0,场费表!AX6,\"\")","v":""},{"$f":"IF(LEN(场费表!AY6)>0,场费表!AY6,\"\")","v":""},{"$f":"IF(LEN(场费表!AZ6)>0,场费表!AZ6,\"\")","v":""},{"$f":"IF(LEN(场费表!BA6)>0,场费表!BA6,\"\")","v":""},{"$f":"IF(LEN(场费表!BB6)>0,场费表!BB6,\"\")","v":""},{"$f":"IF(LEN(场费表!BC6)>0,场费表!BC6,\"\")","v":""},{"$f":"IF(LEN(场费表!BD6)>0,场费表!BD6,\"\")","v":""},{"$f":"IF(LEN(场费表!BE6)>0,场费表!BE6,\"\")","v":""},{"$f":"IF(LEN(场费表!BF6)>0,场费表!BF6,\"\")","v":""},{"$f":"IF(LEN(场费表!BG6)>0,场费表!BG6,\"\")","v":""},{"$f":"IF(LEN(场费表!BH6)>0,场费表!BH6,\"\")","v":""},{"$f":"IF(LEN(场费表!BI6)>0,场费表!BI6,\"\")","v":""},{"$f":"IF(LEN(场费表!BJ6)>0,场费表!BJ6,\"\")","v":""},{"$f":"IF(LEN(场费表!BK6)>0,场费表!BK6,\"\")","v":""}]
[null,"助攻总数","场均助攻","赛果",{"$f":"IF(LEN(场费表!D7)>0,场费表!D7,\"\")","v":"3:1"},{"$f":"IF(LEN(场费表!E7)>0,场费表!E7,\"\")","v":""},{"$f":"IF(LEN(场费表!F7)>0,场费表!F7,\"\")","v":""},{"$f":"IF(LEN(场费表!G7)>0,场费表!G7,\"\")","v":""},{"$f":"IF(LEN(场费表!H7)>0,场费表!H7,\"\")","v":""},{"$f":"IF(LEN(场费表!I7)>0,场费表!I7,\"\")","v":""},{"$f":"IF(LEN(场费表!J7)>0,场费表!J7,\"\")","v":""},{"$f":"IF(LEN(场费表!K7)>0,场费表!K7,\"\")","v":""},{"$f":"IF(LEN(场费表!L7)>0,场费表!L7,\"\")","v":""},{"$f":"IF(LEN(场费表!M7)>0,场费表!M7,\"\")","v":""},{"$f":"IF(LEN(场费表!N7)>0,场费表!N7,\"\")","v":""},{"$f":"IF(LEN(场费表!O7)>0,场费表!O7,\"\")","v":""},{"$f":"IF(LEN(场费表!P7)>0,场费表!P7,\"\")","v":""},{"$f":"IF(LEN(场费表!Q7)>0,场费表!Q7,\"\")","v":""},{"$f":"IF(LEN(场费表!R7)>0,场费表!R7,\"\")","v":""},{"$f":"IF(LEN(场费表!S7)>0,场费表!S7,\"\")","v":""},{"$f":"IF(LEN(场费表!T7)>0,场费表!T7,\"\")","v":""},{"$f":"IF(LEN(场费表!U7)>0,场费表!U7,\"\")","v":""},{"$f":"IF(LEN(场费表!V7)>0,场费表!V7,\"\")","v":""},{"$f":"IF(LEN(场费表!W7)>0,场费表!W7,\"\")","v":""},{"$f":"IF(LEN(场费表!X7)>0,场费表!X7,\"\")","v":""},{"$f":"IF(LEN(场费表!Y7)>0,场费表!Y7,\"\")","v":""},{"$f":"IF(LEN(场费表!Z7)>0,场费表!Z7,\"\")","v":""},{"$f":"IF(LEN(场费表!AA7)>0,场费表!AA7,\"\")","v":""},{"$f":"IF(LEN(场费表!AB7)>0,场费表!AB7,\"\")","v":""},{"$f":"IF(LEN(场费表!AC7)>0,场费表!AC7,\"\")","v":""},{"$f":"IF(LEN(场费表!AD7)>0,场费表!AD7,\"\")","v":""},{"$f":"IF(LEN(场费表!AE7)>0,场费表!AE7,\"\")","v":""},{"$f":"IF(LEN(场费表!AF7)>0,场费表!AF7,\"\")","v":""},{"$f":"IF(LEN(场费表!AG7)>0,场费表!AG7,\"\")","v":""},{"$f":"IF(LEN(场费表!AH7)>0,场费表!AH7,\"\")","v":""},{"$f":"IF(LEN(场费表!AI7)>0,场费表!AI7,\"\")","v":""},{"$f":"IF(LEN(场费表!AJ7)>0,场费表!AJ7,\"\")","v":""},{"$f":"IF(LEN(场费表!AK7)>0,场费表!AK7,\"\")","v":""},{"$f":"IF(LEN(场费表!AL7)>0,场费表!AL7,\"\")","v":""},{"$f":"IF(LEN(场费表!AM7)>0,场费表!AM7,\"\")","v":""},{"$f":"IF(LEN(场费表!AN7)>0,场费表!AN7,\"\")","v":""},{"$f":"IF(LEN(场费表!AO7)>0,场费表!AO7,\"\")","v":""},{"$f":"IF(LEN(场费表!AP7)>0,场费表!AP7,\"\")","v":""},{"$f":"IF(LEN(场费表!AQ7)>0,场费表!AQ7,\"\")","v":""},{"$f":"IF(LEN(场费表!AR7)>0,场费表!AR7,\"\")","v":""},{"$f":"IF(LEN(场费表!AS7)>0,场费表!AS7,\"\")","v":""},{"$f":"IF(LEN(场费表!AT7)>0,场费表!AT7,\"\")","v":""},{"$f":"IF(LEN(场费表!AU7)>0,场费表!AU7,\"\")","v":""},{"$f":"IF(LEN(场费表!AV7)>0,场费表!AV7,\"\")","v":""},{"$f":"IF(LEN(场费表!AW7)>0,场费表!AW7,\"\")","v":""},{"$f":"IF(LEN(场费表!AX7)>0,场费表!AX7,\"\")","v":""},{"$f":"IF(LEN(场费表!AY7)>0,场费表!AY7,\"\")","v":""},{"$f":"IF(LEN(场费表!AZ7)>0,场费表!AZ7,\"\")","v":""},{"$f":"IF(LEN(场费表!BA7)>0,场费表!BA7,\"\")","v":""},{"$f":"IF(LEN(场费表!BB7)>0,场费表!BB7,\"\")","v":""},{"$f":"IF(LEN(场费表!BC7)>0,场费表!BC7,\"\")","v":""},{"$f":"IF(LEN(场费表!BD7)>0,场费表!BD7,\"\")","v":""},{"$f":"IF(LEN(场费表!BE7)>0,场费表!BE7,\"\")","v":""},{"$f":"IF(LEN(场费表!BF7)>0,场费表!BF7,\"\")","v":""},{"$f":"IF(LEN(场费表!BG7)>0,场费表!BG7,\"\")","v":""},{"$f":"IF(LEN(场费表!BH7)>0,场费表!BH7,\"\")","v":""},{"$f":"IF(LEN(场费表!BI7)>0,场费表!BI7,\"\")","v":""},{"$f":"IF(LEN(场费表!BJ7)>0,场费表!BJ7,\"\")","v":""},{"$f":"IF(LEN(场费表!BK7)>0,场费表!BK7,\"\")","v":""}]
[{"$f":"IF(LEN(场费表!A9)>0,场费表!A9,\"\")","v":"[44]施心疯"},{"$f":"SUM(E7:BL7)","v":1},{"$f":"IF(COUNTA(E7:BL7)>0,B7/COUNTA(场费表!D9:BK9),0)","v":1},null,1]
[{"$f":"IF(LEN(场费表!A10)>0,场费表!A10,\"\")","v":"[7]C罗"},0,{"$f":"IF(COUNTA(E8:BL8)>0,B8/COUNTA(场费表!D10:BK10),0)","v":0}]
[{"$f":"IF(LEN(场费表!A11)>0,场费表!A11,\"\")","v":"[10]梅西"},1,{"$f":"IF(COUNTA(E9:BL9)>0,B9/COUNTA(场费表!D11:BK11),0)","v":1},null,1]
[{"$f":"IF(LEN(场费表!A12)>0,场费表!A12,\"\")","v":"[9]范尼"},0,{"$f":"IF(COUNTA(E10:BL10)>0,B10/COUNTA(场费表!D12:BK12),0)","v":0}]
[{"$f":"IF(LEN(场费表!A13)>0,场费表!A13,\"\")","v":"[18]斯科尔斯"},0,{"$f":"IF(COUNTA(E11:BL11)>0,B11/COUNTA(场费表!D13:BK13),0)","v":0}]
[{"$f":"IF(LEN(场费表!A14)>0,场费表!A14,\"\")","v":"[8]哈维"},0,{"$f":"IF(COUNTA(E12:BL12)>0,B12/COUNTA(场费表!D14:BK14),0)","v":0}]
[{"$f":"IF(LEN(场费表!A15)>0,场费表!A15,\"\")","v":"[4]维埃拉"},0,{"$f":"IF(COUNTA(E13:BL13)>0,B13/COUNTA(场费表!D15:BK15),0)","v":0}]
[{"$f":"IF(LEN(场费表!A16)>0,场费表!A16,\"\")","v":"[5]费迪南"},0,{"$f":"IF(COUNTA(E14:BL14)>0,B14/COUNTA(场费表!D16:BK16),0)","v":0}]
[{"$f":"IF(LEN(场费表!A17)>0,场费表!A17,\"\")","v":"[6]特里"},0,{"$f":"IF(COUNTA(E15:BL15)>0,B15/COUNTA(场费表!D17:BK17),0)","v":0}]
[{"$f":"IF(LEN(场费表!A18)>0,场费表!A18,\"\")","v":"[17]卡纳瓦罗"},0,{"$f":"IF(COUNTA(E16:BL16)>0,B16/COUNTA(场费表!D18:BK18),0)","v":0}]
[{"$f":"IF(LEN(场费表!A19)>0,场费表!A19,\"\")","v":"[1]范德萨"},0,{"$f":"IF(COUNTA(E17:BL17)>0,B17/COUNTA(场费表!D19:BK19),0)","v":0}]
[{"$f":"IF(LEN(场费表!A20)>0,场费表!A20,\"\")","v":"[20]索尔斯卡亚"},0,{"$f":"IF(COUNTA(E18:BL18)>0,B18/COUNTA(场费表!D20:BK20),0)","v":0}]
[{"$f":"IF(LEN(场费表!A21)>0,场费表!A21,\"\")","v":"[--]德赫亚"},0,{"$f":"IF(COUNTA(E19:BL19)>0,B19/COUNTA(场费表!D21:BK21),0)","v":0}]
[{"$f":"IF(LEN(场费表!A22)>0,场费表!A22,\"\")","v":"[--]加里内维尔"},0,{"$f":"IF(COUNTA(E20:BL20)>0,B20/COUNTA(场费表!D22:BK22),0)","v":0}]
[{"$f":"IF(LEN(场费表!A23)>0,场费表!A23,\"\")","v":"[--]埃弗拉"},0,{"$f":"IF(COUNTA(E21:BL21)>0,B21/COUNTA(场费表!D23:BK23),0)","v":0}]
[{"$f":"IF(LEN(场费表!A24)>0,场费表!A24,\"\")","v":"[--]维迪奇"},0,{"$f":"IF(COUNTA(E22:BL22)>0,B22/COUNTA(场费表!D24:BK24),0)","v":0}]
[{"$f":"IF(LEN(场费表!A25)>0,场费表!A25,\"\")","v":"[--]斯塔姆"},0,{"$f":"IF(COUNTA(E23:BL23)>0,B23/COUNTA(场费表!D25:BK25),0)","v":0}]
[{"$f":"IF(LEN(场费表!A26)>0,场费表!A26,\"\")","v":"[--]贝克汉姆"},0,{"$f":"IF(COUNTA(E24:BL24)>0,B24/COUNTA(场费表!D26:BK26),0)","v":0}]
[{"$f":"IF(LEN(场费表!A27)>0,场费表!A27,\"\")","v":"[--]吉格斯"},0,{"$f":"IF(COUNTA(E25:BL25)>0,B25/COUNTA(场费表!D27:BK27),0)","v":0}]
[{"$f":"IF(LEN(场费表!A28)>0,场费表!A28,\"\")","v":"[--]朴三肺"},0,{"$f":"IF(COUNTA(E26:BL26)>0,B26/COUNTA(场费表!D28:BK28),0)","v":0}]
[{"$f":"IF(LEN(场费表!A29)>0,场费表!A29,\"\")","v":"[--]特维斯"},0,{"$f":"IF(COUNTA(E27:BL27)>0,B27/COUNTA(场费表!D29:BK29),0)","v":0}]
[{"$f":"IF(LEN(场费表!A30)>0,场费表!A30,\"\")","v":"[--]里奥"},0,{"$f":"IF(COUNTA(E28:BL28)>0,B28/COUNTA(场费表!D30:BK30),0)","v":0}]
[{"$f":"IF(LEN(场费表!A31)>0,场费表!A31,\"\")","v":"[--]斯塔姆"},0,{"$f":"IF(COUNTA(E29:BL29)>0,B29/COUNTA(场费表!D31:BK31),0)","v":0}]
[{"$f":"IF(LEN(场费表!A32)>0,场费表!A32,\"\")","v":"[--]海因策"},0,{"$f":"IF(COUNTA(E30:BL30)>0,B30/COUNTA(场费表!D32:BK32),0)","v":0}]
[{"$f":"IF(LEN(场费表!A33)>0,场费表!A33,\"\")","v":"[--]埃尔文"},0,{"$f":"IF(COUNTA(E31:BL31)>0,B31/COUNTA(场费表!D33:BK33),0)","v":0}]
[{"$f":"IF(LEN(场费表!A34)>0,场费表!A34,\"\")","v":"[--]保罗因斯"},0,{"$f":"IF(COUNTA(E32:BL32)>0,B32/COUNTA(场费表!D34:BK34),0)","v":0}]
[{"$f":"IF(LEN(场费表!A35)>0,场费表!A35,\"\")","v":""},0,{"$f":"IF(COUNTA(E33:BL33)>0,B33/COUNTA(场费表!D35:BK35),0)","v":0}]
[{"$f":"IF(LEN(场费表!A36)>0,场费表!A36,\"\")","v":""},0,{"$f":"IF(COUNTA(E34:BL34)>0,B34/COUNTA(场费表!D36:BK36),0)","v":0}]
[{"$f":"IF(LEN(场费表!A37)>0,场费表!A37,\"\")","v":""},0,{"$f":"IF(COUNTA(E35:BL35)>0,B35/COUNTA(场费表!D37:BK37),0)","v":0}]
[{"$f":"IF(LEN(场费表!A38)>0,场费表!A38,\"\")","v":""},0,{"$f":"IF(COUNTA(E36:BL36)>0,B36/COUNTA(场费表!D38:BK38),0)","v":0}]
[{"$f":"IF(LEN(场费表!A39)>0,场费表!A39,\"\")","v":""},0,{"$f":"IF(COUNTA(E37:BL37)>0,B37/COUNTA(场费表!D39:BK39),0)","v":0}]
[{"$f":"IF(LEN(场费表!A40)>0,场费表!A40,\"\")","v":""},0,{"$f":"IF(COUNTA(E38:BL38)>0,B38/COUNTA(场费表!D40:BK40),0)","v":0}]
[{"$f":"IF(LEN(场费表!A41)>0,场费表!A41,\"\")","v":""},0,{"$f":"IF(COUNTA(E39:BL39)>0,B39/COUNTA(场费表!D41:BK41),0)","v":0}]
[{"$f":"IF(LEN(场费表!A42)>0,场费表!A42,\"\")","v":""},0,{"$f":"IF(COUNTA(E40:BL40)>0,B40/COUNTA(场费表!D42:BK42),0)","v":0}]
[{"$f":"IF(LEN(场费表!A43)>0,场费表!A43,\"\")","v":""},0,{"$f":"IF(COUNTA(E41:BL41)>0,B41/COUNTA(场费表!D43:BK43),0)","v":0}]
[{"$f":"IF(LEN(场费表!A44)>0,场费表!A44,\"\")","v":""},0,{"$f":"IF(COUNTA(E42:BL42)>0,B42/COUNTA(场费表!D44:BK44),0)","v":0}]
[{"$f":"IF(LEN(场费表!A45)>0,场费表!A45,\"\")","v":""},0,{"$f":"IF(COUNTA(E43:BL43)>0,B43/COUNTA(场费表!D45:BK45),0)","v":0}]
[{"$f":"IF(LEN(场费表!A46)>0,场费表!A46,\"\")","v":""},0,{"$f":"IF(COUNTA(E44:BL44)>0,B44/COUNTA(场费表!D46:BK46),0)","v":0}]
[{"$f":"IF(LEN(场费表!A47)>0,场费表!A47,\"\")","v":""},0,{"$f":"IF(COUNTA(E45:BL45)>0,B45/COUNTA(场费表!D47:BK47),0)","v":0}]
[{"$f":"IF(LEN(场费表!A48)>0,场费表!A48,\"\")","v":""},0,{"$f":"IF(COUNTA(E46:BL46)>0,B46/COUNTA(场费表!D48:BK48),0)","v":0}]
[{"$f":"IF(LEN(场费表!A49)>0,场费表!A49,\"\")","v":""},0,{"$f":"IF(COUNTA(E47:BL47)>0,B47/COUNTA(场费表!D49:BK49),0)","v":0}]
[{"$f":"IF(LEN(场费表!A50)>0,场费表!A50,\"\")","v":""},0,{"$f":"IF(COUNTA(E48:BL48)>0,B48/COUNTA(场费表!D50:BK50),0)","v":0}]
[{"$f":"IF(LEN(场费表!A51)>0,场费表!A51,\"\")","v":""},0,{"$f":"IF(COUNTA(E49:BL49)>0,B49/COUNTA(场费表!D51:BK51),0)","v":0}]
[{"$f":"IF(LEN(场费表!A52)>0,场费表!A52,\"\")","v":""},0,{"$f":"IF(COUNTA(E50:BL50)>0,B50/COUNTA(场费表!D52:BK52),0)","v":0}]
[{"$f":"IF(LEN(场费表!A53)>0,场费表!A53,\"\")","v":""},0,{"$f":"IF(COUNTA(E51:BL51)>0,B51/COUNTA(场费表!D53:BK53),0)","v":0}]
[{"$f":"IF(LEN(场费表!A54)>0,场费表!A54,\"\")","v":""},0,{"$f":"IF(COUNTA(E52:BL52)>0,B52/COUNTA(场费表!D54:BK54),0)","v":0}]
[{"$f":"IF(LEN(场费表!A55)>0,场费表!A55,\"\")","v":""},0,{"$f":"IF(COUNTA(E53:BL53)>0,B53/COUNTA(场费表!D55:BK55),0)","v":0}]
[{"$f":"IF(LEN(场费表!A56)>0,场费表!A56,\"\")","v":""},0,{"$f":"IF(COUNTA(E54:BL54)>0,B54/COUNTA(场费表!D56:BK56),0)","v":0}]
[{"$f":"IF(LEN(场费表!A57)>0,场费表!A57,\"\")","v":""},0,{"$f":"IF(COUNTA(E55:BL55)>0,B55/COUNTA(场费表!D57:BK57),0)","v":0}]
[{"$f":"IF(LEN(场费表!A58)>0,场费表!A58,\"\")","v":""},0,{"$f":"IF(COUNTA(E56:BL56)>0,B56/COUNTA(场费表!D58:BK58),0)","v":0}]
[{"$f":"IF(LEN(场费表!A59)>0,场费表!A59,\"\")","v":""},0,{"$f":"IF(COUNTA(E57:BL57)>0,B57/COUNTA(场费表!D59:BK59),0)","v":0}]
[{"$f":"IF(LEN(场费表!A60)>0,场费表!A60,\"\")","v":""},0,{"$f":"IF(COUNTA(E58:BL58)>0,B58/COUNTA(场费表!D60:BK60),0)","v":0}]
[{"$f":"IF(LEN(场费表!A61)>0,场费表!A61,\"\")","v":""},0,{"$f":"IF(COUNTA(E59:BL59)>0,B59/COUNTA(场费表!D61:BK61),0)","v":0}]
[{"$f":"IF(LEN(场费表!A62)>0,场费表!A62,\"\")","v":""},0,{"$f":"IF(COUNTA(E60:BL60)>0,B60/COUNTA(场费表!D62:BK62),0)","v":0}]
[{"$f":"IF(LEN(场费表!A63)>0,场费表!A63,\"\")","v":""},0,{"$f":"IF(COUNTA(E61:BL61)>0,B61/COUNTA(场费表!D63:BK63),0)","v":0}]
[{"$f":"IF(LEN(场费表!A64)>0,场费表!A64,\"\")","v":""},0,{"$f":"IF(COUNTA(E62:BL62)>0,B62/COUNTA(场费表!D64:BK64),0)","v":0}]
[{"$f":"IF(LEN(场费表!A65)>0,场费表!A65,\"\")","v":""},0,{"$f":"IF(COUNTA(E63:BL63)>0,B63/COUNTA(场费表!D65:BK65),0)","v":0}]
[{"$f":"IF(LEN(场费表!A66)>0,场费表!A66,\"\")","v":""},0,{"$f":"IF(COUNTA(E64:BL64)>0,B64/COUNTA(场费表!D66:BK66),0)","v":0}]
[{"$f":"IF(LEN(场费表!A67)>0,场费表!A67,\"\")","v":""},0,{"$f":"IF(COUNTA(E65:BL65)>0,B65/COUNTA(场费表!D67:BK67),0)","v":0}]
[{"$f":"IF(LEN(场费表!A68)>0,场费表!A68,\"\")","v":""},0,{"$f":"IF(COUNTA(E66:BL66)>0,B66/COUNTA(场费表!D68:BK68),0)","v":0}]
[{"$f":"IF(LEN(场费表!A69)>0,场费表!A69,\"\")","v":""},0,{"$f":"IF(COUNTA(E67:BL67)>0,B67/COUNTA(场费表!D69:BK69),0)","v":0}]
[{"$f":"IF(LEN(场费表!A70)>0,场费表!A70,\"\")","v":""},0,{"$f":"IF(COUNTA(E68:BL68)>0,B68/COUNTA(场费表!D70:BK70),0)","v":0}]
[{"$f":"IF(LEN(场费表!A71)>0,场费表!A71,\"\")","v":""},0,{"$f":"IF(COUNTA(E69:BL69)>0,B69/COUNTA(场费表!D71:BK71),0)","v":0}]
[{"$f":"IF(LEN(场费表!A72)>0,场费表!A72,\"\")","v":""},0,{"$f":"IF(COUNTA(E70:BL70)>0,B70/COUNTA(场费表!D72:BK72),0)","v":0}]
[{"$f":"IF(LEN(场费表!A73)>0,场费表!A73,\"\")","v":""},{"$f":"SUM(E71:BL71)","v":0},{"$f":"IF(COUNTA(E71:BL71)>0,B71/COUNTA(场费表!D73:BK73),0)","v":0}]
[{"$f":"IF(LEN(场费表!A74)>0,场费表!A74,\"\")","v":""},0,{"$f":"IF(COUNTA(E72:BL72)>0,B72/COUNTA(场费表!D74:BK74),0)","v":0}]
[{"$f":"IF(LEN(场费表!A75)>0,场费表!A75,\"\")","v":""},0,{"$f":"IF(COUNTA(E73:BL73)>0,B73/COUNTA(场费表!D75:BK75),0)","v":0}]
[{"$f":"IF(LEN(场费表!A76)>0,场费表!A76,\"\")","v":""},0,{"$f":"IF(COUNTA(E74:BL74)>0,B74/COUNTA(场费表!D76:BK76),0)","v":0}]
[{"$f":"IF(LEN(场费表!A77)>0,场费表!A77,\"\")","v":""},0,{"$f":"IF(COUNTA(E75:BL75)>0,B75/COUNTA(场费表!D77:BK77),0)","v":0}]
[{"$f":"IF(LEN(场费表!A78)>0,场费表!A78,\"\")","v":""},0,{"$f":"IF(COUNTA(E76:BL76)>0,B76/COUNTA(场费表!D78:BK78),0)","v":0}]
[{"$f":"IF(LEN(场费表!A79)>0,场费表!A79,\"\")","v":""},0,{"$f":"IF(COUNTA(E77:BL77)>0,B77/COUNTA(场费表!D79:BK79),0)","v":0}]
[{"$f":"IF(LEN(场费表!A80)>0,场费表!A80,\"\")","v":""},0,{"$f":"IF(COUNTA(E78:BL78)>0,B78/COUNTA(场费表!D80:BK80),0)","v":0}]
[{"$f":"IF(LEN(场费表!A81)>0,场费表!A81,\"\")","v":""},0,{"$f":"IF(COUNTA(E79:BL79)>0,B79/COUNTA(场费表!D81:BK81),0)","v":0}]
[{"$f":"IF(LEN(场费表!A82)>0,场费表!A82,\"\")","v":""},0,{"$f":"IF(COUNTA(E80:BL80)>0,B80/COUNTA(场费表!D82:BK82),0)","v":0}]
[{"$f":"IF(LEN(场费表!A83)>0,场费表!A83,\"\")","v":""},0,{"$f":"IF(COUNTA(E81:BL81)>0,B81/COUNTA(场费表!D83:BK83),0)","v":0}]
[{"$f":"IF(LEN(场费表!A84)>0,场费表!A84,\"\")","v":""},0,{"$f":"IF(COUNTA(E82:BL82)>0,B82/COUNTA(场费表!D84:BK84),0)","v":0}]
[{"$f":"IF(LEN(场费表!A85)>0,场费表!A85,\"\")","v":""},0,{"$f":"IF(COUNTA(E83:BL83)>0,B83/COUNTA(场费表!D85:BK85),0)","v":0}]
[{"$f":"IF(LEN(场费表!A86)>0,场费表!A86,\"\")","v":""},0,{"$f":"IF(COUNTA(E84:BL84)>0,B84/COUNTA(场费表!D86:BK86),0)","v":0}]
[{"$f":"IF(LEN(场费表!A87)>0,场费表!A87,\"\")","v":""},0,{"$f":"IF(COUNTA(E85:BL85)>0,B85/COUNTA(场费表!D87:BK87),0)","v":0}]
[{"$f":"IF(LEN(场费表!A88)>0,场费表!A88,\"\")","v":""},0,{"$f":"IF(COUNTA(E86:BL86)>0,B86/COUNTA(场费表!D88:BK88),0)","v":0}]
[{"$f":"IF(LEN(场费表!A89)>0,场费表!A89,\"\")","v":""},0,{"$f":"IF(COUNTA(E87:BL87)>0,B87/COUNTA(场费表!D89:BK89),0)","v":0}]
[{"$f":"IF(LEN(场费表!A90)>0,场费表!A90,\"\")","v":""},0,{"$f":"IF(COUNTA(E88:BL88)>0,B88/COUNTA(场费表!D90:BK90),0)","v":0}]
[{"$f":"IF(LEN(场费表!A91)>0,场费表!A91,\"\")","v":""},0,{"$f":"IF(COUNTA(E89:BL89)>0,B89/COUNTA(场费表!D91:BK91),0)","v":0}]
[{"$f":"IF(LEN(场费表!A92)>0,场费表!A92,\"\")","v":""},0,{"$f":"IF(COUNTA(E90:BL90)>0,B90/COUNTA(场费表!D92:BK92),0)","v":0}]
[{"$f":"IF(LEN(场费表!A93)>0,场费表!A93,\"\")","v":""},0,{"$f":"IF(COUNTA(E91:BL91)>0,B91/COUNTA(场费表!D93:BK93),0)","v":0}]
[{"$f":"IF(LEN(场费表!A94)>0,场费表!A94,\"\")","v":""},0,{"$f":"IF(COUNTA(E92:BL92)>0,B92/COUNTA(场费表!D94:BK94),0)","v":0}]
[{"$f":"IF(LEN(场费表!A95)>0,场费表!A95,\"\")","v":""},0,{"$f":"IF(COUNTA(E93:BL93)>0,B93/COUNTA(场费表!D95:BK95),0)","v":0}]
[{"$f":"IF(LEN(场费表!A96)>0,场费表!A96,\"\")","v":""},0,{"$f":"IF(COUNTA(E94:BL94)>0,B94/COUNTA(场费表!D96:BK96),0)","v":0}]
[{"$f":"IF(LEN(场费表!A97)>0,场费表!A97,\"\")","v":""},{"$f":"SUM(E95:BL95)","v":0},{"$f":"IF(COUNTA(E95:BL95)>0,B95/COUNTA(场费表!D97:BK97),0)","v":0}]
[{"$f":"IF(LEN(场费表!A98)>0,场费表!A98,\"\")","v":""},{"$f":"SUM(E96:BL96)","v":0},{"$f":"IF(COUNTA(E96:BL96)>0,B96/COUNTA(场费表!D98:BK98),0)","v":0}]
[{"$f":"IF(LEN(场费表!A99)>0,场费表!A99,\"\")","v":""},{"$f":"SUM(E97:BL97)","v":0},{"$f":"IF(COUNTA(E97:BL97)>0,B97/COUNTA(场费表!D99:BK99),0)","v":0}]
[{"$f":"IF(LEN(场费表!A100)>0,场费表!A100,\"\")","v":""},{"$f":"SUM(E98:BL98)","v":0},{"$f":"IF(COUNTA(E98:BL98)>0,B98/COUNTA(场费表!D100:BK100),0)","v":0}]

{"sheet":"二场表","index":5,"n_rows":94,"n_cols":64,"rows_kept":94,"cut":false,"hidden":true,"merged":[[0,0,0,63],[1,0,4,0]]}
["钱隆江南足协 - 众筹报名表"]
["报名者","二场次数：",{"$f":"CONCATENATE(COUNT(E2:BL2), \"次\")","v":"1次"},"日期",{"$f":"IF(LEN(场费表!D3)>0,场费表!D3,\"\")","v":"2020-07-04"},{"$f":"IF(LEN(场费表!E3)>0,场费表!E3,\"\")","v":""},{"$f":"IF(LEN(场费表!F3)>0,场费表!F3,\"\")","v":""},{"$f":"IF(LEN(场费表!G3)>0,场费表!G3,\"\")","v":""},{"$f":"IF(LEN(场费表!H3)>0,场费表!H3,\"\")","v":""},{"$f":"IF(LEN(场费表!I3)>0,场费表!I3,\"\")","v":""},{"$f":"IF(LEN(场费表!J3)>0,场费表!J3,\"\")","v":""},{"$f":"IF(LEN(场费表!K3)>0,场费表!K3,\"\")","v":""},{"$f":"IF(LEN(场费表!L3)>0,场费表!L3,\"\")","v":""},{"$f":"IF(LEN(场费表!M3)>0,场费表!M3,\"\")","v":""},{"$f":"IF(LEN(场费表!N3)>0,场费表!N3,\"\")","v":""},{"$f":"IF(LEN(场费表!O3)>0,场费表!O3,\"\")","v":""},{"$f":"IF(LEN(场费表!P3)>0,场费表!P3,\"\")","v":""},{"$f":"IF(LEN(场费表!Q3)>0,场费表!Q3,\"\")","v":""},{"$f":"IF(LEN(场费表!R3)>0,场费表!R3,\"\")","v":""},{"$f":"IF(LEN(场费表!S3)>0,场费表!S3,\"\")","v":""},{"$f":"IF(LEN(场费表!T3)>0,场费表!T3,\"\")","v":""},{"$f":"IF(LEN(场费表!U3)>0,场费表!U3,\"\")","v":""},{"$f":"IF(LEN(场费表!V3)>0,场费表!V3,\"\")","v":""},{"$f":"IF(LEN(场费表!W3)>0,场费表!W3,\"\")","v":""},{"$f":"IF(LEN(场费表!X3)>0,场费表!X3,\"\")","v":""},{"$f":"IF(LEN(场费表!Y3)>0,场费表!Y3,\"\")","v":""},{"$f":"IF(LEN(场费表!Z3)>0,场费表!Z3,\"\")","v":""},{"$f":"IF(LEN(场费表!AA3)>0,场费表!AA3,\"\")","v":""},{"$f":"IF(LEN(场费表!AB3)>0,场费表!AB3,\"\")","v":""},{"$f":"IF(LEN(场费表!AC3)>0,场费表!AC3,\"\")","v":""},{"$f":"IF(LEN(场费表!AD3)>0,场费表!AD3,\"\")","v":""},{"$f":"IF(LEN(场费表!AE3)>0,场费表!AE3,\"\")","v":""},{"$f":"IF(LEN(场费表!AF3)>0,场费表!AF3,\"\")","v":""},{"$f":"IF(LEN(场费表!AG3)>0,场费表!AG3,\"\")","v":""},{"$f":"IF(LEN(场费表!AH3)>0,场费表!AH3,\"\")","v":""},{"$f":"IF(LEN(场费表!AI3)>0,场费表!AI3,\"\")","v":""},{"$f":"IF(LEN(场费表!AJ3)>0,场费表!AJ3,\"\")","v":""},{"$f":"IF(LEN(场费表!AK3)>0,场费表!AK3,\"\")","v":""},{"$f":"IF(LEN(场费表!AL3)>0,场费表!AL3,\"\")","v":""},{"$f":"IF(LEN(场费表!AM3)>0,场费表!AM3,\"\")","v":""},{"$f":"IF(LEN(场费表!AN3)>0,场费表!AN3,\"\")","v":""},{"$f":"IF(LEN(场费表!AO3)>0,场费表!AO3,\"\")","v":""},{"$f":"IF(LEN(场费表!AP3)>0,场费表!AP3,\"\")","v":""},{"$f":"IF(LEN(场费表!AQ3)>0,场费表!AQ3,\"\")","v":""},{"$f":"IF(LEN(场费表!AR3)>0,场费表!AR3,\"\")","v":""},{"$f":"IF(LEN(场费表!AS3)>0,场费表!AS3,\"\")","v":""},{"$f":"IF(LEN(场费表!AT3)>0,场费表!AT3,\"\")","v":""},{"$f":"IF(LEN(场费表!AU3)>0,场费表!AU3,\"\")","v":""},{"$f":"IF(LEN(场费表!AV3)>0,场费表!AV3,\"\")","v":""},{"$f":"IF(LEN(场费表!AW3)>0,场费表!AW3,\"\")","v":""},{"$f":"IF(LEN(场费表!AX3)>0,场费表!AX3,\"\")","v":""},{"$f":"IF(LEN(场费表!AY3)>0,场费表!AY3,\"\")","v":""},{"$f":"IF(LEN(场费表!AZ3)>0,场费表!AZ3,\"\")","v":""},{"$f":"IF(LEN(场费表!BA3)>0,场费表!BA3,\"\")","v":""},{"$f":"IF(LEN(场费表!BB3)>0,场费表!BB3,\"\")","v":""},{"$f":"IF(LEN(场费表!BC3)>0,场费表!BC3,\"\")","v":""},{"$f":"IF(LEN(场费表!BD3)>0,场费表!BD3,\"\")","v":""},{"$f":"IF(LEN(场费表!BE3)>0,场费表!BE3,\"\")","v":""},{"$f":"IF(LEN(场费表!BF3)>0,场费表!BF3,\"\")","v":""},{"$f":"IF(LEN(场费表!BG3)>0,场费表!BG3,\"\")","v":""},{"$f":"IF(LEN(场费表!BH3)>0,场费表!BH3,\"\")","v":""},{"$f":"IF(LEN(场费表!BI3)>0,场费表!BI3,\"\")","v":""},{"$f":"IF(LEN(场费表!BJ3)>0,场费表!BJ3,\"\")","v":""},{"$f":"IF(LEN(场费表!BK3)>0,场费表!BK3,\"\")","v":""}]
[null,"总开销：",{"$f":"GetResultCount(E5:BL5,1)","v":1},"时间",{"$f":"IF(LEN(场费表!D4)>0,场费表!D4,\"\")","v":"20:30:00"},{"$f":"IF(LEN(场费表!E4)>0,场费表!E4,\"\")","v":""},{"$f":"IF(LEN(场费表!F4)>0,场费表!F4,\"\")","v":""},{"$f":"IF(LEN(场费表!G4)>0,场费表!G4,\"\")","v":""},{"$f":"IF(LEN(场费表!H4)>0,场费表!H4,\"\")","v":""},{"$f":"IF(LEN(场费表!I4)>0,场费表!I4,\"\")","v":""},{"$f":"IF(LEN(场费表!J4)>0,场费表!J4,\"\")","v":""},{"$f":"IF(LEN(场费表!K4)>0,场费表!K4,\"\")","v":""},{"$f":"IF(LEN(场费表!L4)>0,场费表!L4,\"\")","v":""},{"$f":"IF(LEN(场费表!M4)>0,场费表!M4,\"\")","v":""},{"$f":"IF(LEN(场费表!N4)>0,场费表!N4,\"\")","v":""},{"$f":"IF(LEN(场费表!O4)>0,场费表!O4,\"\")","v":""},{"$f":"IF(LEN(场费表!P4)>0,场费表!P4,\"\")","v":""},{"$f":"IF(LEN(场费表!Q4)>0,场费表!Q4,\"\")","v":""},{"$f":"IF(LEN(场费表!R4)>0,场费表!R4,\"\")","v":""},{"$f":"IF(LEN(场费表!S4)>0,场费表!S4,\"\")","v":""},{"$f":"IF(LEN(场费表!T4)>0,场费表!T4,\"\")","v":""},{"$f":"IF(LEN(场费表!U4)>0,场费表!U4,\"\")","v":""},{"$f":"IF(LEN(场费表!V4)>0,场费表!V4,\"\")","v":""},{"$f":"IF(LEN(场费表!W4)>0,场费表!W4,\"\")","v":""},{"$f":"IF(LEN(场费表!X4)>0,场费表!X4,\"\")","v":""},{"$f":"IF(LEN(场费表!Y4)>0,场费表!Y4,\"\")","v":""},{"$f":"IF(LEN(场费表!Z4)>0,场费表!Z4,\"\")","v":""},{"$f":"IF(LEN(场费表!AA4)>0,场费表!AA4,\"\")","v":""},{"$f":"IF(LEN(场费表!AB4)>0,场费表!AB4,\"\")","v":""},{"$f":"IF(LEN(场费表!AC4)>0,场费表!AC4,\"\")","v":""},{"$f":"IF(LEN(场费表!AD4)>0,场费表!AD4,\"\")","v":""},{"$f":"IF(LEN(场费表!AE4)>0,场费表!AE4,\"\")","v":""},{"$f":"IF(LEN(场费表!AF4)>0,场费表!AF4,\"\")","v":""},{"$f":"IF(LEN(场费表!AG4)>0,场费表!AG4,\"\")","v":""},{"$f":"IF(LEN(场费表!AH4)>0,场费表!AH4,\"\")","v":""},{"$f":"IF(LEN(场费表!AI4)>0,场费表!AI4,\"\")","v":""},{"$f":"IF(LEN(场费表!AJ4)>0,场费表!AJ4,\"\")","v":""},{"$f":"IF(LEN(场费表!AK4)>0,场费表!AK4,\"\")","v":""},{"$f":"IF(LEN(场费表!AL4)>0,场费表!AL4,\"\")","v":""},{"$f":"IF(LEN(场费表!AM4)>0,场费表!AM4,\"\")","v":""},{"$f":"IF(LEN(场费表!AN4)>0,场费表!AN4,\"\")","v":""},{"$f":"IF(LEN(场费表!AO4)>0,场费表!AO4,\"\")","v":""},{"$f":"IF(LEN(场费表!AP4)>0,场费表!AP4,\"\")","v":""},{"$f":"IF(LEN(场费表!AQ4)>0,场费表!AQ4,\"\")","v":""},{"$f":"IF(LEN(场费表!AR4)>0,场费表!AR4,\"\")","v":""},{"$f":"IF(LEN(场费表!AS4)>0,场费表!AS4,\"\")","v":""},{"$f":"IF(LEN(场费表!AT4)>0,场费表!AT4,\"\")","v":""},{"$f":"IF(LEN(场费表!AU4)>0,场费表!AU4,\"\")","v":""},{"$f":"IF(LEN(场费表!AV4)>0,场费表!AV4,\"\")","v":""},{"$f":"IF(LEN(场费表!AW4)>0,场费表!AW4,\"\")","v":""},{"$f":"IF(LEN(场费表!AX4)>0,场费表!AX4,\"\")","v":""},{"$f":"IF(LEN(场费表!AY4)>0,场费表!AY4,\"\")","v":""},{"$f":"IF(LEN(场费表!AZ4)>0,场费表!AZ4,\"\")","v":""},{"$f":"IF(LEN(场费表!BA4)>0,场费表!BA4,\"\")","v":""},{"$f":"IF(LEN(场费表!BB4)>0,场费表!BB4,\"\")","v":""},{"$f":"IF(LEN(场费表!BC4)>0,场费表!BC4,\"\")","v":""},{"$f":"IF(LEN(场费表!BD4)>0,场费表!BD4,\"\")","v":""},{"$f":"IF(LEN(场费表!BE4)>0,场费表!BE4,\"\")","v":""},{"$f":"IF(LEN(场费表!BF4)>0,场费表!BF4,\"\")","v":""},{"$f":"IF(LEN(场费表!BG4)>0,场费表!BG4,\"\")","v":""},{"$f":"IF(LEN(场费表!BH4)>0,场费表!BH4,\"\")","v":""},{"$f":"IF(LEN(场费表!BI4)>0,场费表!BI4,\"\")","v":""},{"$f":"IF(LEN(场费表!BJ4)>0,场费表!BJ4,\"\")","v":""},{"$f":"IF(LEN(场费表!BK4)>0,场费表!BK4,\"\")","v":""}]
[null,"场均开销：",{"$f":"GetResultCount(E5:BL5,0)","v":0},"对手",{"$f":"IF(LEN(场费表!D5)>0,场费表!D5,\"\")","v":"未知"},{"$f":"IF(LEN(场费表!E5)>0,场费表!E5,\"\")","v":""},{"$f":"IF(LEN(场费表!F5)>0,场费表!F5,\"\")","v":""},{"$f":"IF(LEN(场费表!G5)>0,场费表!G5,\"\")","v":""},{"$f":"IF(LEN(场费表!H5)>0,场费表!H5,\"\")","v":""},{"$f":"IF(LEN(场费表!I5)>0,场费表!I5,\"\")","v":""},{"$f":"IF(LEN(场费表!J5)>0,场费表!J5,\"\")","v":""},{"$f":"IF(LEN(场费表!K5)>0,场费表!K5,\"\")","v":""},{"$f":"IF(LEN(场费表!L5)>0,场费表!L5,\"\")","v":""},{"$f":"IF(LEN(场费表!M5)>0,场费表!M5,\"\")","v":""},{"$f":"IF(LEN(场费表!N5)>0,场费表!N5,\"\")","v":""},{"$f":"IF(LEN(场费表!O5)>0,场费表!O5,\"\")","v":""},{"$f":"IF(LEN(场费表!P5)>0,场费表!P5,\"\")","v":""},{"$f":"IF(LEN(场费表!Q5)>0,场费表!Q5,\"\")","v":""},{"$f":"IF(LEN(场费表!R5)>0,场费表!R5,\"\")","v":""},{"$f":"IF(LEN(场费表!S5)>0,场费表!S5,\"\")","v":""},{"$f":"IF(LEN(场费表!T5)>0,场费表!T5,\"\")","v":""},{"$f":"IF(LEN(场费表!U5)>0,场费表!U5,\"\")","v":""},{"$f":"IF(LEN(场费表!V5)>0,场费表!V5,\"\")","v":""},{"$f":"IF(LEN(场费表!W5)>0,场费表!W5,\"\")","v":""},{"$f":"IF(LEN(场费表!X5)>0,场费表!X5,\"\")","v":""},{"$f":"IF(LEN(场费表!Y5)>0,场费表!Y5,\"\")","v":""},{"$f":"IF(LEN(场费表!Z5)>0,场费表!Z5,\"\")","v":""},{"$f":"IF(LEN(场费表!AA5)>0,场费表!AA5,\"\")","v":""},{"$f":"IF(LEN(场费表!AB5)>0,场费表!AB5,\"\")","v":""},{"$f":"IF(LEN(场费表!AC5)>0,场费表!AC5,\"\")","v":""},{"$f":"IF(LEN(场费表!AD5)>0,场费表!AD5,\"\")","v":""},{"$f":"IF(LEN(场费表!AE5)>0,场费表!AE5,\"\")","v":""},{"$f":"IF(LEN(场费表!AF5)>0,场费表!AF5,\"\")","v":""},{"$f":"IF(LEN(场费表!AG5)>0,场费表!AG5,\"\")","v":""},{"$f":"IF(LEN(场费表!AH5)>0,场费表!AH5,\"\")","v":""},{"$f":"IF(LEN(场费表!AI5)>0,场费表!AI5,\"\")","v":""},{"$f":"IF(LEN(场费表!AJ5)>0,场费表!AJ5,\"\")","v":""},{"$f":"IF(LEN(场费表!AK5)>0,场费表!AK5,\"\")","v":""},{"$f":"IF(LEN(场费表!AL5)>0,场费表!AL5,\"\")","v":""},{"$f":"IF(LEN(场费表!AM5)>0,场费表!AM5,\"\")","v":""},{"$f":"IF(LEN(场费表!AN5)>0,场费表!AN5,\"\")","v":""},{"$f":"IF(LEN(场费表!AO5)>0,场费表!AO5,\"\")","v":""},{"$f":"IF(LEN(场费表!AP5)>0,场费表!AP5,\"\")","v":""},{"$f":"IF(LEN(场费表!AQ5)>0,场费表!AQ5,\"\")","v":""},{"$f":"IF(LEN(场费表!AR5)>0,场费表!AR5,\"\")","v":""},{"$f":"IF(LEN(场费表!AS5)>0,场费表!AS5,\"\")","v":""},{"$f":"IF(LEN(场费表!AT5)>0,场费表!AT5,\"\")","v":""},{"$f":"IF(LEN(场费表!AU5)>0,场费表!AU5,\"\")","v":""},{"$f":"IF(LEN(场费表!AV5)>0,场费表!AV5,\"\")","v":""},{"$f":"IF(LEN(场费表!AW5)>0,场费表!AW5,\"\")","v":""},{"$f":"IF(LEN(场费表!AX5)>0,场费表!AX5,\"\")","v":""},{"$f":"IF(LEN(场费表!AY5)>0,场费表!AY5,\"\")","v":""},{"$f":"IF(LEN(场费表!AZ5)>0,场费表!AZ5,\"\")","v":""},{"$f":"IF(LEN(场费表!BA5)>0,场费表!BA5,\"\")","v":""},{"$f":"IF(LEN(场费表!BB5)>0,场费表!BB5,\"\")","v":""},{"$f":"IF(LEN(场费表!BC5)>0,场费表!BC5,\"\")","v":""},{"$f":"IF(LEN(场费表!BD5)>0,场费表!BD5,\"\")","v":""},{"$f":"IF(LEN(场费表!BE5)>0,场费表!BE5,\"\")","v":""},{"$f":"IF(LEN(场费表!BF5)>0,场费表!BF5,\"\")","v":""},{"$f":"IF(LEN(场费表!BG5)>0,场费表!BG5,\"\")","v":""},{"$f":"IF(LEN(场费表!BH5)>0,场费表!BH5,\"\")","v":""},{"$f":"IF(LEN(场费表!BI5)>0,场费表!BI5,\"\")","v":""},{"$f":"IF(LEN(场费表!BJ5)>0,场费表!BJ5,\"\")","v":""},{"$f":"IF(LEN(场费表!BK5)>0,场费表!BK5,\"\")","v":""}]
[null,null,null,"赛果",{"$f":"IF(LEN(场费表!D7)>0,场费表!D7,\"\")","v":"3:1"},{"$f":"IF(LEN(场费表!E7)>0,场费表!E7,\"\")","v":""},{"$f":"IF(LEN(场费表!F7)>0,场费表!F7,\"\")","v":""},{"$f":"IF(LEN(场费表!G7)>0,场费表!G7,\"\")","v":""},{"$f":"IF(LEN(场费表!H7)>0,场费表!H7,\"\")","v":""},{"$f":"IF(LEN(场费表!I7)>0,场费表!I7,\"\")","v":""},{"$f":"IF(LEN(场费表!J7)>0,场费表!J7,\"\")","v":""},{"$f":"IF(LEN(场费表!K7)>0,场费表!K7,\"\")","v":""},{"$f":"IF(LEN(场费表!L7)>0,场费表!L7,\"\")","v":""},{"$f":"IF(LEN(场费表!M7)>0,场费表!M7,\"\")","v":""},{"$f":"IF(LEN(场费表!N7)>0,场费表!N7,\"\")","v":""},{"$f":"IF(LEN(场费表!O7)>0,场费表!O7,\"\")","v":""},{"$f":"IF(LEN(场费表!P7)>0,场费表!P7,\"\")","v":""},{"$f":"IF(LEN(场费表!Q7)>0,场费表!Q7,\"\")","v":""},{"$f":"IF(LEN(场费表!R7)>0,场费表!R7,\"\")","v":""},{"$f":"IF(LEN(场费表!S7)>0,场费表!S7,\"\")","v":""},{"$f":"IF(LEN(场费表!T7)>0,场费表!T7,\"\")","v":""},{"$f":"IF(LEN(场费表!U7)>0,场费表!U7,\"\")","v":""},{"$f":"IF(LEN(场费表!V7)>0,场费表!V7,\"\")","v":""},{"$f":"IF(LEN(场费表!W7)>0,场费表!W7,\"\")","v":""},{"$f":"IF(LEN(场费表!X7)>0,场费表!X7,\"\")","v":""},{"$f":"IF(LEN(场费表!Y7)>0,场费表!Y7,\"\")","v":""},{"$f":"IF(LEN(场费表!Z7)>0,场费表!Z7,\"\")","v":""},{"$f":"IF(LEN(场费表!AA7)>0,场费表!AA7,\"\")","v":""},{"$f":"IF(LEN(场费表!AB7)>0,场费表!AB7,\"\")","v":""},{"$f":"IF(LEN(场费表!AC7)>0,场费表!AC7,\"\")","v":""},{"$f":"IF(LEN(场费表!AD7)>0,场费表!AD7,\"\")","v":""},{"$f":"IF(LEN(场费表!AE7)>0,场费表!AE7,\"\")","v":""},{"$f":"IF(LEN(场费表!AF7)>0,场费表!AF7,\"\")","v":""},{"$f":"IF(LEN(场费表!AG7)>0,场费表!AG7,\"\")","v":""},{"$f":"IF(LEN(场费表!AH7)>0,场费表!AH7,\"\")","v":""},{"$f":"IF(LEN(场费表!AI7)>0,场费表!AI7,\"\")","v":""},{"$f":"IF(LEN(场费表!AJ7)>0,场费表!AJ7,\"\")","v":""},{"$f":"IF(LEN(场费表!AK7)>0,场费表!AK7,\"\")","v":""},{"$f":"IF(LEN(场费表!AL7)>0,场费表!AL7,\"\")","v":""},{"$f":"IF(LEN(场费表!AM7)>0,场费表!AM7,\"\")","v":""},{"$f":"IF(LEN(场费表!AN7)>0,场费表!AN7,\"\")","v":""},{"$f":"IF(LEN(场费表!AO7)>0,场费表!AO7,\"\")","v":""},{"$f":"IF(LEN(场费表!AP7)>0,场费表!AP7,\"\")","v":""},{"$f":"IF(LEN(场费表!AQ7)>0,场费表!AQ7,\"\")","v":""},{"$f":"IF(LEN(场费表!AR7)>0,场费表!AR7,\"\")","v":""},{"$f":"IF(LEN(场费表!AS7)>0,场费表!AS7,\"\")","v":""},{"$f":"IF(LEN(场费表!AT7)>0,场费表!AT7,\"\")","v":""},{"$f":"IF(LEN(场费表!AU7)>0,场费表!AU7,\"\")","v":""},{"$f":"IF(LEN(场费表!AV7)>0,场费表!AV7,\"\")","v":""},{"$f":"IF(LEN(场费表!AW7)>0,场费表!AW7,\"\")","v":""},{"$f":"IF(LEN(场费表!AX7)>0,场费表!AX7,\"\")","v":""},{"$f":"IF(LEN(场费表!AY7)>0,场费表!AY7,\"\")","v":""},{"$f":"IF(LEN(场费表!AZ7)>0,场费表!AZ7,\"\")","v":""},{"$f":"IF(LEN(场费表!BA7)>0,场费表!BA7,\"\")","v":""},{"$f":"IF(LEN(场费表!BB7)>0,场费表!BB7,\"\")","v":""},{"$f":"IF(LEN(场费表!BC7)>0,场费表!BC7,\"\")","v":""},{"$f":"IF(LEN(场费表!BD7)>0,场费表!BD7,\"\")","v":""},{"$f":"IF(LEN(场费表!BE7)>0,场费表!BE7,\"\")","v":""},{"$f":"IF(LEN(场费表!BF7)>0,场费表!BF7,\"\")","v":""},{"$f":"IF(LEN(场费表!BG7)>0,场费表!BG7,\"\")","v":""},{"$f":"IF(LEN(场费表!BH7)>0,场费表!BH7,\"\")","v":""},{"$f":"IF(LEN(场费表!BI7)>0,场费表!BI7,\"\")","v":""},{"$f":"IF(LEN(场费表!BJ7)>0,场费表!BJ7,\"\")","v":""},{"$f":"IF(LEN(场费表!BK7)>0,场费表!BK7,\"\")","v":""}]
[null,"参加次数","场均开销","费用",100]
[{"$f":"场费表!A9","v":"[44]施心疯"},{"$f":"COUNT(E7:BL7)","v":3},{"$f":"IF(COUNTA(E7:BL7)>0,B7/COUNTA(场费表!D9:BK9),0)","v":3},null,3,null,null,2,1]
[{"$f":"场费表!A10","v":"[7]C罗"},{"$f":"SUM(E8:BL8)","v":2},{"$f":"IF(COUNTA(E8:BL8)>0,B8/COUNTA(场费表!D10:BK10),0)","v":2},null,1,null,null,null,null,1]
[{"$f":"场费表!A11","v":"[10]梅西"},6,{"$f":"IF(COUNTA(E9:BL9)>0,B9/COUNTA(场费表!D11:BK11),0)","v":6},null,3,2,null,null,null,1]
[{"$f":"场费表!A12","v":"[9]范尼"},0,{"$f":"IF(COUNTA(E10:BL10)>0,B10/COUNTA(场费表!D12:BK12),0)","v":0}]
[{"$f":"场费表!A13","v":"[18]斯科尔斯"},6,{"$f":"IF(COUNTA(E11:BL11)>0,B11/COUNTA(场费表!D13:BK13),0)","v":6},null,3,null,null,1,null,2]
[{"$f":"场费表!A14","v":"[8]哈维"},0,{"$f":"IF(COUNTA(E12:BL12)>0,B12/COUNTA(场费表!D14:BK14),0)","v":0}]
[{"$f":"场费表!A15","v":"[4]维埃拉"},0,{"$f":"IF(COUNTA(E13:BL13)>0,B13/COUNTA(场费表!D15:BK15),0)","v":0}]
[{"$f":"场费表!A16","v":"[5]费迪南"},0,{"$f":"IF(COUNTA(E14:BL14)>0,B14/COUNTA(场费表!D16:BK16),0)","v":0}]
[{"$f":"场费表!A17","v":"[6]特里"},0,{"$f":"IF(COUNTA(E15:BL15)>0,B15/COUNTA(场费表!D17:BK17),0)","v":0}]
[{"$f":"场费表!A18","v":"[17]卡纳瓦罗"},0,{"$f":"IF(COUNTA(E16:BL16)>0,B16/COUNTA(场费表!D18:BK18),0)","v":0}]
[{"$f":"场费表!A19","v":"[1]范德萨"},2,{"$f":"IF(COUNTA(E17:BL17)>0,B17/COUNTA(场费表!D19:BK19),0)","v":{"$error":"#DIV/0!"}},null,1,null,null,null,1]
[{"$f":"场费表!A20","v":"[20]索尔斯卡亚"},4,{"$f":"IF(COUNTA(E18:BL18)>0,B18/COUNTA(场费表!D20:BK20),0)","v":{"$error":"#DIV/0!"}},null,2,null,null,null,1,1]
[{"$f":"场费表!A21","v":"[--]德赫亚"},1,{"$f":"IF(COUNTA(E19:BL19)>0,B19/COUNTA(场费表!D21:BK21),0)","v":1},null,null,null,1]
[{"$f":"场费表!A22","v":"[--]加里内维尔"},0,{"$f":"IF(COUNTA(E20:BL20)>0,B20/COUNTA(场费表!D22:BK22),0)","v":0}]
[{"$f":"场费表!A23","v":"[--]埃弗拉"},19,{"$f":"IF(COUNTA(E21:BL21)>0,B21/COUNTA(场费表!D23:BK23),0)","v":19},null,4,null,3,5,3,4]
[{"$f":"场费表!A24","v":"[--]维迪奇"},0,{"$f":"IF(COUNTA(E22:BL22)>0,B22/COUNTA(场费表!D24:BK24),0)","v":0}]
[{"$f":"场费表!A25","v":"[--]斯塔姆"},0,{"$f":"IF(COUNTA(E23:BL23)>0,B23/COUNTA(场费表!D25:BK25),0)","v":0}]
[{"$f":"场费表!A26","v":"[--]贝克汉姆"},0,{"$f":"IF(COUNTA(E24:BL24)>0,B24/COUNTA(场费表!D26:BK26),0)","v":0}]
[{"$f":"场费表!A27","v":"[--]吉格斯"},1,{"$f":"IF(COUNTA(E25:BL25)>0,B25/COUNTA(场费表!D27:BK27),0)","v":{"$error":"#DIV/0!"}},null,null,1]
[{"$f":"场费表!A28","v":"[--]朴三肺"},0,{"$f":"IF(COUNTA(E26:BL26)>0,B26/COUNTA(场费表!D28:BK28),0)","v":0}]
[{"$f":"场费表!A29","v":"[--]特维斯"},1,{"$f":"IF(COUNTA(E27:BL27)>0,B27/COUNTA(场费表!D29:BK29),0)","v":1},null,null,null,null,null,null,1]
[{"$f":"场费表!A30","v":"[--]里奥"},5,{"$f":"IF(COUNTA(E28:BL28)>0,B28/COUNTA(场费表!D30:BK30),0)","v":{"$error":"#DIV/0!"}},null,1,2,null,null,1,1,{"$f":"CONCATENATE(ROUND(COUNTA(场费表!D30:'场费表'!BK30)/场费表!C2, 3)*121,\"%\")","v":"0%"}]
[{"$f":"场费表!A31","v":"[--]斯塔姆"},0,{"$f":"IF(COUNTA(E29:BL29)>0,B29/COUNTA(场费表!D31:BK31),0)","v":0}]
[{"$f":"场费表!A32","v":"[--]海因策"},2,{"$f":"IF(COUNTA(E30:BL30)>0,B30/COUNTA(场费表!D32:BK32),0)","v":{"$error":"#DIV/0!"}},null,2]
[{"$f":"场费表!A33","v":"[--]埃尔文"},0,{"$f":"IF(COUNTA(E31:BL31)>0,B31/COUNTA(场费表!D33:BK33),0)","v":0}]
[{"$f":"场费表!A34","v":"[--]保罗因斯"},0,{"$f":"IF(COUNTA(E32:BL32)>0,B32/COUNTA(场费表!D34:BK34),0)","v":0}]
[{"$f":"场费表!A35","v":""},0,{"$f":"IF(COUNTA(E33:BL33)>0,B33/COUNTA(场费表!D35:BK35),0)","v":0}]
[{"$f":"场费表!A36","v":""},0,{"$f":"IF(COUNTA(E34:BL34)>0,B34/COUNTA(场费表!D36:BK36),0)","v":0}]
[{"$f":"场费表!A37","v":""},0,{"$f":"IF(COUNTA(E35:BL35)>0,B35/COUNTA(场费表!D37:BK37),0)","v":0}]
[{"$f":"场费表!A38","v":""},0,{"$f":"IF(COUNTA(E36:BL36)>0,B36/COUNTA(场费表!D38:BK38),0)","v":0}]
[{"$f":"场费表!A39","v":""},0,{"$f":"IF(COUNTA(E37:BL37)>0,B37/COUNTA(场费表!D39:BK39),0)","v":0}]
[{"$f":"场费表!A40","v":""},0,{"$f":"IF(COUNTA(E38:BL38)>0,B38/COUNTA(场费表!D40:BK40),0)","v":0}]
[{"$f":"场费表!A41","v":""},0,{"$f":"IF(COUNTA(E39:BL39)>0,B39/COUNTA(场费表!D41:BK41),0)","v":0}]
[{"$f":"场费表!A42","v":""},0,{"$f":"IF(COUNTA(E40:BL40)>0,B40/COUNTA(场费表!D42:BK42),0)","v":0}]
[{"$f":"场费表!A43","v":""},0,{"$f":"IF(COUNTA(E41:BL41)>0,B41/COUNTA(场费表!D43:BK43),0)","v":0}]
[{"$f":"场费表!A44","v":""},0,{"$f":"IF(COUNTA(E42:BL42)>0,B42/COUNTA(场费表!D44:BK44),0)","v":0}]
[{"$f":"场费表!A45","v":""},0,{"$f":"IF(COUNTA(E43:BL43)>0,B43/COUNTA(场费表!D45:BK45),0)","v":0}]
[{"$f":"场费表!A46","v":""},0,{"$f":"IF(COUNTA(E44:BL44)>0,B44/COUNTA(场费表!D46:BK46),0)","v":0}]
[{"$f":"场费表!A47","v":""},0,{"$f":"IF(COUNTA(E45:BL45)>0,B45/COUNTA(场费表!D47:BK47),0)","v":0}]
[{"$f":"场费表!A48","v":""},0,{"$f":"IF(COUNTA(E46:BL46)>0,B46/COUNTA(场费表!D48:BK48),0)","v":0}]
[{"$f":"场费表!A49","v":""},0,{"$f":"IF(COUNTA(E47:BL47)>0,B47/COUNTA(场费表!D49:BK49),0)","v":0}]
[{"$f":"场费表!A50","v":""},0,{"$f":"IF(COUNTA(E48:BL48)>0,B48/COUNTA(场费表!D50:BK50),0)","v":0}]
[{"$f":"场费表!A51","v":""},0,{"$f":"IF(COUNTA(E49:BL49)>0,B49/COUNTA(场费表!D51:BK51),0)","v":0}]
[{"$f":"场费表!A52","v":""},0,{"$f":"IF(COUNTA(E50:BL50)>0,B50/COUNTA(场费表!D52:BK52),0)","v":0}]
[{"$f":"场费表!A53","v":""},0,{"$f":"IF(COUNTA(E51:BL51)>0,B51/COUNTA(场费表!D53:BK53),0)","v":0}]
[{"$f":"场费表!A54","v":""},0,{"$f":"IF(COUNTA(E52:BL52)>0,B52/COUNTA(场费表!D54:BK54),0)","v":0}]
[{"$f":"场费表!A55","v":""},0,{"$f":"IF(COUNTA(E53:BL53)>0,B53/COUNTA(场费表!D55:BK55),0)","v":0}]
[{"$f":"场费表!A56","v":""},0,{"$f":"IF(COUNTA(E54:BL54)>0,B54/COUNTA(场费表!D56:BK56),0)","v":0}]
[{"$f":"场费表!A57","v":""},0,{"$f":"IF(COUNTA(E55:BL55)>0,B55/COUNTA(场费表!D57:BK57),0)","v":0}]
[{"$f":"场费表!A58","v":""},0,{"$f":"IF(COUNTA(E56:BL56)>0,B56/COUNTA(场费表!D58:BK58),0)","v":0}]
[{"$f":"场费表!A59","v":""},0,{"$f":"IF(COUNTA(E57:BL57)>0,B57/COUNTA(场费表!D59:BK59),0)","v":0}]
[{"$f":"场费表!A60","v":""},0,{"$f":"IF(COUNTA(E58:BL58)>0,B58/COUNTA(场费表!D60:BK60),0)","v":0}]
[{"$f":"场费表!A61","v":""},0,{"$f":"IF(COUNTA(E59:BL59)>0,B59/COUNTA(场费表!D61:BK61),0)","v":0}]
[{"$f":"场费表!A62","v":""},0,{"$f":"IF(COUNTA(E60:BL60)>0,B60/COUNTA(场费表!D62:BK62),0)","v":0}]
[{"$f":"场费表!A63","v":""},0,{"$f":"IF(COUNTA(E61:BL61)>0,B61/COUNTA(场费表!D63:BK63),0)","v":0}]
[{"$f":"场费表!A64","v":""},0,{"$f":"IF(COUNTA(E62:BL62)>0,B62/COUNTA(场费表!D64:BK64),0)","v":0}]
[{"$f":"场费表!A65","v":""},0,{"$f":"IF(COUNTA(E63:BL63)>0,B63/COUNTA(场费表!D65:BK65),0)","v":0}]
[{"$f":"场费表!A66","v":""},0,{"$f":"IF(COUNTA(E64:BL64)>0,B64/COUNTA(场费表!D66:BK66),0)","v":0}]
[{"$f":"场费表!A67","v":""},0,{"$f":"IF(COUNTA(E65:BL65)>0,B65/COUNTA(场费表!D67:BK67),0)","v":0}]
[{"$f":"场费表!A68","v":""},0,{"$f":"IF(COUNTA(E66:BL66)>0,B66/COUNTA(场费表!D68:BK68),0)","v":0}]
[{"$f":"场费表!A69","v":""},0,{"$f":"IF(COUNTA(E67:BL67)>0,B67/COUNTA(场费表!D69:BK69),0)","v":0}]
[{"$f":"场费表!A70","v":""},0,{"$f":"IF(COUNTA(E68:BL68)>0,B68/COUNTA(场费表!D70:BK70),0)","v":0}]
[{"$f":"场费表!A71","v":""},0,{"$f":"IF(COUNTA(E69:BL69)>0,B69/COUNTA(场费表!D71:BK71),0)","v":0}]
[{"$f":"场费表!A72","v":""},0,{"$f":"IF(COUNTA(E70:BL70)>0,B70/COUNTA(场费表!D72:BK72),0)","v":0}]
[{"$f":"场费表!A73","v":""},{"$f":"SUM(E71:BL71)","v":0},{"$f":"IF(COUNTA(E71:BL71)>0,B71/COUNTA(场费表!D73:BK73),0)","v":0}]
[{"$f":"场费表!A74","v":""},0,{"$f":"IF(COUNTA(E72:BL72)>0,B72/COUNTA(场费表!D74:BK74),0)","v":0}]
[{"$f":"场费表!A75","v":""},0,{"$f":"IF(COUNTA(E73:BL73)>0,B73/COUNTA(场费表!D75:BK75),0)","v":0}]
[{"$f":"场费表!A76","v":""},0,{"$f":"IF(COUNTA(E74:BL74)>0,B74/COUNTA(场费表!D76:BK76),0)","v":0}]
[{"$f":"场费表!A77","v":""},0,{"$f":"IF(COUNTA(E75:BL75)>0,B75/COUNTA(场费表!D77:BK77),0)","v":0}]
[{"$f":"场费表!A78","v":""},0,{"$f":"IF(COUNTA(E76:BL76)>0,B76/COUNTA(场费表!D78:BK78),0)","v":0}]
[{"$f":"场费表!A79","v":""},0,{"$f":"IF(COUNTA(E77:BL77)>0,B77/COUNTA(场费表!D79:BK79),0)","v":0}]
[{"$f":"场费表!A80","v":""},0,{"$f":"IF(COUNTA(E78:BL78)>0,B78/COUNTA(场费表!D80:BK80),0)","v":0}]
[{"$f":"场费表!A81","v":""},0,{"$f":"IF(COUNTA(E79:BL79)>0,B79/COUNTA(场费表!D81:BK81),0)","v":0}]
[{"$f":"场费表!A82","v":""},0,{"$f":"IF(COUNTA(E80:BL80)>0,B80/COUNTA(场费表!D82:BK82),0)","v":0}]
[{"$f":"场费表!A83","v":""},0,{"$f":"IF(COUNTA(E81:BL81)>0,B81/COUNTA(场费表!D83:BK83),0)","v":0}]
[{"$f":"场费表!A84","v":""},0,{"$f":"IF(COUNTA(E82:BL82)>0,B82/COUNTA(场费表!D84:BK84),0)","v":0}]
[{"$f":"场费表!A85","v":""},0,{"$f":"IF(COUNTA(E83:BL83)>0,B83/COUNTA(场费表!D85:BK85),0)","v":0}]
[{"$f":"场费表!A86","v":""},0,{"$f":"IF(COUNTA(E84:BL84)>0,B84/COUNTA(场费表!D86:BK86),0)","v":0}]
[{"$f":"场费表!A87","v":""},0,{"$f":"IF(COUNTA(E85:BL85)>0,B85/COUNTA(场费表!D87:BK87),0)","v":0}]
[{"$f":"场费表!A88","v":""},0,{"$f":"IF(COUNTA(E86:BL86)>0,B86/COUNTA(场费表!D88:BK88),0)","v":0}]
[{"$f":"场费表!A89","v":""},0,{"$f":"IF(COUNTA(E87:BL87)>0,B87/COUNTA(场费表!D89:BK89),0)","v":0}]
[{"$f":"场费表!A90","v":""},0,{"$f":"IF(COUNTA(E88:BL88)>0,B88/COUNTA(场费表!D90:BK90),0)","v":0}]
[{"$f":"场费表!A91","v":""},0,{"$f":"IF(COUNTA(E89:BL89)>0,B89/COUNTA(场费表!D91:BK91),0)","v":0}]
[{"$f":"场费表!A92","v":""},0,{"$f":"IF(COUNTA(E90:BL90)>0,B90/COUNTA(场费表!D92:BK92),0)","v":0}]
[{"$f":"场费表!A93","v":""},0,{"$f":"IF(COUNTA(E91:BL91)>0,B91/COUNTA(场费表!D93:BK93),0)","v":0}]
[{"$f":"场费表!A94","v":""},0,{"$f":"IF(COUNTA(E92:BL92)>0,B92/COUNTA(场费表!D94:BK94),0)","v":0}]
[{"$f":"场费表!A95","v":""},0,{"$f":"IF(COUNTA(E93:BL93)>0,B93/COUNTA(场费表!D95:BK95),0)","v":0}]
[{"$f":"场费表!A96","v":""},0,{"$f":"IF(COUNTA(E94:BL94)>0,B94/COUNTA(场费表!D96:BK96),0)","v":0}]

{"sheet":"别称对照表","index":6,"n_rows":94,"n_cols":7,"rows_kept":94,"cut":false,"hidden":false,"merged":[[0,0,0,5]]}
["足球球队管理工具 - 球员别称对照表"]
["基础名称","别名1","别名2","别名3","别名4","别名5"]
[{"$f":"IF(LEN(场费表!A9)>0,IF(ISNUMBER(FIND(\"]\",场费表!A9)),MID(场费表!A9, FIND(\"]\",场费表!A9)+1,99),场费表!A9),\"\")","v":"施心疯"},null,null,null,null,null,{"$f":"MID(场费表!A9, FIND(\"]\",场费表!A9)+1,99)","v":"施心疯"}]
[{"$f":"IF(LEN(场费表!A10)>0,IF(ISNUMBER(FIND(\"]\",场费表!A10)),MID(场费表!A10, FIND(\"]\",场费表!A10)+1,99),场费表!A10),\"\")","v":"C罗"},"克里斯蒂亚诺","吸螺"]
[{"$f":"IF(LEN(场费表!A11)>0,IF(ISNUMBER(FIND(\"]\",场费表!A11)),MID(场费表!A11, FIND(\"]\",场费表!A11)+1,99),场费表!A11),\"\")","v":"梅西"}]
[{"$f":"IF(LEN(场费表!A12)>0,IF(ISNUMBER(FIND(\"]\",场费表!A12)),MID(场费表!A12, FIND(\"]\",场费表!A12)+1,99),场费表!A12),\"\")","v":"范尼"}]
[{"$f":"IF(LEN(场费表!A13)>0,IF(ISNUMBER(FIND(\"]\",场费表!A13)),MID(场费表!A13, FIND(\"]\",场费表!A13)+1,99),场费表!A13),\"\")","v":"斯科尔斯"}]
[{"$f":"IF(LEN(场费表!A14)>0,IF(ISNUMBER(FIND(\"]\",场费表!A14)),MID(场费表!A14, FIND(\"]\",场费表!A14)+1,99),场费表!A14),\"\")","v":"哈维"}]
[{"$f":"IF(LEN(场费表!A15)>0,IF(ISNUMBER(FIND(\"]\",场费表!A15)),MID(场费表!A15, FIND(\"]\",场费表!A15)+1,99),场费表!A15),\"\")","v":"维埃拉"}]
[{"$f":"IF(LEN(场费表!A16)>0,IF(ISNUMBER(FIND(\"]\",场费表!A16)),MID(场费表!A16, FIND(\"]\",场费表!A16)+1,99),场费表!A16),\"\")","v":"费迪南"},"里奥"]
[{"$f":"IF(LEN(场费表!A17)>0,IF(ISNUMBER(FIND(\"]\",场费表!A17)),MID(场费表!A17, FIND(\"]\",场费表!A17)+1,99),场费表!A17),\"\")","v":"特里"}]
[{"$f":"IF(LEN(场费表!A18)>0,IF(ISNUMBER(FIND(\"]\",场费表!A18)),MID(场费表!A18, FIND(\"]\",场费表!A18)+1,99),场费表!A18),\"\")","v":"卡纳瓦罗"},"卡半仙"]
[{"$f":"IF(LEN(场费表!A19)>0,IF(ISNUMBER(FIND(\"]\",场费表!A19)),MID(场费表!A19, FIND(\"]\",场费表!A19)+1,99),场费表!A19),\"\")","v":"范德萨"}]
[{"$f":"IF(LEN(场费表!A20)>0,IF(ISNUMBER(FIND(\"]\",场费表!A20)),MID(场费表!A20, FIND(\"]\",场费表!A20)+1,99),场费表!A20),\"\")","v":"索尔斯卡亚"}]
[{"$f":"IF(LEN(场费表!A21)>0,IF(ISNUMBER(FIND(\"]\",场费表!A21)),MID(场费表!A21, FIND(\"]\",场费表!A21)+1,99),场费表!A21),\"\")","v":"德赫亚"}]
[{"$f":"IF(LEN(场费表!A22)>0,IF(ISNUMBER(FIND(\"]\",场费表!A22)),MID(场费表!A22, FIND(\"]\",场费表!A22)+1,99),场费表!A22),\"\")","v":"加里内维尔"}]
[{"$f":"IF(LEN(场费表!A23)>0,IF(ISNUMBER(FIND(\"]\",场费表!A23)),MID(场费表!A23, FIND(\"]\",场费表!A23)+1,99),场费表!A23),\"\")","v":"埃弗拉"}]
[{"$f":"IF(LEN(场费表!A24)>0,IF(ISNUMBER(FIND(\"]\",场费表!A24)),MID(场费表!A24, FIND(\"]\",场费表!A24)+1,99),场费表!A24),\"\")","v":"维迪奇"},"V15"]
[{"$f":"IF(LEN(场费表!A25)>0,IF(ISNUMBER(FIND(\"]\",场费表!A25)),MID(场费表!A25, FIND(\"]\",场费表!A25)+1,99),场费表!A25),\"\")","v":"斯塔姆"}]
[{"$f":"IF(LEN(场费表!A26)>0,IF(ISNUMBER(FIND(\"]\",场费表!A26)),MID(场费表!A26, FIND(\"]\",场费表!A26)+1,99),场费表!A26),\"\")","v":"贝克汉姆"}]
[{"$f":"IF(LEN(场费表!A27)>0,IF(ISNUMBER(FIND(\"]\",场费表!A27)),MID(场费表!A27, FIND(\"]\",场费表!A27)+1,99),场费表!A27),\"\")","v":"吉格斯"}]
[{"$f":"IF(LEN(场费表!A28)>0,IF(ISNUMBER(FIND(\"]\",场费表!A28)),MID(场费表!A28, FIND(\"]\",场费表!A28)+1,99),场费表!A28),\"\")","v":"朴三肺"}]
[{"$f":"IF(LEN(场费表!A29)>0,IF(ISNUMBER(FIND(\"]\",场费表!A29)),MID(场费表!A29, FIND(\"]\",场费表!A29)+1,99),场费表!A29),\"\")","v":"特维斯"}]
[{"$f":"IF(LEN(场费表!A30)>0,IF(ISNUMBER(FIND(\"]\",场费表!A30)),MID(场费表!A30, FIND(\"]\",场费表!A30)+1,99),场费表!A30),\"\")","v":"里奥"},"费迪南"]
[{"$f":"IF(LEN(场费表!A31)>0,IF(ISNUMBER(FIND(\"]\",场费表!A31)),MID(场费表!A31, FIND(\"]\",场费表!A31)+1,99),场费表!A31),\"\")","v":"斯塔姆"}]
[{"$f":"IF(LEN(场费表!A32)>0,IF(ISNUMBER(FIND(\"]\",场费表!A32)),MID(场费表!A32, FIND(\"]\",场费表!A32)+1,99),场费表!A32),\"\")","v":"海因策"}]
[{"$f":"IF(LEN(场费表!A33)>0,IF(ISNUMBER(FIND(\"]\",场费表!A33)),MID(场费表!A33, FIND(\"]\",场费表!A33)+1,99),场费表!A33),\"\")","v":"埃尔文"}]
[{"$f":"IF(LEN(场费表!A34)>0,IF(ISNUMBER(FIND(\"]\",场费表!A34)),MID(场费表!A34, FIND(\"]\",场费表!A34)+1,99),场费表!A34),\"\")","v":"保罗因斯"}]
[{"$f":"IF(LEN(场费表!A35)>0,IF(ISNUMBER(FIND(\"]\",场费表!A35)),MID(场费表!A35, FIND(\"]\",场费表!A35)+1,99),场费表!A35),\"\")","v":""}]
[{"$f":"IF(LEN(场费表!A36)>0,IF(ISNUMBER(FIND(\"]\",场费表!A36)),MID(场费表!A36, FIND(\"]\",场费表!A36)+1,99),场费表!A36),\"\")","v":""}]
[{"$f":"IF(LEN(场费表!A37)>0,IF(ISNUMBER(FIND(\"]\",场费表!A37)),MID(场费表!A37, FIND(\"]\",场费表!A37)+1,99),场费表!A37),\"\")","v":""}]
[{"$f":"IF(LEN(场费表!A38)>0,IF(ISNUMBER(FIND(\"]\",场费表!A38)),MID(场费表!A38, FIND(\"]\",场费表!A38)+1,99),场费表!A38),\"\")","v":""}]
[{"$f":"IF(LEN(场费表!A39)>0,IF(ISNUMBER(FIND(\"]\",场费表!A39)),MID(场费表!A39, FIND(\"]\",场费表!A39)+1,99),场费表!A39),\"\")","v":""}]
[{"$f":"IF(LEN(场费表!A40)>0,IF(ISNUMBER(FIND(\"]\",场费表!A40)),MID(场费表!A40, FIND(\"]\",场费表!A40)+1,99),场费表!A40),\"\")","v":""}]
[{"$f":"IF(LEN(场费表!A41)>0,IF(ISNUMBER(FIND(\"]\",场费表!A41)),MID(场费表!A41, FIND(\"]\",场费表!A41)+1,99),场费表!A41),\"\")","v":""}]
[{"$f":"IF(LEN(场费表!A42)>0,IF(ISNUMBER(FIND(\"]\",场费表!A42)),MID(场费表!A42, FIND(\"]\",场费表!A42)+1,99),场费表!A42),\"\")","v":""}]
[{"$f":"IF(LEN(场费表!A43)>0,IF(ISNUMBER(FIND(\"]\",场费表!A43)),MID(场费表!A43, FIND(\"]\",场费表!A43)+1,99),场费表!A43),\"\")","v":""}]
[{"$f":"IF(LEN(场费表!A44)>0,IF(ISNUMBER(FIND(\"]\",场费表!A44)),MID(场费表!A44, FIND(\"]\",场费表!A44)+1,99),场费表!A44),\"\")","v":""}]
[{"$f":"IF(LEN(场费表!A45)>0,IF(ISNUMBER(FIND(\"]\",场费表!A45)),MID(场费表!A45, FIND(\"]\",场费表!A45)+1,99),场费表!A45),\"\")","v":""}]
[{"$f":"IF(LEN(场费表!A46)>0,IF(ISNUMBER(FIND(\"]\",场费表!A46)),MID(场费表!A46, FIND(\"]\",场费表!A46)+1,99),场费表!A46),\"\")","v":""}]
[{"$f":"IF(LEN(场费表!A47)>0,IF(ISNUMBER(FIND(\"]\",场费表!A47)),MID(场费表!A47, FIND(\"]\",场费表!A47)+1,99),场费表!A47),\"\")","v":""}]
[{"$f":"IF(LEN(场费表!A48)>0,IF(ISNUMBER(FIND(\"]\",场费表!A48)),MID(场费表!A48, FIND(\"]\",场费表!A48)+1,99),场费表!A48),\"\")","v":""}]
[{"$f":"IF(LEN(场费表!A49)>0,IF(ISNUMBER(FIND(\"]\",场费表!A49)),MID(场费表!A49, FIND(\"]\",场费表!A49)+1,99),场费表!A49),\"\")","v":""}]
[{"$f":"IF(LEN(场费表!A50)>0,IF(ISNUMBER(FIND(\"]\",场费表!A50)),MID(场费表!A50, FIND(\"]\",场费表!A50)+1,99),场费表!A50),\"\")","v":""}]
[{"$f":"IF(LEN(场费表!A51)>0,IF(ISNUMBER(FIND(\"]\",场费表!A51)),MID(场费表!A51, FIND(\"]\",场费表!A51)+1,99),场费表!A51),\"\")","v":""}]
[{"$f":"IF(LEN(场费表!A52)>0,IF(ISNUMBER(FIND(\"]\",场费表!A52)),MID(场费表!A52, FIND(\"]\",场费表!A52)+1,99),场费表!A52),\"\")","v":""}]
[{"$f":"IF(LEN(场费表!A53)>0,IF(ISNUMBER(FIND(\"]\",场费表!A53)),MID(场费表!A53, FIND(\"]\",场费表!A53)+1,99),场费表!A53),\"\")","v":""}]
[{"$f":"IF(LEN(场费表!A54)>0,IF(ISNUMBER(FIND(\"]\",场费表!A54)),MID(场费表!A54, FIND(\"]\",场费表!A54)+1,99),场费表!A54),\"\")","v":""}]
[{"$f":"IF(LEN(场费表!A55)>0,IF(ISNUMBER(FIND(\"]\",场费表!A55)),MID(场费表!A55, FIND(\"]\",场费表!A55)+1,99),场费表!A55),\"\")","v":""}]
[{"$f":"IF(LEN(场费表!A56)>0,IF(ISNUMBER(FIND(\"]\",场费表!A56)),MID(场费表!A56, FIND(\"]\",场费表!A56)+1,99),场费表!A56),\"\")","v":""}]
[{"$f":"IF(LEN(场费表!A57)>0,IF(ISNUMBER(FIND(\"]\",场费表!A57)),MID(场费表!A57, FIND(\"]\",场费表!A57)+1,99),场费表!A57),\"\")","v":""}]
[{"$f":"IF(LEN(场费表!A58)>0,IF(ISNUMBER(FIND(\"]\",场费表!A58)),MID(场费表!A58, FIND(\"]\",场费表!A58)+1,99),场费表!A58),\"\")","v":""}]
[{"$f":"IF(LEN(场费表!A59)>0,IF(ISNUMBER(FIND(\"]\",场费表!A59)),MID(场费表!A59, FIND(\"]\",场费表!A59)+1,99),场费表!A59),\"\")","v":""}]
[{"$f":"IF(LEN(场费表!A60)>0,IF(ISNUMBER(FIND(\"]\",场费表!A60)),MID(场费表!A60, FIND(\"]\",场费表!A60)+1,99),场费表!A60),\"\")","v":""}]
[{"$f":"IF(LEN(场费表!A61)>0,IF(ISNUMBER(FIND(\"]\",场费表!A61)),MID(场费表!A61, FIND(\"]\",场费表!A61)+1,99),场费表!A61),\"\")","v":""}]
[{"$f":"IF(LEN(场费表!A62)>0,IF(ISNUMBER(FIND(\"]\",场费表!A62)),MID(场费表!A62, FIND(\"]\",场费表!A62)+1,99),场费表!A62),\"\")","v":""}]
[{"$f":"IF(LEN(场费表!A63)>0,IF(ISNUMBER(FIND(\"]\",场费表!A63)),MID(场费表!A63, FIND(\"]\",场费表!A63)+1,99),场费表!A63),\"\")","v":""}]
[{"$f":"IF(LEN(场费表!A64)>0,IF(ISNUMBER(FIND(\"]\",场费表!A64)),MID(场费表!A64, FIND(\"]\",场费表!A64)+1,99),场费表!A64),\"\")","v":""}]
[{"$f":"IF(LEN(场费表!A65)>0,IF(ISNUMBER(FIND(\"]\",场费表!A65)),MID(场费表!A65, FIND(\"]\",场费表!A65)+1,99),场费表!A65),\"\")","v":""}]
[{"$f":"IF(LEN(场费表!A66)>0,IF(ISNUMBER(FIND(\"]\",场费表!A66)),MID(场费表!A66, FIND(\"]\",场费表!A66)+1,99),场费表!A66),\"\")","v":""}]
[{"$f":"IF(LEN(场费表!A67)>0,IF(ISNUMBER(FIND(\"]\",场费表!A67)),MID(场费表!A67, FIND(\"]\",场费表!A67)+1,99),场费表!A67),\"\")","v":""}]
[{"$f":"IF(LEN(场费表!A68)>0,IF(ISNUMBER(FIND(\"]\",场费表!A68)),MID(场费表!A68, FIND(\"]\",场费表!A68)+1,99),场费表!A68),\"\")","v":""}]
[{"$f":"IF(LEN(场费表!A69)>0,IF(ISNUMBER(FIND(\"]\",场费表!A69)),MID(场费表!A69, FIND(\"]\",场费表!A69)+1,99),场费表!A69),\"\")","v":""}]
[{"$f":"IF(LEN(场费表!A70)>0,IF(ISNUMBER(FIND(\"]\",场费表!A70)),MID(场费表!A70, FIND(\"]\",场费表!A70)+1,99),场费表!A70),\"\")","v":""}]
[{"$f":"IF(LEN(场费表!A71)>0,IF(ISNUMBER(FIND(\"]\",场费表!A71)),MID(场费表!A71, FIND(\"]\",场费表!A71)+1,99),场费表!A71),\"\")","v":""}]
[{"$f":"IF(LEN(场费表!A72)>0,IF(ISNUMBER(FIND(\"]\",场费表!A72)),MID(场费表!A72, FIND(\"]\",场费表!A72)+1,99),场费表!A72),\"\")","v":""}]
[{"$f":"IF(LEN(场费表!A73)>0,IF(ISNUMBER(FIND(\"]\",场费表!A73)),MID(场费表!A73, FIND(\"]\",场费表!A73)+1,99),场费表!A73),\"\")","v":""}]
[{"$f":"IF(LEN(场费表!A74)>0,IF(ISNUMBER(FIND(\"]\",场费表!A74)),MID(场费表!A74, FIND(\"]\",场费表!A74)+1,99),场费表!A74),\"\")","v":""}]
[{"$f":"IF(LEN(场费表!A75)>0,IF(ISNUMBER(FIND(\"]\",场费表!A75)),MID(场费表!A75, FIND(\"]\",场费表!A75)+1,99),场费表!A75),\"\")","v":""}]
[{"$f":"IF(LEN(场费表!A76)>0,IF(ISNUMBER(FIND(\"]\",场费表!A76)),MID(场费表!A76, FIND(\"]\",场费表!A76)+1,99),场费表!A76),\"\")","v":""}]
[{"$f":"IF(LEN(场费表!A77)>0,IF(ISNUMBER(FIND(\"]\",场费表!A77)),MID(场费表!A77, FIND(\"]\",场费表!A77)+1,99),场费表!A77),\"\")","v":""}]
[{"$f":"IF(LEN(场费表!A78)>0,IF(ISNUMBER(FIND(\"]\",场费表!A78)),MID(场费表!A78, FIND(\"]\",场费表!A78)+1,99),场费表!A78),\"\")","v":""}]
[{"$f":"IF(LEN(场费表!A79)>0,IF(ISNUMBER(FIND(\"]\",场费表!A79)),MID(场费表!A79, FIND(\"]\",场费表!A79)+1,99),场费表!A79),\"\")","v":""}]
[{"$f":"IF(LEN(场费表!A80)>0,IF(ISNUMBER(FIND(\"]\",场费表!A80)),MID(场费表!A80, FIND(\"]\",场费表!A80)+1,99),场费表!A80),\"\")","v":""}]
[{"$f":"IF(LEN(场费表!A81)>0,IF(ISNUMBER(FIND(\"]\",场费表!A81)),MID(场费表!A81, FIND(\"]\",场费表!A81)+1,99),场费表!A81),\"\")","v":""}]
[{"$f":"IF(LEN(场费表!A82)>0,IF(ISNUMBER(FIND(\"]\",场费表!A82)),MID(场费表!A82, FIND(\"]\",场费表!A82)+1,99),场费表!A82),\"\")","v":""}]
[{"$f":"IF(LEN(场费表!A83)>0,IF(ISNUMBER(FIND(\"]\",场费表!A83)),MID(场费表!A83, FIND(\"]\",场费表!A83)+1,99),场费表!A83),\"\")","v":""}]
[{"$f":"IF(LEN(场费表!A84)>0,IF(ISNUMBER(FIND(\"]\",场费表!A84)),MID(场费表!A84, FIND(\"]\",场费表!A84)+1,99),场费表!A84),\"\")","v":""}]
[{"$f":"IF(LEN(场费表!A85)>0,IF(ISNUMBER(FIND(\"]\",场费表!A85)),MID(场费表!A85, FIND(\"]\",场费表!A85)+1,99),场费表!A85),\"\")","v":""}]
[{"$f":"IF(LEN(场费表!A86)>0,IF(ISNUMBER(FIND(\"]\",场费表!A86)),MID(场费表!A86, FIND(\"]\",场费表!A86)+1,99),场费表!A86),\"\")","v":""}]
[{"$f":"IF(LEN(场费表!A87)>0,IF(ISNUMBER(FIND(\"]\",场费表!A87)),MID(场费表!A87, FIND(\"]\",场费表!A87)+1,99),场费表!A87),\"\")","v":""}]
[{"$f":"IF(LEN(场费表!A88)>0,IF(ISNUMBER(FIND(\"]\",场费表!A88)),MID(场费表!A88, FIND(\"]\",场费表!A88)+1,99),场费表!A88),\"\")","v":""}]
[{"$f":"IF(LEN(场费表!A89)>0,IF(ISNUMBER(FIND(\"]\",场费表!A89)),MID(场费表!A89, FIND(\"]\",场费表!A89)+1,99),场费表!A89),\"\")","v":""}]
[{"$f":"IF(LEN(场费表!A90)>0,IF(ISNUMBER(FIND(\"]\",场费表!A90)),MID(场费表!A90, FIND(\"]\",场费表!A90)+1,99),场费表!A90),\"\")","v":""}]
[{"$f":"IF(LEN(场费表!A91)>0,IF(ISNUMBER(FIND(\"]\",场费表!A91)),MID(场费表!A91, FIND(\"]\",场费表!A91)+1,99),场费表!A91),\"\")","v":""}]
[{"$f":"IF(LEN(场费表!A92)>0,IF(ISNUMBER(FIND(\"]\",场费表!A92)),MID(场费表!A92, FIND(\"]\",场费表!A92)+1,99),场费表!A92),\"\")","v":""}]
[{"$f":"IF(LEN(场费表!A93)>0,IF(ISNUMBER(FIND(\"]\",场费表!A93)),MID(场费表!A93, FIND(\"]\",场费表!A93)+1,99),场费表!A93),\"\")","v":""}]
[{"$f":"IF(LEN(场费表!A94)>0,IF(ISNUMBER(FIND(\"]\",场费表!A94)),MID(场费表!A94, FIND(\"]\",场费表!A94)+1,99),场费表!A94),\"\")","v":""}]
[{"$f":"IF(LEN(场费表!A95)>0,IF(ISNUMBER(FIND(\"]\",场费表!A95)),MID(场费表!A95, FIND(\"]\",场费表!A95)+1,99),场费表!A95),\"\")","v":""}]
[{"$f":"IF(LEN(场费表!A96)>0,IF(ISNUMBER(FIND(\"]\",场费表!A96)),MID(场费表!A96, FIND(\"]\",场费表!A96)+1,99),场费表!A96),\"\")","v":""}]
[{"$f":"IF(LEN(场费表!A97)>0,IF(ISNUMBER(FIND(\"]\",场费表!A97)),MID(场费表!A97, FIND(\"]\",场费表!A97)+1,99),场费表!A97),\"\")","v":""}]
[{"$f":"IF(LEN(场费表!A98)>0,IF(ISNUMBER(FIND(\"]\",场费表!A98)),MID(场费表!A98, FIND(\"]\",场费表!A98)+1,99),场费表!A98),\"\")","v":""}]
[{"$f":"IF(LEN(场费表!A99)>0,IF(ISNUMBER(FIND(\"]\",场费表!A99)),MID(场费表!A99, FIND(\"]\",场费表!A99)+1,99),场费表!A99),\"\")","v":""}]
[{"$f":"IF(LEN(场费表!A100)>0,IF(ISNUMBER(FIND(\"]\",场费表!A100)),MID(场费表!A100, FIND(\"]\",场费表!A100)+1,99),场费表!A100),\"\")","v":""}]